BEGIN:VCALENDAR
VERSION:2.0
PRODID:-//Luther College - ECPv6.15.18//NONSGML v1.0//EN
CALSCALE:GREGORIAN
METHOD:PUBLISH
X-ORIGINAL-URL:https://www.luther.edu
X-WR-CALDESC:Events for Luther College
REFRESH-INTERVAL;VALUE=DURATION:PT1H
X-Robots-Tag:noindex
X-PUBLISHED-TTL:PT1H
BEGIN:VTIMEZONE
TZID:America/Chicago
BEGIN:DAYLIGHT
TZOFFSETFROM:-0600
TZOFFSETTO:-0500
TZNAME:CDT
DTSTART:20240310T080000
END:DAYLIGHT
BEGIN:STANDARD
TZOFFSETFROM:-0500
TZOFFSETTO:-0600
TZNAME:CST
DTSTART:20241103T070000
END:STANDARD
BEGIN:DAYLIGHT
TZOFFSETFROM:-0600
TZOFFSETTO:-0500
TZNAME:CDT
DTSTART:20250309T080000
END:DAYLIGHT
BEGIN:STANDARD
TZOFFSETFROM:-0500
TZOFFSETTO:-0600
TZNAME:CST
DTSTART:20251102T070000
END:STANDARD
BEGIN:DAYLIGHT
TZOFFSETFROM:-0600
TZOFFSETTO:-0500
TZNAME:CDT
DTSTART:20260308T080000
END:DAYLIGHT
BEGIN:STANDARD
TZOFFSETFROM:-0500
TZOFFSETTO:-0600
TZNAME:CST
DTSTART:20261101T070000
END:STANDARD
END:VTIMEZONE
BEGIN:VEVENT
DTSTART;TZID=America/Chicago:20251004T090000
DTEND;TZID=America/Chicago:20251004T100000
DTSTAMP:20260424T073738
CREATED:20250923T150701Z
LAST-MODIFIED:20250923T150752Z
UID:10007677-1759568400-1759572000@www.luther.edu
SUMMARY:Yoga with Angie Spartz '00\, Certified Yoga Instructor
DESCRIPTION:Start the day with a free yoga session\, beginners welcome. Wear comfortable clothes to move in; yoga mats are optional. Bring your own\, or enjoy the grass beneath you.
URL:https://www.luther.edu/event/yoga-with-angie-spartz-00-certified-yoga-instructor
LOCATION:Farwell Clearing (Preus Library Lawn)
CATEGORIES:Alumni and Friends
END:VEVENT
BEGIN:VEVENT
DTSTART;TZID=America/Chicago:20250913T160000
DTEND;TZID=America/Chicago:20250913T170000
DTSTAMP:20260424T073738
CREATED:20250902T151753Z
LAST-MODIFIED:20250905T194519Z
UID:10006513-1757779200-1757782800@www.luther.edu
SUMMARY:Student Senate PAINT WAR—Battle of the Classes
DESCRIPTION:Students\, join Student Senate for this Battle of the Classes on the library lawn! Students will be divided by class year\, assigned a paint color\, and given a white sheet. The goal is to have your sheet as clean as possible at the end of the battle while attempting to make the other class’s sheets as colorful as possible. Buckets of paint and water balloons will be spread across the library lawn; each class will receive the same number of water guns to fill with paint. The war goes on until we run out of paint and water balloons. To participate\, just show up! You will be asked to fill out a small form for liability.
URL:https://www.luther.edu/event/student-senate-paint-war-battle-of-the-classes
LOCATION:Farwell Clearing (Preus Library Lawn)
CATEGORIES:Current Students,Student Orgs
ORGANIZER;CN="Student Senate":MAILTO:senate@luther.edu
END:VEVENT
BEGIN:VEVENT
DTSTART;TZID=America/Chicago:20250902T180000
DTEND;TZID=America/Chicago:20250902T200000
DTSTAMP:20260424T073738
CREATED:20250623T195555Z
LAST-MODIFIED:20250721T140019Z
UID:10006354-1756836000-1756843200@www.luther.edu
SUMMARY:Welcome Week Activities Fair
DESCRIPTION:Come and learn about all the student led clubs and organizations on campus! Join and mingle with new and old organizations while enjoying FREE treats provided by SAC.
URL:https://www.luther.edu/event/activities-carnival-3
LOCATION:Farwell Clearing (Preus Library Lawn)
CATEGORIES:Current Students,Student Orgs
ORGANIZER;CN="SAC (Student Activities Council)":MAILTO:sac@luther.edu
END:VEVENT
END:VCALENDAR