BEGIN:VCALENDAR
VERSION:2.0
PRODID:-//Luther College - ECPv6.15.18//NONSGML v1.0//EN
CALSCALE:GREGORIAN
METHOD:PUBLISH
X-WR-CALNAME:Luther College
X-ORIGINAL-URL:https://www.luther.edu
X-WR-CALDESC:Events for Luther College
REFRESH-INTERVAL;VALUE=DURATION:PT1H
X-Robots-Tag:noindex
X-PUBLISHED-TTL:PT1H
BEGIN:VTIMEZONE
TZID:America/Chicago
BEGIN:DAYLIGHT
TZOFFSETFROM:-0600
TZOFFSETTO:-0500
TZNAME:CDT
DTSTART:20240310T080000
END:DAYLIGHT
BEGIN:STANDARD
TZOFFSETFROM:-0500
TZOFFSETTO:-0600
TZNAME:CST
DTSTART:20241103T070000
END:STANDARD
BEGIN:DAYLIGHT
TZOFFSETFROM:-0600
TZOFFSETTO:-0500
TZNAME:CDT
DTSTART:20250309T080000
END:DAYLIGHT
BEGIN:STANDARD
TZOFFSETFROM:-0500
TZOFFSETTO:-0600
TZNAME:CST
DTSTART:20251102T070000
END:STANDARD
BEGIN:DAYLIGHT
TZOFFSETFROM:-0600
TZOFFSETTO:-0500
TZNAME:CDT
DTSTART:20260308T080000
END:DAYLIGHT
BEGIN:STANDARD
TZOFFSETFROM:-0500
TZOFFSETTO:-0600
TZNAME:CST
DTSTART:20261101T070000
END:STANDARD
BEGIN:DAYLIGHT
TZOFFSETFROM:-0600
TZOFFSETTO:-0500
TZNAME:CDT
DTSTART:20270314T080000
END:DAYLIGHT
BEGIN:STANDARD
TZOFFSETFROM:-0500
TZOFFSETTO:-0600
TZNAME:CST
DTSTART:20271107T070000
END:STANDARD
END:VTIMEZONE
BEGIN:VEVENT
DTSTART;TZID=America/Chicago:20260325T090000
DTEND;TZID=America/Chicago:20260325T120000
DTSTAMP:20260423T163435
CREATED:20250804T161238Z
LAST-MODIFIED:20250804T162651Z
UID:10006471-1774429200-1774440000@www.luther.edu
SUMMARY:Lifelong Learner Seminar: Life\, Love\, and Sexual Desire in the Trenches of World War I
DESCRIPTION:The Lifelong Learner Seminars offer an opportunity for local alumni and friends\, and area residents to enjoy academic programming at Luther College and engage in meaningful\, scholarly dialogue in a college setting. \nThe four-week sessions are held Wednesdays from 9 a.m.–noon in Loyalty Hall on the Luther College campus. \nLearn more about the sessions and register \n  \n 
URL:https://www.luther.edu/event/lifelong-learner-seminar-life-love-and-sexual-desire-in-the-trenches-of-world-war-i-4
LOCATION:Loyalty Hall\, Board Room
CATEGORIES:Alumni and Friends,Local
ORGANIZER;CN="Office of Advancement":MAILTO:alumni@luther.edu
END:VEVENT
BEGIN:VEVENT
DTSTART;TZID=America/Chicago:20260318T090000
DTEND;TZID=America/Chicago:20260318T120000
DTSTAMP:20260423T163435
CREATED:20250804T161219Z
LAST-MODIFIED:20250804T162614Z
UID:10006470-1773824400-1773835200@www.luther.edu
SUMMARY:Lifelong Learner Seminar: Life\, Love\, and Sexual Desire in the Trenches of World War I
DESCRIPTION:The Lifelong Learner Seminars offer an opportunity for local alumni and friends\, and area residents to enjoy academic programming at Luther College and engage in meaningful\, scholarly dialogue in a college setting. \nThe four-week sessions are held Wednesdays from 9 a.m.–noon in Loyalty Hall on the Luther College campus. \nLearn more about the sessions and register \n  \n 
URL:https://www.luther.edu/event/lifelong-learner-seminar-life-love-and-sexual-desire-in-the-trenches-of-world-war-i-3
LOCATION:Loyalty Hall\, Board Room
CATEGORIES:Alumni and Friends,Local
ORGANIZER;CN="Office of Advancement":MAILTO:alumni@luther.edu
END:VEVENT
BEGIN:VEVENT
DTSTART;TZID=America/Chicago:20260311T090000
DTEND;TZID=America/Chicago:20260311T120000
DTSTAMP:20260423T163435
CREATED:20250804T161149Z
LAST-MODIFIED:20250804T162538Z
UID:10006469-1773219600-1773230400@www.luther.edu
SUMMARY:Lifelong Learner Seminar: Life\, Love\, and Sexual Desire in the Trenches of World War I
DESCRIPTION:The Lifelong Learner Seminars offer an opportunity for local alumni and friends\, and area residents to enjoy academic programming at Luther College and engage in meaningful\, scholarly dialogue in a college setting. \nThe four-week sessions are held Wednesdays from 9 a.m.–noon in Loyalty Hall on the Luther College campus. \nLearn more about the sessions and register \n  \n 
URL:https://www.luther.edu/event/lifelong-learner-seminar-life-love-and-sexual-desire-in-the-trenches-of-world-war-i-2
LOCATION:Loyalty Hall\, Board Room
CATEGORIES:Alumni and Friends,Local
ORGANIZER;CN="Office of Advancement":MAILTO:alumni@luther.edu
END:VEVENT
BEGIN:VEVENT
DTSTART;TZID=America/Chicago:20260304T090000
DTEND;TZID=America/Chicago:20260304T120000
DTSTAMP:20260423T163435
CREATED:20250804T161132Z
LAST-MODIFIED:20250804T162458Z
UID:10006468-1772614800-1772625600@www.luther.edu
SUMMARY:Lifelong Learner Seminar: Life\, Love\, and Sexual Desire in the Trenches of World War I
DESCRIPTION:The Lifelong Learner Seminars offer an opportunity for local alumni and friends\, and area residents to enjoy academic programming at Luther College and engage in meaningful\, scholarly dialogue in a college setting. \nThe four-week sessions are held Wednesdays from 9 a.m.–noon in Loyalty Hall on the Luther College campus. \nLearn more about the sessions and register \n  \n 
URL:https://www.luther.edu/event/lifelong-learner-seminar-life-love-and-sexual-desire-in-the-trenches-of-world-war-i
LOCATION:Loyalty Hall\, Board Room
CATEGORIES:Alumni and Friends,Local
ORGANIZER;CN="Office of Advancement":MAILTO:alumni@luther.edu
END:VEVENT
BEGIN:VEVENT
DTSTART;TZID=America/Chicago:20260225T090000
DTEND;TZID=America/Chicago:20260225T120000
DTSTAMP:20260423T163435
CREATED:20250804T160531Z
LAST-MODIFIED:20250804T162404Z
UID:10006467-1772010000-1772020800@www.luther.edu
SUMMARY:Lifelong Learner Seminar: The World of the Vikings
DESCRIPTION:The Lifelong Learner Seminars offer an opportunity for local alumni and friends\, and area residents to enjoy academic programming at Luther College and engage in meaningful\, scholarly dialogue in a college setting. \nThe four-week sessions are held Wednesdays from 9 a.m.–noon in Loyalty Hall on the Luther College campus. \nLearn more about the sessions and register \n  \n 
URL:https://www.luther.edu/event/lifelong-learner-seminar-the-world-of-the-vikings-4
LOCATION:Loyalty Hall\, Board Room
CATEGORIES:Alumni and Friends,Local
ORGANIZER;CN="Office of Advancement":MAILTO:alumni@luther.edu
END:VEVENT
BEGIN:VEVENT
DTSTART;TZID=America/Chicago:20260218T090000
DTEND;TZID=America/Chicago:20260218T120000
DTSTAMP:20260423T163435
CREATED:20250804T160403Z
LAST-MODIFIED:20250804T162254Z
UID:10006465-1771405200-1771416000@www.luther.edu
SUMMARY:Lifelong Learner Seminar: The World of the Vikings
DESCRIPTION:The Lifelong Learner Seminars offer an opportunity for local alumni and friends\, and area residents to enjoy academic programming at Luther College and engage in meaningful\, scholarly dialogue in a college setting. \nThe four-week sessions are held Wednesdays from 9 a.m.–noon in Loyalty Hall on the Luther College campus. \nLearn more about the sessions and register \n  \n 
URL:https://www.luther.edu/event/lifelong-learner-seminar-the-world-of-the-vikings-2
LOCATION:Loyalty Hall\, Board Room
CATEGORIES:Alumni and Friends,Local
ORGANIZER;CN="Office of Advancement":MAILTO:alumni@luther.edu
END:VEVENT
BEGIN:VEVENT
DTSTART;TZID=America/Chicago:20260211T090000
DTEND;TZID=America/Chicago:20260211T120000
DTSTAMP:20260423T163435
CREATED:20250804T160328Z
LAST-MODIFIED:20250804T162216Z
UID:10006464-1770800400-1770811200@www.luther.edu
SUMMARY:Lifelong Learner Seminar: The World of the Vikings
DESCRIPTION:The Lifelong Learner Seminars offer an opportunity for local alumni and friends\, and area residents to enjoy academic programming at Luther College and engage in meaningful\, scholarly dialogue in a college setting. \nThe four-week sessions are held Wednesdays from 9 a.m.–noon in Loyalty Hall on the Luther College campus. \nLearn more about the sessions and register \n  \n 
URL:https://www.luther.edu/event/lifelong-learner-seminar-the-world-of-the-vikings
LOCATION:Loyalty Hall\, Board Room
CATEGORIES:Alumni and Friends,Local
ORGANIZER;CN="Office of Advancement":MAILTO:alumni@luther.edu
END:VEVENT
BEGIN:VEVENT
DTSTART;TZID=America/Chicago:20260204T090000
DTEND;TZID=America/Chicago:20260204T120000
DTSTAMP:20260423T163435
CREATED:20250804T160512Z
LAST-MODIFIED:20250804T162143Z
UID:10006466-1770195600-1770206400@www.luther.edu
SUMMARY:Lifelong Learner Seminar: The World of the Vikings
DESCRIPTION:The Lifelong Learner Seminars offer an opportunity for local alumni and friends\, and area residents to enjoy academic programming at Luther College and engage in meaningful\, scholarly dialogue in a college setting. \nThe four-week sessions are held Wednesdays from 9 a.m.–noon in Loyalty Hall on the Luther College campus. \nLearn more about the sessions and register \n  \n 
URL:https://www.luther.edu/event/lifelong-learner-seminar-the-world-of-the-vikings-3
LOCATION:Loyalty Hall\, Board Room
CATEGORIES:Alumni and Friends,Local
ORGANIZER;CN="Office of Advancement":MAILTO:alumni@luther.edu
END:VEVENT
BEGIN:VEVENT
DTSTART;TZID=America/Chicago:20251022T090000
DTEND;TZID=America/Chicago:20251022T120000
DTSTAMP:20260423T163435
CREATED:20250804T160118Z
LAST-MODIFIED:20250804T162019Z
UID:10006463-1761123600-1761134400@www.luther.edu
SUMMARY:Lifelong Learner Seminar: Presidential Speeches: Visions of the Good Polity
DESCRIPTION:The Lifelong Learner Seminars offer an opportunity for local alumni and friends\, and area residents to enjoy academic programming at Luther College and engage in meaningful\, scholarly dialogue in a college setting. \nThe four-week sessions are held Wednesdays from 9 a.m.–noon in Loyalty Hall on the Luther College campus. \nLearn more about the sessions and register \n  \n 
URL:https://www.luther.edu/event/lifelong-learner-seminar-presidential-speeches-visions-of-the-good-polity-4
LOCATION:Loyalty Hall\, Board Room
CATEGORIES:Alumni and Friends,Local
ORGANIZER;CN="Office of Advancement":MAILTO:alumni@luther.edu
END:VEVENT
BEGIN:VEVENT
DTSTART;TZID=America/Chicago:20251015T090000
DTEND;TZID=America/Chicago:20251015T120000
DTSTAMP:20260423T163435
CREATED:20250804T160048Z
LAST-MODIFIED:20250804T161937Z
UID:10006462-1760518800-1760529600@www.luther.edu
SUMMARY:Lifelong Learner Seminar: Presidential Speeches: Visions of the Good Polity
DESCRIPTION:The Lifelong Learner Seminars offer an opportunity for local alumni and friends\, and area residents to enjoy academic programming at Luther College and engage in meaningful\, scholarly dialogue in a college setting. \nThe four-week sessions are held Wednesdays from 9 a.m.–noon in Loyalty Hall on the Luther College campus. \nLearn more about the sessions and register \n  \n 
URL:https://www.luther.edu/event/lifelong-learner-seminar-presidential-speeches-visions-of-the-good-polity-3
LOCATION:Loyalty Hall\, Board Room
CATEGORIES:Alumni and Friends,Local
ORGANIZER;CN="Office of Advancement":MAILTO:alumni@luther.edu
END:VEVENT
BEGIN:VEVENT
DTSTART;TZID=America/Chicago:20251008T090000
DTEND;TZID=America/Chicago:20251008T120000
DTSTAMP:20260423T163435
CREATED:20250804T160024Z
LAST-MODIFIED:20250804T161845Z
UID:10006461-1759914000-1759924800@www.luther.edu
SUMMARY:Lifelong Learner Seminar: Presidential Speeches: Visions of the Good Polity
DESCRIPTION:The Lifelong Learner Seminars offer an opportunity for local alumni and friends\, and area residents to enjoy academic programming at Luther College and engage in meaningful\, scholarly dialogue in a college setting. \nThe four-week sessions are held Wednesdays from 9 a.m.–noon in Loyalty Hall on the Luther College campus. \nLearn more about the sessions and register \n  \n 
URL:https://www.luther.edu/event/lifelong-learner-seminar-presidential-speeches-visions-of-the-good-polity-2
LOCATION:Loyalty Hall\, Board Room
CATEGORIES:Alumni and Friends,Local
ORGANIZER;CN="Office of Advancement":MAILTO:alumni@luther.edu
END:VEVENT
BEGIN:VEVENT
DTSTART;TZID=America/Chicago:20251001T090000
DTEND;TZID=America/Chicago:20251001T120000
DTSTAMP:20260423T163435
CREATED:20250804T160001Z
LAST-MODIFIED:20250804T161808Z
UID:10006460-1759309200-1759320000@www.luther.edu
SUMMARY:Lifelong Learner Seminar: Presidential Speeches: Visions of the Good Polity
DESCRIPTION:The Lifelong Learner Seminars offer an opportunity for local alumni and friends\, and area residents to enjoy academic programming at Luther College and engage in meaningful\, scholarly dialogue in a college setting. \nThe four-week sessions are held Wednesdays from 9 a.m.–noon in Loyalty Hall on the Luther College campus. \nLearn more about the sessions and register \n  \n 
URL:https://www.luther.edu/event/lifelong-learner-seminar-presidential-speeches-visions-of-the-good-polity
LOCATION:Loyalty Hall\, Board Room
CATEGORIES:Alumni and Friends,Local
ORGANIZER;CN="Office of Advancement":MAILTO:alumni@luther.edu
END:VEVENT
BEGIN:VEVENT
DTSTART;TZID=America/Chicago:20250924T090000
DTEND;TZID=America/Chicago:20250924T120000
DTSTAMP:20260423T163435
CREATED:20250804T155538Z
LAST-MODIFIED:20250804T161730Z
UID:10006459-1758704400-1758715200@www.luther.edu
SUMMARY:Lifelong Learner Seminar: The Bach Cantatas II
DESCRIPTION:The Lifelong Learner Seminars offer an opportunity for local alumni and friends\, and area residents to enjoy academic programming at Luther College and engage in meaningful\, scholarly dialogue in a college setting. \nThe four-week sessions are held Wednesdays from 9 a.m.–noon in Loyalty Hall on the Luther College campus. \nLearn more about the sessions and register \n  \n 
URL:https://www.luther.edu/event/lifelong-learner-seminar-the-bach-cantatas-ii-4
LOCATION:Loyalty Hall\, Board Room
CATEGORIES:Alumni and Friends,Local
ORGANIZER;CN="Office of Advancement":MAILTO:alumni@luther.edu
END:VEVENT
BEGIN:VEVENT
DTSTART;TZID=America/Chicago:20250917T090000
DTEND;TZID=America/Chicago:20250917T120000
DTSTAMP:20260423T163435
CREATED:20250804T155435Z
LAST-MODIFIED:20250804T161643Z
UID:10006458-1758099600-1758110400@www.luther.edu
SUMMARY:Lifelong Learner Seminar: The Bach Cantatas II
DESCRIPTION:The Lifelong Learner Seminars offer an opportunity for local alumni and friends\, and area residents to enjoy academic programming at Luther College and engage in meaningful\, scholarly dialogue in a college setting. \nThe four-week sessions are held Wednesdays from 9 a.m.–noon in Loyalty Hall on the Luther College campus. \nLearn more about the sessions and register \n  \n 
URL:https://www.luther.edu/event/lifelong-learner-seminar-the-bach-cantatas-ii-3
LOCATION:Loyalty Hall\, Board Room
CATEGORIES:Alumni and Friends,Local
ORGANIZER;CN="Office of Advancement":MAILTO:alumni@luther.edu
END:VEVENT
BEGIN:VEVENT
DTSTART;TZID=America/Chicago:20250910T090000
DTEND;TZID=America/Chicago:20250910T120000
DTSTAMP:20260423T163435
CREATED:20250804T155412Z
LAST-MODIFIED:20250804T161608Z
UID:10006457-1757494800-1757505600@www.luther.edu
SUMMARY:Lifelong Learner Seminar: The Bach Cantatas II
DESCRIPTION:The Lifelong Learner Seminars offer an opportunity for local alumni and friends\, and area residents to enjoy academic programming at Luther College and engage in meaningful\, scholarly dialogue in a college setting. \nThe four-week sessions are held Wednesdays from 9 a.m.–noon in Loyalty Hall on the Luther College campus. \nLearn more about the sessions and register \n  \n 
URL:https://www.luther.edu/event/lifelong-learner-seminar-the-bach-cantatas-ii-2
LOCATION:Loyalty Hall\, Board Room
CATEGORIES:Alumni and Friends,Local
ORGANIZER;CN="Office of Advancement":MAILTO:alumni@luther.edu
END:VEVENT
BEGIN:VEVENT
DTSTART;TZID=America/Chicago:20250903T090000
DTEND;TZID=America/Chicago:20250903T120000
DTSTAMP:20260423T163435
CREATED:20250804T155347Z
LAST-MODIFIED:20250804T161531Z
UID:10006456-1756890000-1756900800@www.luther.edu
SUMMARY:Lifelong Learner Seminar: The Bach Cantatas II
DESCRIPTION:The Lifelong Learner Seminars offer an opportunity for local alumni and friends\, and area residents to enjoy academic programming at Luther College and engage in meaningful\, scholarly dialogue in a college setting. \nThe four-week sessions are held Wednesdays from 9 a.m.–noon in Loyalty Hall on the Luther College campus. \nLearn more about the sessions and register \n  \n 
URL:https://www.luther.edu/event/lifelong-learner-seminar-the-bach-cantatas-ii
LOCATION:Loyalty Hall\, Board Room
CATEGORIES:Alumni and Friends,Local
ORGANIZER;CN="Office of Advancement":MAILTO:alumni@luther.edu
END:VEVENT
END:VCALENDAR