BEGIN:VCALENDAR
VERSION:2.0
PRODID:-//Luther College - ECPv6.15.18//NONSGML v1.0//EN
CALSCALE:GREGORIAN
METHOD:PUBLISH
X-ORIGINAL-URL:https://www.luther.edu
X-WR-CALDESC:Events for Luther College
REFRESH-INTERVAL;VALUE=DURATION:PT1H
X-Robots-Tag:noindex
X-PUBLISHED-TTL:PT1H
BEGIN:VTIMEZONE
TZID:America/Chicago
BEGIN:DAYLIGHT
TZOFFSETFROM:-0600
TZOFFSETTO:-0500
TZNAME:CDT
DTSTART:20260308T080000
END:DAYLIGHT
BEGIN:STANDARD
TZOFFSETFROM:-0500
TZOFFSETTO:-0600
TZNAME:CST
DTSTART:20261101T070000
END:STANDARD
BEGIN:DAYLIGHT
TZOFFSETFROM:-0600
TZOFFSETTO:-0500
TZNAME:CDT
DTSTART:20270314T080000
END:DAYLIGHT
BEGIN:STANDARD
TZOFFSETFROM:-0500
TZOFFSETTO:-0600
TZNAME:CST
DTSTART:20271107T070000
END:STANDARD
BEGIN:DAYLIGHT
TZOFFSETFROM:-0600
TZOFFSETTO:-0500
TZNAME:CDT
DTSTART:20280312T080000
END:DAYLIGHT
BEGIN:STANDARD
TZOFFSETFROM:-0500
TZOFFSETTO:-0600
TZNAME:CST
DTSTART:20281105T070000
END:STANDARD
END:VTIMEZONE
BEGIN:VEVENT
DTSTART;TZID=America/Chicago:20270318T123000
DTEND;TZID=America/Chicago:20270318T130000
DTSTAMP:20260422T035629
CREATED:20260319T162211Z
LAST-MODIFIED:20260319T162351Z
UID:10009456-1805373000-1805374800@www.luther.edu
SUMMARY:Bible Study
DESCRIPTION:Join College Ministries for Bible Study  \nA Bible study is a fun way to gather with others to reflect on the Word of God\, gain a deeper understanding of Scripture\, and strengthen your faith. Please join us at 12:30 p.m. on Thursdays in Marty’s (Union) as we focus on the Gospel of Matthew. Bring a Bible – we have extras if you need one. All students\, faculty\, and staff are welcome. Join us!
URL:https://www.luther.edu/event/bible-study-3/2027-03-18
LOCATION:Dahl Centennial Union\, Marty’s
CATEGORIES:College Ministries
ORGANIZER;CN="College Ministries":MAILTO:ministry@luther.edu
END:VEVENT
BEGIN:VEVENT
DTSTART;TZID=America/Chicago:20270325T123000
DTEND;TZID=America/Chicago:20270325T130000
DTSTAMP:20260422T035629
CREATED:20260319T162211Z
LAST-MODIFIED:20260319T162351Z
UID:10009457-1805977800-1805979600@www.luther.edu
SUMMARY:Bible Study
DESCRIPTION:Join College Ministries for Bible Study  \nA Bible study is a fun way to gather with others to reflect on the Word of God\, gain a deeper understanding of Scripture\, and strengthen your faith. Please join us at 12:30 p.m. on Thursdays in Marty’s (Union) as we focus on the Gospel of Matthew. Bring a Bible – we have extras if you need one. All students\, faculty\, and staff are welcome. Join us!
URL:https://www.luther.edu/event/bible-study-3/2027-03-25
LOCATION:Dahl Centennial Union\, Marty’s
CATEGORIES:College Ministries
ORGANIZER;CN="College Ministries":MAILTO:ministry@luther.edu
END:VEVENT
BEGIN:VEVENT
DTSTART;TZID=America/Chicago:20270401T123000
DTEND;TZID=America/Chicago:20270401T130000
DTSTAMP:20260422T035629
CREATED:20260319T162211Z
LAST-MODIFIED:20260319T162351Z
UID:10009458-1806582600-1806584400@www.luther.edu
SUMMARY:Bible Study
DESCRIPTION:Join College Ministries for Bible Study  \nA Bible study is a fun way to gather with others to reflect on the Word of God\, gain a deeper understanding of Scripture\, and strengthen your faith. Please join us at 12:30 p.m. on Thursdays in Marty’s (Union) as we focus on the Gospel of Matthew. Bring a Bible – we have extras if you need one. All students\, faculty\, and staff are welcome. Join us!
URL:https://www.luther.edu/event/bible-study-3/2027-04-01
LOCATION:Dahl Centennial Union\, Marty’s
CATEGORIES:College Ministries
ORGANIZER;CN="College Ministries":MAILTO:ministry@luther.edu
END:VEVENT
BEGIN:VEVENT
DTSTART;TZID=America/Chicago:20270408T123000
DTEND;TZID=America/Chicago:20270408T130000
DTSTAMP:20260422T035629
CREATED:20260319T162211Z
LAST-MODIFIED:20260319T162351Z
UID:10009459-1807187400-1807189200@www.luther.edu
SUMMARY:Bible Study
DESCRIPTION:Join College Ministries for Bible Study  \nA Bible study is a fun way to gather with others to reflect on the Word of God\, gain a deeper understanding of Scripture\, and strengthen your faith. Please join us at 12:30 p.m. on Thursdays in Marty’s (Union) as we focus on the Gospel of Matthew. Bring a Bible – we have extras if you need one. All students\, faculty\, and staff are welcome. Join us!
URL:https://www.luther.edu/event/bible-study-3/2027-04-08
LOCATION:Dahl Centennial Union\, Marty’s
CATEGORIES:College Ministries
ORGANIZER;CN="College Ministries":MAILTO:ministry@luther.edu
END:VEVENT
BEGIN:VEVENT
DTSTART;TZID=America/Chicago:20270415T123000
DTEND;TZID=America/Chicago:20270415T130000
DTSTAMP:20260422T035629
CREATED:20260319T162211Z
LAST-MODIFIED:20260319T162351Z
UID:10009460-1807792200-1807794000@www.luther.edu
SUMMARY:Bible Study
DESCRIPTION:Join College Ministries for Bible Study  \nA Bible study is a fun way to gather with others to reflect on the Word of God\, gain a deeper understanding of Scripture\, and strengthen your faith. Please join us at 12:30 p.m. on Thursdays in Marty’s (Union) as we focus on the Gospel of Matthew. Bring a Bible – we have extras if you need one. All students\, faculty\, and staff are welcome. Join us!
URL:https://www.luther.edu/event/bible-study-3/2027-04-15
LOCATION:Dahl Centennial Union\, Marty’s
CATEGORIES:College Ministries
ORGANIZER;CN="College Ministries":MAILTO:ministry@luther.edu
END:VEVENT
BEGIN:VEVENT
DTSTART;TZID=America/Chicago:20270422T123000
DTEND;TZID=America/Chicago:20270422T130000
DTSTAMP:20260422T035629
CREATED:20260319T162211Z
LAST-MODIFIED:20260319T162351Z
UID:10009461-1808397000-1808398800@www.luther.edu
SUMMARY:Bible Study
DESCRIPTION:Join College Ministries for Bible Study  \nA Bible study is a fun way to gather with others to reflect on the Word of God\, gain a deeper understanding of Scripture\, and strengthen your faith. Please join us at 12:30 p.m. on Thursdays in Marty’s (Union) as we focus on the Gospel of Matthew. Bring a Bible – we have extras if you need one. All students\, faculty\, and staff are welcome. Join us!
URL:https://www.luther.edu/event/bible-study-3/2027-04-22
LOCATION:Dahl Centennial Union\, Marty’s
CATEGORIES:College Ministries
ORGANIZER;CN="College Ministries":MAILTO:ministry@luther.edu
END:VEVENT
BEGIN:VEVENT
DTSTART;TZID=America/Chicago:20270429T123000
DTEND;TZID=America/Chicago:20270429T130000
DTSTAMP:20260422T035629
CREATED:20260319T162211Z
LAST-MODIFIED:20260319T162351Z
UID:10009462-1809001800-1809003600@www.luther.edu
SUMMARY:Bible Study
DESCRIPTION:Join College Ministries for Bible Study  \nA Bible study is a fun way to gather with others to reflect on the Word of God\, gain a deeper understanding of Scripture\, and strengthen your faith. Please join us at 12:30 p.m. on Thursdays in Marty’s (Union) as we focus on the Gospel of Matthew. Bring a Bible – we have extras if you need one. All students\, faculty\, and staff are welcome. Join us!
URL:https://www.luther.edu/event/bible-study-3/2027-04-29
LOCATION:Dahl Centennial Union\, Marty’s
CATEGORIES:College Ministries
ORGANIZER;CN="College Ministries":MAILTO:ministry@luther.edu
END:VEVENT
BEGIN:VEVENT
DTSTART;TZID=America/Chicago:20270506T123000
DTEND;TZID=America/Chicago:20270506T130000
DTSTAMP:20260422T035629
CREATED:20260319T162211Z
LAST-MODIFIED:20260319T162351Z
UID:10009463-1809606600-1809608400@www.luther.edu
SUMMARY:Bible Study
DESCRIPTION:Join College Ministries for Bible Study  \nA Bible study is a fun way to gather with others to reflect on the Word of God\, gain a deeper understanding of Scripture\, and strengthen your faith. Please join us at 12:30 p.m. on Thursdays in Marty’s (Union) as we focus on the Gospel of Matthew. Bring a Bible – we have extras if you need one. All students\, faculty\, and staff are welcome. Join us!
URL:https://www.luther.edu/event/bible-study-3/2027-05-06
LOCATION:Dahl Centennial Union\, Marty’s
CATEGORIES:College Ministries
ORGANIZER;CN="College Ministries":MAILTO:ministry@luther.edu
END:VEVENT
BEGIN:VEVENT
DTSTART;TZID=America/Chicago:20270513T123000
DTEND;TZID=America/Chicago:20270513T130000
DTSTAMP:20260422T035629
CREATED:20260319T162211Z
LAST-MODIFIED:20260319T162351Z
UID:10009464-1810211400-1810213200@www.luther.edu
SUMMARY:Bible Study
DESCRIPTION:Join College Ministries for Bible Study  \nA Bible study is a fun way to gather with others to reflect on the Word of God\, gain a deeper understanding of Scripture\, and strengthen your faith. Please join us at 12:30 p.m. on Thursdays in Marty’s (Union) as we focus on the Gospel of Matthew. Bring a Bible – we have extras if you need one. All students\, faculty\, and staff are welcome. Join us!
URL:https://www.luther.edu/event/bible-study-3/2027-05-13
LOCATION:Dahl Centennial Union\, Marty’s
CATEGORIES:College Ministries
ORGANIZER;CN="College Ministries":MAILTO:ministry@luther.edu
END:VEVENT
END:VCALENDAR