BEGIN:VCALENDAR
VERSION:2.0
PRODID:-//Luther College - ECPv6.15.18//NONSGML v1.0//EN
CALSCALE:GREGORIAN
METHOD:PUBLISH
X-ORIGINAL-URL:https://www.luther.edu
X-WR-CALDESC:Events for Luther College
REFRESH-INTERVAL;VALUE=DURATION:PT1H
X-Robots-Tag:noindex
X-PUBLISHED-TTL:PT1H
BEGIN:VTIMEZONE
TZID:America/Chicago
BEGIN:DAYLIGHT
TZOFFSETFROM:-0600
TZOFFSETTO:-0500
TZNAME:CDT
DTSTART:20240310T080000
END:DAYLIGHT
BEGIN:STANDARD
TZOFFSETFROM:-0500
TZOFFSETTO:-0600
TZNAME:CST
DTSTART:20241103T070000
END:STANDARD
BEGIN:DAYLIGHT
TZOFFSETFROM:-0600
TZOFFSETTO:-0500
TZNAME:CDT
DTSTART:20250309T080000
END:DAYLIGHT
BEGIN:STANDARD
TZOFFSETFROM:-0500
TZOFFSETTO:-0600
TZNAME:CST
DTSTART:20251102T070000
END:STANDARD
BEGIN:DAYLIGHT
TZOFFSETFROM:-0600
TZOFFSETTO:-0500
TZNAME:CDT
DTSTART:20260308T080000
END:DAYLIGHT
BEGIN:STANDARD
TZOFFSETFROM:-0500
TZOFFSETTO:-0600
TZNAME:CST
DTSTART:20261101T070000
END:STANDARD
BEGIN:DAYLIGHT
TZOFFSETFROM:-0600
TZOFFSETTO:-0500
TZNAME:CDT
DTSTART:20270314T080000
END:DAYLIGHT
BEGIN:STANDARD
TZOFFSETFROM:-0500
TZOFFSETTO:-0600
TZNAME:CST
DTSTART:20271107T070000
END:STANDARD
END:VTIMEZONE
BEGIN:VEVENT
DTSTART;TZID=America/Chicago:20260119T120000
DTEND;TZID=America/Chicago:20260119T130000
DTSTAMP:20260420T111227
CREATED:20251204T163203Z
LAST-MODIFIED:20260107T142709Z
UID:10009250-1768824000-1768827600@www.luther.edu
SUMMARY:Community Lunch: Dr. Martin Luther King Jr. Day
DESCRIPTION:The Rev. Yehiel Curry\, Presiding Bishop of the Evangelical Lutheran Church in America\, will offer keynote remarks at Luther College’s 2026 Martin Luther King Jr. Day lecture at 10:30 a.m. on Monday\, Jan. 19\, 2026\, in the Center for Faith and Life Main Hall. \nParticipants will be invited to share and reflect on what “Courage for the Common Good” might look like in their own lives and relationships over a shared meal. During the lunch hour\, a variety of drop-in youth activities will be available in Marty’s\, located in the lower level Union. Students are encouraged to come by before or after eating. \nLunch tickets should be purchased in advance. The cost is $10 for adults and free for children and youth. We kindly request that community members reserve lunch tickets (including free tickets for youth) in advance to assist with planning and to provide an accurate headcount for event organizers. \nGet Luncheon Tickets \n  \n 
URL:https://www.luther.edu/event/dr-martin-luther-king-jr-day-luncheon
LOCATION:Dahl Centennial Union\, Cafeteria
CATEGORIES:Current Students,Faculty and Staff,Local
END:VEVENT
BEGIN:VEVENT
DTSTART;TZID=America/Chicago:20251215T210000
DTEND;TZID=America/Chicago:20251215T223000
DTSTAMP:20260420T111227
CREATED:20251203T162321Z
LAST-MODIFIED:20251203T162321Z
UID:10009246-1765832400-1765837800@www.luther.edu
SUMMARY:Late Night @ Luther (Breakfast for All)
DESCRIPTION:Late Night @ Luther (breakfast for all) is scheduled for Monday\, December 15\, from 9:00 -10:30 p.m. in the Caf as well as other fun activities for students in the Union: human slot machine\, Santa Claus\, Elf on the Shelf and some giveaways!\n\n\n\nStudents can enjoy this BREAKFAST for a late night snack and study break – eggs\, sausage\, pancakes\, pastries\, hot chocolate bar with vegan and allergen-friendly options available.
URL:https://www.luther.edu/event/late-night-luther-breakfast-for-all
LOCATION:Dahl Centennial Union\, Cafeteria
CATEGORIES:Current Students
ORGANIZER;CN="Student Life":MAILTO:students@luther.edu
END:VEVENT
BEGIN:VEVENT
DTSTART;TZID=America/Chicago:20250920T110000
DTEND;TZID=America/Chicago:20250920T140000
DTSTAMP:20260420T111227
CREATED:20250617T151918Z
LAST-MODIFIED:20250709T144100Z
UID:10006341-1758366000-1758376800@www.luther.edu
SUMMARY:Showcase Lunch with Bon Appétit
DESCRIPTION:Families are invited to enjoy a showcase of Luther’s new fresh and local seasonal flavors with Cafe Bon Appétit\, offering an expanded menu and a galore of tasty made-from-scratch items. The lunch will be provided by Bon Appetit\, Luther’s new dining partner. \nview the full family weekend schedule
URL:https://www.luther.edu/event/all-college-community-lunch
LOCATION:Dahl Centennial Union\, Cafeteria
CATEGORIES:Current Students,Faculty and Staff,Parents and Families
END:VEVENT
BEGIN:VEVENT
DTSTART;TZID=America/Chicago:20250725T160000
DTEND;TZID=America/Chicago:20250725T190000
DTSTAMP:20260420T111227
CREATED:20250603T194501Z
LAST-MODIFIED:20250617T192840Z
UID:10006000-1753459200-1753470000@www.luther.edu
SUMMARY:Luther Norwegian Meatball Dinner
DESCRIPTION:Menu:\nNorwegian Meatballs with Nutmeg Gravy\nMashed Potatoes\nSautéed Green Beans and Carrots\nLuther Dinner Rolls with Whipped Butter\nSalad Bar\nRommegrot Bars \nTickets and Walk-In Purchases Available\nAdults: $15 per person\nKids\, 6-10: $8 per person \nRESERVE YOUR MEAL TICKETS
URL:https://www.luther.edu/event/luther-norwegian-meatball-dinner-2
LOCATION:Dahl Centennial Union\, Cafeteria
CATEGORIES:Alumni and Friends,Local
END:VEVENT
BEGIN:VEVENT
DTSTART;TZID=America/Chicago:20250427T103000
DTEND;TZID=America/Chicago:20250427T130000
DTSTAMP:20260420T111227
CREATED:20250328T141222Z
LAST-MODIFIED:20250328T141222Z
UID:10004850-1745749800-1745758800@www.luther.edu
SUMMARY:All You Can Eat Brunch in the Caf
DESCRIPTION:Join us for brunch featuring Norwegian-inspired breakfast favorites like scrambled eggs with smoked salmon and fresh dill\, french toast bake with lingonberry compote\, eggs benedict quiche\, and rømmegrøt bars\, along with a full complement of lunch fare\, salad bar\, and allergy-friendly options.  Tickets are $12.50 per person and must be purchased by April 22.  Reserve your desired dining time at tickets.luther.edu
URL:https://www.luther.edu/event/all-you-can-eat-brunch-in-the-caf
LOCATION:Dahl Centennial Union\, Cafeteria
CATEGORIES:Current Students,Faculty and Staff,Local
END:VEVENT
END:VCALENDAR