BEGIN:VCALENDAR
VERSION:2.0
PRODID:-//Luther College - ECPv6.15.18//NONSGML v1.0//EN
CALSCALE:GREGORIAN
METHOD:PUBLISH
X-WR-CALNAME:Luther College
X-ORIGINAL-URL:https://www.luther.edu
X-WR-CALDESC:Events for Luther College
REFRESH-INTERVAL;VALUE=DURATION:PT1H
X-Robots-Tag:noindex
X-PUBLISHED-TTL:PT1H
BEGIN:VTIMEZONE
TZID:America/Chicago
BEGIN:DAYLIGHT
TZOFFSETFROM:-0600
TZOFFSETTO:-0500
TZNAME:CDT
DTSTART:20240310T080000
END:DAYLIGHT
BEGIN:STANDARD
TZOFFSETFROM:-0500
TZOFFSETTO:-0600
TZNAME:CST
DTSTART:20241103T070000
END:STANDARD
BEGIN:DAYLIGHT
TZOFFSETFROM:-0600
TZOFFSETTO:-0500
TZNAME:CDT
DTSTART:20250309T080000
END:DAYLIGHT
BEGIN:STANDARD
TZOFFSETFROM:-0500
TZOFFSETTO:-0600
TZNAME:CST
DTSTART:20251102T070000
END:STANDARD
BEGIN:DAYLIGHT
TZOFFSETFROM:-0600
TZOFFSETTO:-0500
TZNAME:CDT
DTSTART:20260308T080000
END:DAYLIGHT
BEGIN:STANDARD
TZOFFSETFROM:-0500
TZOFFSETTO:-0600
TZNAME:CST
DTSTART:20261101T070000
END:STANDARD
BEGIN:DAYLIGHT
TZOFFSETFROM:-0600
TZOFFSETTO:-0500
TZNAME:CDT
DTSTART:20270314T080000
END:DAYLIGHT
BEGIN:STANDARD
TZOFFSETFROM:-0500
TZOFFSETTO:-0600
TZNAME:CST
DTSTART:20271107T070000
END:STANDARD
END:VTIMEZONE
BEGIN:VEVENT
DTSTART;TZID=America/Chicago:20260114T160000
DTEND;TZID=America/Chicago:20260114T163000
DTSTAMP:20260422T070846
CREATED:20251212T175021Z
LAST-MODIFIED:20251212T175021Z
UID:10009318-1768406400-1768408200@www.luther.edu
SUMMARY:Holden Evening Prayer and Hot Chocolate
DESCRIPTION:Come for these cozy J-Term chapels to share in beautiful music\, to reflect as the sun sets\, to drink hot chocolate with friends\, and to give thanks for the day.
URL:https://www.luther.edu/event/holden-evening-prayer-and-hot-chocolate-4
LOCATION:Center for Faith and Life\, Front Lobby
CATEGORIES:College Ministries
ORGANIZER;CN="College Ministries":MAILTO:ministry@luther.edu
END:VEVENT
BEGIN:VEVENT
DTSTART;TZID=America/Chicago:20260107T160000
DTEND;TZID=America/Chicago:20260107T163000
DTSTAMP:20260422T070846
CREATED:20251216T151446Z
LAST-MODIFIED:20251216T151446Z
UID:10009322-1767801600-1767803400@www.luther.edu
SUMMARY:Holden Evening Prayer and Hot Chocolate
DESCRIPTION:Come for these cozy J-Term chapels to share in beautiful music\, to reflect as the sun sets\, to drink hot chocolate with friends\, and to give thanks for the day. The focus of this service is Epiphany Star Words. 
URL:https://www.luther.edu/event/holden-evening-prayer-and-hot-chocolate-6
LOCATION:Center for Faith and Life\, Front Lobby
CATEGORIES:College Ministries
ORGANIZER;CN="College Ministries":MAILTO:ministry@luther.edu
END:VEVENT
BEGIN:VEVENT
DTSTART;TZID=America/Chicago:20251003T203000
DTEND;TZID=America/Chicago:20251003T213000
DTSTAMP:20260422T070846
CREATED:20241009T135902Z
LAST-MODIFIED:20250624T191530Z
UID:10004442-1759523400-1759527000@www.luther.edu
SUMMARY:Reception\, Athletic Hall of Fame
DESCRIPTION:View the full homecoming schedule \n 
URL:https://www.luther.edu/event/reception-athletic-hall-of-fame
LOCATION:Center for Faith and Life\, Front Lobby
CATEGORIES:Alumni and Friends
ORGANIZER;CN="Office of Advancement":MAILTO:alumni@luther.edu
END:VEVENT
BEGIN:VEVENT
DTSTART;TZID=America/Chicago:20251003T163000
DTEND;TZID=America/Chicago:20251003T173000
DTSTAMP:20260422T070846
CREATED:20250624T190405Z
LAST-MODIFIED:20250624T190655Z
UID:10006361-1759509000-1759512600@www.luther.edu
SUMMARY:Reception\, Distinguished Service Awards
DESCRIPTION:View the full homecoming schedule
URL:https://www.luther.edu/event/reception-distinguished-service-awards-2
LOCATION:Center for Faith and Life\, Front Lobby
CATEGORIES:Alumni and Friends
END:VEVENT
END:VCALENDAR