BEGIN:VCALENDAR
VERSION:2.0
PRODID:-//Luther College - ECPv6.15.18//NONSGML v1.0//EN
CALSCALE:GREGORIAN
METHOD:PUBLISH
X-WR-CALNAME:Luther College
X-ORIGINAL-URL:https://www.luther.edu
X-WR-CALDESC:Events for Luther College
REFRESH-INTERVAL;VALUE=DURATION:PT1H
X-Robots-Tag:noindex
X-PUBLISHED-TTL:PT1H
BEGIN:VTIMEZONE
TZID:America/Chicago
BEGIN:DAYLIGHT
TZOFFSETFROM:-0600
TZOFFSETTO:-0500
TZNAME:CDT
DTSTART:20240310T080000
END:DAYLIGHT
BEGIN:STANDARD
TZOFFSETFROM:-0500
TZOFFSETTO:-0600
TZNAME:CST
DTSTART:20241103T070000
END:STANDARD
BEGIN:DAYLIGHT
TZOFFSETFROM:-0600
TZOFFSETTO:-0500
TZNAME:CDT
DTSTART:20250309T080000
END:DAYLIGHT
BEGIN:STANDARD
TZOFFSETFROM:-0500
TZOFFSETTO:-0600
TZNAME:CST
DTSTART:20251102T070000
END:STANDARD
BEGIN:DAYLIGHT
TZOFFSETFROM:-0600
TZOFFSETTO:-0500
TZNAME:CDT
DTSTART:20260308T080000
END:DAYLIGHT
BEGIN:STANDARD
TZOFFSETFROM:-0500
TZOFFSETTO:-0600
TZNAME:CST
DTSTART:20261101T070000
END:STANDARD
BEGIN:DAYLIGHT
TZOFFSETFROM:-0600
TZOFFSETTO:-0500
TZNAME:CDT
DTSTART:20270314T080000
END:DAYLIGHT
BEGIN:STANDARD
TZOFFSETFROM:-0500
TZOFFSETTO:-0600
TZNAME:CST
DTSTART:20271107T070000
END:STANDARD
END:VTIMEZONE
BEGIN:VEVENT
DTSTART;TZID=America/Chicago:20260421T130000
DTEND;TZID=America/Chicago:20260421T180000
DTSTAMP:20260422T100254
CREATED:20260410T153045Z
LAST-MODIFIED:20260410T153045Z
UID:10010125-1776776400-1776794400@www.luther.edu
SUMMARY:Third Annual Take Me Out to the Ball Game
DESCRIPTION:It’s that time of year again! Join Reslife\, SAAC\, and Wellness on April 21 for the third annual Take Me Out to the Ball Game event! Both Baseball (vs. Wartburg) and Softball (vs. Loras) will be hosting doubleheaders that day. Baseball will play at 1 and 4 p.m. with Softball competing at 2 and 4 p.m. \nOur celebrity pitchers this year are President Chamberlain (baseball) and Nate Cotant (softball).  Come on down for the start of game 1 for both baseball and softball to cheer on these two! \nBetween innings\, don’t miss the fan-favorite mascot races—featuring familiar faces at baseball (President Chamberlain\, Megan Wilson\, Mark Potvin\, and Matt Bills) and a can’t-miss twist at softball\, where a blue Power Ranger challenger will try to chase down student racers to cross the finish line first. \nEnjoy all the classics with free hot dogs and capri suns. Cracker Jacks will be handed out during the 5th (softball) and 7th (baseball) innings.  Get your voices warmed up and ready to sing your best rendition of Take Me Out to the Ball Game during those innings as well. \nThere will also be a free-will donation bucket for the Decorah Unified Sports group and the ability to sign up for the Polar Plunge that is happening on May 14 at Decorah High School in honor of the unified sports group. \nYou don’t want to miss this! Bring your friends and energy down to the fields for a fun afternoon!
URL:https://www.luther.edu/event/third-annual-take-me-out-to-the-ball-game
LOCATION:Luther College Baseball Field
CATEGORIES:Current Students,Faculty and Staff,Local
ORGANIZER;CN="Wellness":MAILTO:wellness@luther.edu
END:VEVENT
BEGIN:VEVENT
DTSTART;TZID=America/Chicago:20260421T130000
DTEND;TZID=America/Chicago:20260421T180000
DTSTAMP:20260422T100254
CREATED:20251210T215745Z
LAST-MODIFIED:20251210T215745Z
UID:10009282-1776776400-1776794400@www.luther.edu
SUMMARY:Baseball Doubleheader vs Wartburg College
DESCRIPTION:Spring schedules are subject to change due to weather. Please check luthernorse.com for up-to-date information.
URL:https://www.luther.edu/event/baseball-doubleheader-vs-wartburg-college-2
LOCATION:Luther College Baseball Field
CATEGORIES:Current Students,Faculty and Staff
ORGANIZER;CN="Norse Athletics":MAILTO:sports@luther.edu
END:VEVENT
BEGIN:VEVENT
DTSTART;TZID=America/Chicago:20260411T120000
DTEND;TZID=America/Chicago:20260411T170000
DTSTAMP:20260422T100254
CREATED:20251209T223107Z
LAST-MODIFIED:20251209T223107Z
UID:10009275-1775908800-1775926800@www.luther.edu
SUMMARY:Baseball Doubleheader vs Central College
DESCRIPTION:Spring schedules are subject to change due to weather. Please check luthernorse.com for up-to-date information.
URL:https://www.luther.edu/event/baseball-doubleheader-vs-central-college-3
LOCATION:Luther College Baseball Field
CATEGORIES:Current Students,Faculty and Staff
ORGANIZER;CN="Norse Athletics":MAILTO:sports@luther.edu
END:VEVENT
BEGIN:VEVENT
DTSTART;TZID=America/Chicago:20260410T120000
DTEND;TZID=America/Chicago:20260410T160000
DTSTAMP:20260422T100254
CREATED:20251209T220525Z
LAST-MODIFIED:20260409T164349Z
UID:10009272-1775822400-1775836800@www.luther.edu
SUMMARY:Baseball vs Central College
DESCRIPTION:Spring schedules are subject to change due to weather. Please check luthernorse.com for up-to-date information.
URL:https://www.luther.edu/event/baseball-doubleheader-vs-central-college-2
LOCATION:Luther College Baseball Field
CATEGORIES:Current Students,Faculty and Staff
ORGANIZER;CN="Norse Athletics":MAILTO:sports@luther.edu
END:VEVENT
BEGIN:VEVENT
DTSTART;TZID=America/Chicago:20260404T120000
DTEND;TZID=America/Chicago:20260404T170000
DTSTAMP:20260422T100254
CREATED:20251209T215124Z
LAST-MODIFIED:20251209T220418Z
UID:10009269-1775304000-1775322000@www.luther.edu
SUMMARY:Baseball Doubleheader vs Buena Vista University
DESCRIPTION:Spring schedules are subject to change due to weather. Please check luthernorse.com for up-to-date information.
URL:https://www.luther.edu/event/baseball-vs-buena-vista-university-doubleheader
LOCATION:Luther College Baseball Field
CATEGORIES:Current Students,Faculty and Staff
ORGANIZER;CN="Norse Athletics":MAILTO:sports@luther.edu
END:VEVENT
BEGIN:VEVENT
DTSTART;TZID=America/Chicago:20260403T150000
DTEND;TZID=America/Chicago:20260403T180000
DTSTAMP:20260422T100254
CREATED:20251209T214851Z
LAST-MODIFIED:20251209T214943Z
UID:10009268-1775228400-1775239200@www.luther.edu
SUMMARY:Baseball vs Buena Vista University
DESCRIPTION:Spring schedules are subject to change due to weather. Please check luthernorse.com for up-to-date information.
URL:https://www.luther.edu/event/baseball-vs-buena-vista-university
LOCATION:Luther College Baseball Field
CATEGORIES:Current Students,Faculty and Staff
ORGANIZER;CN="Norse Athletics":MAILTO:sports@luther.edu
END:VEVENT
BEGIN:VEVENT
DTSTART;TZID=America/Chicago:20260331T150000
DTEND;TZID=America/Chicago:20260331T170000
DTSTAMP:20260422T100254
CREATED:20260330T205227Z
LAST-MODIFIED:20260330T210632Z
UID:10009628-1774969200-1774976400@www.luther.edu
SUMMARY:Baseball vs Loras College
DESCRIPTION:Due to the forecast of inclement weather in the Dubuque area for Tuesday\, March 31\, the Luther – Loras double header schedule to be played in Dubuque has been changed. \nThe two teams will now play a single nine inning game in Decorah on Tuesday\, with a start time scheduled for 3 p.m. \nThe double header at Loras has been rescheduled for Tuesday\, April 7 with a start time of 3:30 p.m.
URL:https://www.luther.edu/event/baseball-vs-loras-college-2
LOCATION:Luther College Baseball Field
CATEGORIES:Current Students,Faculty and Staff
ORGANIZER;CN="Norse Athletics":MAILTO:sports@luther.edu
END:VEVENT
BEGIN:VEVENT
DTSTART;TZID=America/Chicago:20250503T130000
DTEND;TZID=America/Chicago:20250503T160000
DTSTAMP:20260422T100254
CREATED:20250325T162241Z
LAST-MODIFIED:20250325T162241Z
UID:10004847-1746277200-1746288000@www.luther.edu
SUMMARY:Baseball vs Nebraska Wesleyan
DESCRIPTION:Luther Baseball hosts Nebraska Wesleyan. \nSpring schedules are subject to change due to weather. Please check luthernorse.com for up-to-date information.
URL:https://www.luther.edu/event/baseball-vs-nebraska-wesleyan-2
LOCATION:Luther College Baseball Field
CATEGORIES:Current Students,Faculty and Staff
ORGANIZER;CN="Norse Athletics":MAILTO:sports@luther.edu
END:VEVENT
BEGIN:VEVENT
DTSTART;TZID=America/Chicago:20250502T130000
DTEND;TZID=America/Chicago:20250502T180000
DTSTAMP:20260422T100254
CREATED:20250311T194211Z
LAST-MODIFIED:20250325T162144Z
UID:10004794-1746190800-1746208800@www.luther.edu
SUMMARY:Baseball Doubleheader vs Nebraska Wesleyan
DESCRIPTION:Luther Baseball hosts Nebraska Wesleyan. \nSpring schedules are subject to change due to weather. Please check luthernorse.com for up-to-date information.
URL:https://www.luther.edu/event/baseball-vs-nebraska-wesleyan
LOCATION:Luther College Baseball Field
CATEGORIES:Current Students,Faculty and Staff
ORGANIZER;CN="Norse Athletics":MAILTO:sports@luther.edu
END:VEVENT
BEGIN:VEVENT
DTSTART;TZID=America/Chicago:20250502T130000
DTEND;TZID=America/Chicago:20250502T170000
DTSTAMP:20260422T100254
CREATED:20250325T152229Z
LAST-MODIFIED:20250325T154612Z
UID:10004845-1746190800-1746205200@www.luther.edu
SUMMARY:"Take Me Out to the Ball Game" Event
DESCRIPTION:The Residence Life Office is hosting two “Take Me Out to the Ball Game” events; one is on April 26 at 1 p.m. for our Luther Softball team\, and the second is on May 2 at 1 p.m. for our Luther Baseball team.  Softball takes on Buena Vista University\, while the baseball team hosts Nebraska Wesleyan.  We will have free cracker jacks\, hot dogs\, Capri Suns\, water\, ice cream sandwiches\, and a mascot race you don’t want to miss!  Wear your favorite Luther gear to support our teams and hopefully enjoy the nice weather!   \nPrior to both games\, a celebrity pitcher will throw out the first pitch.  This is where we need your help!  We need you to vote on who you want to see throw the first pitch for both the baseball and softball games.  Please submit only one vote for each contest before noon on April 8.  The winner will be announced via social media.  \n \n\nThe five finalists for each game are: \n\n \nSoftball: \nMelissa Bills\nRory Borsheim\nJill Leet-Otley\nGwen Strand\nJeff Wilkerson\n\n \nBaseball: \nKayla Austin\nLaurie Bouska\nLori Martinek\nErik Matth\nJesse Mulert\n 
URL:https://www.luther.edu/event/take-me-out-to-the-ball-game-event-2
LOCATION:Luther College Baseball Field
CATEGORIES:Current Students
ORGANIZER;CN="Residence Life":MAILTO:reslife@luther.edu
END:VEVENT
END:VCALENDAR