BEGIN:VCALENDAR
VERSION:2.0
PRODID:-//Luther College - ECPv6.15.18//NONSGML v1.0//EN
CALSCALE:GREGORIAN
METHOD:PUBLISH
X-ORIGINAL-URL:https://www.luther.edu
X-WR-CALDESC:Events for Luther College
REFRESH-INTERVAL;VALUE=DURATION:PT1H
X-Robots-Tag:noindex
X-PUBLISHED-TTL:PT1H
BEGIN:VTIMEZONE
TZID:America/Chicago
BEGIN:DAYLIGHT
TZOFFSETFROM:-0600
TZOFFSETTO:-0500
TZNAME:CDT
DTSTART:20240310T080000
END:DAYLIGHT
BEGIN:STANDARD
TZOFFSETFROM:-0500
TZOFFSETTO:-0600
TZNAME:CST
DTSTART:20241103T070000
END:STANDARD
BEGIN:DAYLIGHT
TZOFFSETFROM:-0600
TZOFFSETTO:-0500
TZNAME:CDT
DTSTART:20250309T080000
END:DAYLIGHT
BEGIN:STANDARD
TZOFFSETFROM:-0500
TZOFFSETTO:-0600
TZNAME:CST
DTSTART:20251102T070000
END:STANDARD
BEGIN:DAYLIGHT
TZOFFSETFROM:-0600
TZOFFSETTO:-0500
TZNAME:CDT
DTSTART:20260308T080000
END:DAYLIGHT
BEGIN:STANDARD
TZOFFSETFROM:-0500
TZOFFSETTO:-0600
TZNAME:CST
DTSTART:20261101T070000
END:STANDARD
END:VTIMEZONE
BEGIN:VEVENT
DTSTART;TZID=America/Chicago:20250516T180000
DTEND;TZID=America/Chicago:20250516T210000
DTSTAMP:20260423T164031
CREATED:20250416T153031Z
LAST-MODIFIED:20250507T184805Z
UID:10005409-1747418400-1747429200@www.luther.edu
SUMMARY:Ultra Mega Mega
DESCRIPTION:Join us for this open gala throughout the entire CFA featuring the semester coursework and final projects by students across all creative arts from Art\, Dance\, Theatre\, Musical Theatre\, and Visual Communication.
URL:https://www.luther.edu/event/ultra-mega-mega
LOCATION:Center for the Arts
CATEGORIES:Current Students,Faculty and Staff,Local
END:VEVENT
BEGIN:VEVENT
DTSTART;TZID=America/Chicago:20250510T193000
DTEND;TZID=America/Chicago:20250510T213000
DTSTAMP:20260423T164031
CREATED:20250421T203849Z
LAST-MODIFIED:20250421T203912Z
UID:10005423-1746905400-1746912600@www.luther.edu
SUMMARY:The Sweet Science of Bruising
DESCRIPTION:London\, 1869. Four very different Victorian women are drawn into the dark underground world of female boxing by the eccentric Professor Sharp. Controlled by men and constrained by corsets\, each finds an unexpected freedom in the boxing ring. \nAs their lives begin to intertwine\, we travel with them through the world of the privileged class\, a Yorkshire coal mine\, and the back alleys of London\,  where the women fight inequality as well as each other.  But with the final showdown approaching\, only one can become the Lady Boxing Champion of the World… \nJoy Wilkinson’s play The Sweet Science of Bruising is an epic tale of passion\, politics and pugilism\, directed by Kristen Underwood. \nContent Advisory: The Sweet Science of Bruising depicts violence and other material that some may find disturbing. \nGet tickets \n 
URL:https://www.luther.edu/event/the-sweet-science-of-bruising-3
LOCATION:Center for the Arts\, Jewel Theatre
CATEGORIES:Current Students,Faculty and Staff,Local,Theatre
END:VEVENT
BEGIN:VEVENT
DTSTART;TZID=America/Chicago:20250509T193000
DTEND;TZID=America/Chicago:20250509T213000
DTSTAMP:20260423T164031
CREATED:20250421T203818Z
LAST-MODIFIED:20250421T203818Z
UID:10005422-1746819000-1746826200@www.luther.edu
SUMMARY:The Sweet Science of Bruising
DESCRIPTION:London\, 1869. Four very different Victorian women are drawn into the dark underground world of female boxing by the eccentric Professor Sharp. Controlled by men and constrained by corsets\, each finds an unexpected freedom in the boxing ring. \nAs their lives begin to intertwine\, we travel with them through the world of the privileged class\, a Yorkshire coal mine\, and the back alleys of London\,  where the women fight inequality as well as each other.  But with the final showdown approaching\, only one can become the Lady Boxing Champion of the World… \nJoy Wilkinson’s play The Sweet Science of Bruising is an epic tale of passion\, politics and pugilism\, directed by Kristen Underwood. \nContent Advisory: The Sweet Science of Bruising depicts violence and other material that some may find disturbing. \nGet tickets \n 
URL:https://www.luther.edu/event/the-sweet-science-of-bruising-2
LOCATION:Center for the Arts\, Jewel Theatre
CATEGORIES:Current Students,Faculty and Staff,Local,Theatre
END:VEVENT
BEGIN:VEVENT
DTSTART;TZID=America/Chicago:20250508T193000
DTEND;TZID=America/Chicago:20250508T213000
DTSTAMP:20260423T164031
CREATED:20250421T204115Z
LAST-MODIFIED:20250423T131926Z
UID:10005424-1746732600-1746739800@www.luther.edu
SUMMARY:The Sweet Science of Bruising
DESCRIPTION:London\, 1869. Four very different Victorian women are drawn into the dark underground world of female boxing by the eccentric Professor Sharp. Controlled by men and constrained by corsets\, each finds an unexpected freedom in the boxing ring. \nAs their lives begin to intertwine\, we travel with them through the world of the privileged class\, a Yorkshire coal mine\, and the back alleys of London\,  where the women fight inequality as well as each other.  But with the final showdown approaching\, only one can become the Lady Boxing Champion of the World… \nJoy Wilkinson’s play The Sweet Science of Bruising is an epic tale of passion\, politics and pugilism\, directed by Kristen Underwood. \nContent Advisory: The Sweet Science of Bruising depicts violence and other material that some may find disturbing. \nGet tickets \n 
URL:https://www.luther.edu/event/the-sweet-science-of-bruising
LOCATION:Center for the Arts\, Jewel Theatre
CATEGORIES:Current Students,Faculty and Staff,Local,Theatre
END:VEVENT
END:VCALENDAR