BEGIN:VCALENDAR
VERSION:2.0
PRODID:-//Luther College - ECPv6.15.18//NONSGML v1.0//EN
CALSCALE:GREGORIAN
METHOD:PUBLISH
X-WR-CALNAME:Luther College
X-ORIGINAL-URL:https://www.luther.edu
X-WR-CALDESC:Events for Luther College
REFRESH-INTERVAL;VALUE=DURATION:PT1H
X-Robots-Tag:noindex
X-PUBLISHED-TTL:PT1H
BEGIN:VTIMEZONE
TZID:America/Chicago
BEGIN:DAYLIGHT
TZOFFSETFROM:-0600
TZOFFSETTO:-0500
TZNAME:CDT
DTSTART:20240310T080000
END:DAYLIGHT
BEGIN:STANDARD
TZOFFSETFROM:-0500
TZOFFSETTO:-0600
TZNAME:CST
DTSTART:20241103T070000
END:STANDARD
BEGIN:DAYLIGHT
TZOFFSETFROM:-0600
TZOFFSETTO:-0500
TZNAME:CDT
DTSTART:20250309T080000
END:DAYLIGHT
BEGIN:STANDARD
TZOFFSETFROM:-0500
TZOFFSETTO:-0600
TZNAME:CST
DTSTART:20251102T070000
END:STANDARD
BEGIN:DAYLIGHT
TZOFFSETFROM:-0600
TZOFFSETTO:-0500
TZNAME:CDT
DTSTART:20260308T080000
END:DAYLIGHT
BEGIN:STANDARD
TZOFFSETFROM:-0500
TZOFFSETTO:-0600
TZNAME:CST
DTSTART:20261101T070000
END:STANDARD
END:VTIMEZONE
BEGIN:VEVENT
DTSTART;TZID=America/Chicago:20251212T180000
DTEND;TZID=America/Chicago:20251212T210000
DTSTAMP:20260425T100404
CREATED:20250609T185234Z
LAST-MODIFIED:20250609T185234Z
UID:10006292-1765562400-1765573200@www.luther.edu
SUMMARY:Ultra Mega Mega
DESCRIPTION:Join us for this open gala throughout the entire CFA featuring the semester coursework and final projects by students across all creative arts from Art\, Dance\, Theatre\, Musical Theatre\, and Visual Communication.
URL:https://www.luther.edu/event/ultra-mega-mega-2
LOCATION:Center for the Arts
CATEGORIES:Current Students,Faculty and Staff,Local
END:VEVENT
BEGIN:VEVENT
DTSTART;TZID=America/Chicago:20251122T193000
DTEND;TZID=America/Chicago:20251122T213000
DTSTAMP:20260425T100404
CREATED:20251015T195827Z
LAST-MODIFIED:20251016T134327Z
UID:10007761-1763839800-1763847000@www.luther.edu
SUMMARY:VPA Musical: Renascence
DESCRIPTION:Renascence tells the captivating story of young Edna St. Vincent Millay’s transformation from small-town Maine poet to New York literary sensation. At just 18\, Millay writes her masterpiece “Renascence”—a profound meditation on suffering\, rebirth\, and the interconnectedness of all life—launching her extraordinary journey from rural obscurity to fame. This musical explores the power of art to transcend restrictions and the human struggle between confinement and freedom\, death and renewal. \nIn the weeks leading up to the performance\, find tickets at the Luther Ticket Office or at tickets.luther.edu.
URL:https://www.luther.edu/event/vpa-musical-renasance-6
LOCATION:Center for the Arts\, Jewel Theatre
CATEGORIES:Current Students,Faculty and Staff,Theatre
END:VEVENT
BEGIN:VEVENT
DTSTART;TZID=America/Chicago:20251121T193000
DTEND;TZID=America/Chicago:20251121T213000
DTSTAMP:20260425T100404
CREATED:20251015T195810Z
LAST-MODIFIED:20251016T134018Z
UID:10007760-1763753400-1763760600@www.luther.edu
SUMMARY:VPA Musical: Renascence
DESCRIPTION:Renascence tells the captivating story of young Edna St. Vincent Millay’s transformation from small-town Maine poet to New York literary sensation. At just 18\, Millay writes her masterpiece “Renascence”—a profound meditation on suffering\, rebirth\, and the interconnectedness of all life—launching her extraordinary journey from rural obscurity to fame. This musical explores the power of art to transcend restrictions and the human struggle between confinement and freedom\, death and renewal. \nIn the weeks leading up to the performance\, find tickets at the Luther Ticket Office or at tickets.luther.edu.
URL:https://www.luther.edu/event/vpa-musical-renasance-5
LOCATION:Center for the Arts\, Jewel Theatre
CATEGORIES:Current Students,Faculty and Staff,Local,Theatre
END:VEVENT
BEGIN:VEVENT
DTSTART;TZID=America/Chicago:20251120T193000
DTEND;TZID=America/Chicago:20251120T213000
DTSTAMP:20260425T100404
CREATED:20251015T195724Z
LAST-MODIFIED:20251016T133902Z
UID:10007759-1763667000-1763674200@www.luther.edu
SUMMARY:VPA Musical: Renascence
DESCRIPTION:Renascence tells the captivating story of young Edna St. Vincent Millay’s transformation from small-town Maine poet to New York literary sensation. At just 18\, Millay writes her masterpiece “Renascence”—a profound meditation on suffering\, rebirth\, and the interconnectedness of all life—launching her extraordinary journey from rural obscurity to fame. This musical explores the power of art to transcend restrictions and the human struggle between confinement and freedom\, death and renewal. \nIn the weeks leading up to the performance\, find tickets at the Luther Ticket Office or at tickets.luther.edu.
URL:https://www.luther.edu/event/vpa-musical-renasance-4
LOCATION:Center for the Arts\, Jewel Theatre
CATEGORIES:Current Students,Faculty and Staff,Local,Theatre
END:VEVENT
BEGIN:VEVENT
DTSTART;TZID=America/Chicago:20251115T193000
DTEND;TZID=America/Chicago:20251115T213000
DTSTAMP:20260425T100404
CREATED:20251015T195707Z
LAST-MODIFIED:20251016T133759Z
UID:10007758-1763235000-1763242200@www.luther.edu
SUMMARY:VPA Musical: Renascence
DESCRIPTION:Renascence tells the captivating story of young Edna St. Vincent Millay’s transformation from small-town Maine poet to New York literary sensation. At just 18\, Millay writes her masterpiece “Renascence”—a profound meditation on suffering\, rebirth\, and the interconnectedness of all life—launching her extraordinary journey from rural obscurity to fame. This musical explores the power of art to transcend restrictions and the human struggle between confinement and freedom\, death and renewal. \nIn the weeks leading up to the performance\, find tickets at the Luther Ticket Office or at tickets.luther.edu.
URL:https://www.luther.edu/event/vpa-musical-renasance-3
LOCATION:Center for the Arts\, Jewel Theatre
CATEGORIES:Current Students,Faculty and Staff,Local,Theatre
END:VEVENT
BEGIN:VEVENT
DTSTART;TZID=America/Chicago:20251114T193000
DTEND;TZID=America/Chicago:20251114T213000
DTSTAMP:20260425T100404
CREATED:20251015T195649Z
LAST-MODIFIED:20251016T133509Z
UID:10007757-1763148600-1763155800@www.luther.edu
SUMMARY:VPA Musical: Renascence
DESCRIPTION:Renascence tells the captivating story of young Edna St. Vincent Millay’s transformation from small-town Maine poet to New York literary sensation. At just 18\, Millay writes her masterpiece “Renascence”—a profound meditation on suffering\, rebirth\, and the interconnectedness of all life—launching her extraordinary journey from rural obscurity to fame. This musical explores the power of art to transcend restrictions and the human struggle between confinement and freedom\, death and renewal. \nIn the weeks leading up to the performance\, find tickets at the Luther Ticket Office or at tickets.luther.edu.
URL:https://www.luther.edu/event/vpa-musical-renasance-2
LOCATION:Center for the Arts\, Jewel Theatre
CATEGORIES:Current Students,Faculty and Staff,Local,Theatre
END:VEVENT
BEGIN:VEVENT
DTSTART;TZID=America/Chicago:20251113T193000
DTEND;TZID=America/Chicago:20251113T213000
DTSTAMP:20260425T100404
CREATED:20251015T195629Z
LAST-MODIFIED:20251016T133401Z
UID:10007756-1763062200-1763069400@www.luther.edu
SUMMARY:VPA Musical: Renascence
DESCRIPTION:Renascence tells the captivating story of young Edna St. Vincent Millay’s transformation from small-town Maine poet to New York literary sensation. At just 18\, Millay writes her masterpiece “Renascence”—a profound meditation on suffering\, rebirth\, and the interconnectedness of all life—launching her extraordinary journey from rural obscurity to fame. This musical explores the power of art to transcend restrictions and the human struggle between confinement and freedom\, death and renewal. \nIn the weeks leading up to the performance\, find tickets at the Luther Ticket Office or at tickets.luther.edu.
URL:https://www.luther.edu/event/vpa-musical-renasance
LOCATION:Center for the Arts\, Jewel Theatre
CATEGORIES:Current Students,Faculty and Staff,Local,Theatre
END:VEVENT
BEGIN:VEVENT
DTSTART;TZID=America/Chicago:20251004T193000
DTEND;TZID=America/Chicago:20251004T213000
DTSTAMP:20260425T100404
CREATED:20250618T142115Z
LAST-MODIFIED:20250618T142317Z
UID:10006344-1759606200-1759613400@www.luther.edu
SUMMARY:1984\, from the novel by George Orwell
DESCRIPTION:This stage adaptation of Orwell’s novel depicts a totalitarian society where the government exercises complete control over its citizens through surveillance\, propaganda\, and the manipulation of truth and language. \nIn the weeks leading up to the performance\, tickets will be available at tickets.luther.edu and at the ticket office located in the Center for Faith and Life. \n 
URL:https://www.luther.edu/event/1984-from-the-novel-by-george-orwell-2
LOCATION:Center for the Arts\, Jewel Theatre
CATEGORIES:Current Students,Faculty and Staff,Local,Theatre
END:VEVENT
BEGIN:VEVENT
DTSTART;TZID=America/Chicago:20251003T193000
DTEND;TZID=America/Chicago:20251003T213000
DTSTAMP:20260425T100404
CREATED:20250618T142041Z
LAST-MODIFIED:20250618T142537Z
UID:10006343-1759519800-1759527000@www.luther.edu
SUMMARY:1984\, from the novel by George Orwell
DESCRIPTION:This stage adaptation of Orwell’s novel depicts a totalitarian society where the government exercises complete control over its citizens through surveillance\, propaganda\, and the manipulation of truth and language. \nIn the weeks leading up to the performance\, tickets will be available at tickets.luther.edu and at the ticket office located in the Center for Faith and Life. \n 
URL:https://www.luther.edu/event/1984-from-the-novel-by-george-orwell
LOCATION:Center for the Arts\, Jewel Theatre
CATEGORIES:Current Students,Faculty and Staff,Local,Theatre
END:VEVENT
BEGIN:VEVENT
DTSTART;TZID=America/Chicago:20250927T130000
DTEND;TZID=America/Chicago:20250927T140000
DTSTAMP:20260425T100404
CREATED:20250618T193859Z
LAST-MODIFIED:20250919T143704Z
UID:10006348-1758978000-1758981600@www.luther.edu
SUMMARY:Owl at Home\, A Children's Opera
DESCRIPTION:“Owl at Home” is a charming musical retelling of the beloved book by Arnold Lobel – in which the well-meaning but slightly confused Owl experiences simple domestic adventures like making tear-water tea\, being afraid of the bumps in his bed\, and trying to be in two places at once. \nThis is a new work composed and written by Luther faculty members Brooke Joyce and Bobby Vrtis and is especially geared toward children— pre-K-4th grade. All are welcome! \nIn the weeks leading up to the performance\, tickets will be available at tickets.luther.edu and at the ticket office located in the Center for Faith and Life. \n 
URL:https://www.luther.edu/event/owl-at-home-a-childrens-opera-2
LOCATION:Center for the Arts\, Jewel Theatre
CATEGORIES:Current Students,Faculty and Staff,Local,Theatre
END:VEVENT
BEGIN:VEVENT
DTSTART;TZID=America/Chicago:20250927T103000
DTEND;TZID=America/Chicago:20250927T113000
DTSTAMP:20260425T100404
CREATED:20250618T193804Z
LAST-MODIFIED:20250919T143735Z
UID:10006347-1758969000-1758972600@www.luther.edu
SUMMARY:Owl at Home\, A Children's Opera
DESCRIPTION:“Owl at Home” is a charming musical retelling of the beloved book by Arnold Lobel – in which the well-meaning but slightly confused Owl experiences simple domestic adventures like making tear-water tea\, being afraid of the bumps in his bed\, and trying to be in two places at once. \nThis is a new work composed and written by Luther faculty members Brooke Joyce and Bobby Vrtis and is especially geared toward children— pre-K-4th grade. All are welcome! \nIn the weeks leading up to the performance\, tickets will be available at tickets.luther.edu and at the ticket office located in the Center for Faith and Life. \n 
URL:https://www.luther.edu/event/owl-at-home-a-childrens-opera
LOCATION:Center for the Arts\, Jewel Theatre
CATEGORIES:Current Students,Faculty and Staff,Local,Theatre
END:VEVENT
BEGIN:VEVENT
DTSTART;TZID=America/Chicago:20250524T160000
DTEND;TZID=America/Chicago:20250524T170000
DTSTAMP:20260425T100404
CREATED:20250206T161713Z
LAST-MODIFIED:20250206T161713Z
UID:10004707-1748102400-1748106000@www.luther.edu
SUMMARY:Senior Art Exhibition Reception
DESCRIPTION:
URL:https://www.luther.edu/event/senior-art-exhibition-reception-2
LOCATION:Center for the Arts\, Wigley-Fleming Gallery
CATEGORIES:Commencement,Current Students,Faculty and Staff,Parents and Families
END:VEVENT
BEGIN:VEVENT
DTSTART;TZID=America/Chicago:20250516T180000
DTEND;TZID=America/Chicago:20250516T210000
DTSTAMP:20260425T100404
CREATED:20250416T153031Z
LAST-MODIFIED:20250507T184805Z
UID:10005409-1747418400-1747429200@www.luther.edu
SUMMARY:Ultra Mega Mega
DESCRIPTION:Join us for this open gala throughout the entire CFA featuring the semester coursework and final projects by students across all creative arts from Art\, Dance\, Theatre\, Musical Theatre\, and Visual Communication.
URL:https://www.luther.edu/event/ultra-mega-mega
LOCATION:Center for the Arts
CATEGORIES:Current Students,Faculty and Staff,Local
END:VEVENT
BEGIN:VEVENT
DTSTART;TZID=America/Chicago:20250510T193000
DTEND;TZID=America/Chicago:20250510T213000
DTSTAMP:20260425T100404
CREATED:20250421T203849Z
LAST-MODIFIED:20250421T203912Z
UID:10005423-1746905400-1746912600@www.luther.edu
SUMMARY:The Sweet Science of Bruising
DESCRIPTION:London\, 1869. Four very different Victorian women are drawn into the dark underground world of female boxing by the eccentric Professor Sharp. Controlled by men and constrained by corsets\, each finds an unexpected freedom in the boxing ring. \nAs their lives begin to intertwine\, we travel with them through the world of the privileged class\, a Yorkshire coal mine\, and the back alleys of London\,  where the women fight inequality as well as each other.  But with the final showdown approaching\, only one can become the Lady Boxing Champion of the World… \nJoy Wilkinson’s play The Sweet Science of Bruising is an epic tale of passion\, politics and pugilism\, directed by Kristen Underwood. \nContent Advisory: The Sweet Science of Bruising depicts violence and other material that some may find disturbing. \nGet tickets \n 
URL:https://www.luther.edu/event/the-sweet-science-of-bruising-3
LOCATION:Center for the Arts\, Jewel Theatre
CATEGORIES:Current Students,Faculty and Staff,Local,Theatre
END:VEVENT
BEGIN:VEVENT
DTSTART;TZID=America/Chicago:20250509T193000
DTEND;TZID=America/Chicago:20250509T213000
DTSTAMP:20260425T100404
CREATED:20250421T203818Z
LAST-MODIFIED:20250421T203818Z
UID:10005422-1746819000-1746826200@www.luther.edu
SUMMARY:The Sweet Science of Bruising
DESCRIPTION:London\, 1869. Four very different Victorian women are drawn into the dark underground world of female boxing by the eccentric Professor Sharp. Controlled by men and constrained by corsets\, each finds an unexpected freedom in the boxing ring. \nAs their lives begin to intertwine\, we travel with them through the world of the privileged class\, a Yorkshire coal mine\, and the back alleys of London\,  where the women fight inequality as well as each other.  But with the final showdown approaching\, only one can become the Lady Boxing Champion of the World… \nJoy Wilkinson’s play The Sweet Science of Bruising is an epic tale of passion\, politics and pugilism\, directed by Kristen Underwood. \nContent Advisory: The Sweet Science of Bruising depicts violence and other material that some may find disturbing. \nGet tickets \n 
URL:https://www.luther.edu/event/the-sweet-science-of-bruising-2
LOCATION:Center for the Arts\, Jewel Theatre
CATEGORIES:Current Students,Faculty and Staff,Local,Theatre
END:VEVENT
BEGIN:VEVENT
DTSTART;TZID=America/Chicago:20250508T193000
DTEND;TZID=America/Chicago:20250508T213000
DTSTAMP:20260425T100404
CREATED:20250421T204115Z
LAST-MODIFIED:20250423T131926Z
UID:10005424-1746732600-1746739800@www.luther.edu
SUMMARY:The Sweet Science of Bruising
DESCRIPTION:London\, 1869. Four very different Victorian women are drawn into the dark underground world of female boxing by the eccentric Professor Sharp. Controlled by men and constrained by corsets\, each finds an unexpected freedom in the boxing ring. \nAs their lives begin to intertwine\, we travel with them through the world of the privileged class\, a Yorkshire coal mine\, and the back alleys of London\,  where the women fight inequality as well as each other.  But with the final showdown approaching\, only one can become the Lady Boxing Champion of the World… \nJoy Wilkinson’s play The Sweet Science of Bruising is an epic tale of passion\, politics and pugilism\, directed by Kristen Underwood. \nContent Advisory: The Sweet Science of Bruising depicts violence and other material that some may find disturbing. \nGet tickets \n 
URL:https://www.luther.edu/event/the-sweet-science-of-bruising
LOCATION:Center for the Arts\, Jewel Theatre
CATEGORIES:Current Students,Faculty and Staff,Local,Theatre
END:VEVENT
END:VCALENDAR