BEGIN:VCALENDAR
VERSION:2.0
PRODID:-//Luther College - ECPv6.15.18//NONSGML v1.0//EN
CALSCALE:GREGORIAN
METHOD:PUBLISH
X-ORIGINAL-URL:https://www.luther.edu
X-WR-CALDESC:Events for Luther College
REFRESH-INTERVAL;VALUE=DURATION:PT1H
X-Robots-Tag:noindex
X-PUBLISHED-TTL:PT1H
BEGIN:VTIMEZONE
TZID:America/Chicago
BEGIN:DAYLIGHT
TZOFFSETFROM:-0600
TZOFFSETTO:-0500
TZNAME:CDT
DTSTART:20240310T080000
END:DAYLIGHT
BEGIN:STANDARD
TZOFFSETFROM:-0500
TZOFFSETTO:-0600
TZNAME:CST
DTSTART:20241103T070000
END:STANDARD
BEGIN:DAYLIGHT
TZOFFSETFROM:-0600
TZOFFSETTO:-0500
TZNAME:CDT
DTSTART:20250309T080000
END:DAYLIGHT
BEGIN:STANDARD
TZOFFSETFROM:-0500
TZOFFSETTO:-0600
TZNAME:CST
DTSTART:20251102T070000
END:STANDARD
BEGIN:DAYLIGHT
TZOFFSETFROM:-0600
TZOFFSETTO:-0500
TZNAME:CDT
DTSTART:20260308T080000
END:DAYLIGHT
BEGIN:STANDARD
TZOFFSETFROM:-0500
TZOFFSETTO:-0600
TZNAME:CST
DTSTART:20261101T070000
END:STANDARD
BEGIN:DAYLIGHT
TZOFFSETFROM:-0600
TZOFFSETTO:-0500
TZNAME:CDT
DTSTART:20270314T080000
END:DAYLIGHT
BEGIN:STANDARD
TZOFFSETFROM:-0500
TZOFFSETTO:-0600
TZNAME:CST
DTSTART:20271107T070000
END:STANDARD
END:VTIMEZONE
BEGIN:VEVENT
DTSTART;TZID=America/Chicago:20260311T190000
DTEND;TZID=America/Chicago:20260311T203000
DTSTAMP:20260420T110507
CREATED:20260306T170648Z
LAST-MODIFIED:20260306T170648Z
UID:10009531-1773255600-1773261000@www.luther.edu
SUMMARY:SWA Movie Showing
DESCRIPTION:Celebrate National Social Work Month with a free movie night!  Luther’s Social Work Association will be showing Instant Family\, a film that highlights the journey of foster care and adoption. All are welcome to join us for this special event. Free for everyone!
URL:https://www.luther.edu/event/swa-movie-showing
LOCATION:Olin 102
CATEGORIES:Current Students,Faculty and Staff,Local,Student Orgs
END:VEVENT
BEGIN:VEVENT
DTSTART;TZID=America/Chicago:20251105T190000
DTEND;TZID=America/Chicago:20251105T213000
DTSTAMP:20260420T110507
CREATED:20251017T161035Z
LAST-MODIFIED:20251028T194651Z
UID:10007802-1762369200-1762378200@www.luther.edu
SUMMARY:Luther's Got Talent
DESCRIPTION:Join Social Work Association and Black Student Union for the third annual Luther’s Got Talent! Show off your talents\, cheer on your friends\, and help us raise money for the Decorah Free Clinic. The Decorah Free Clinic provides free\, high-quality healthcare and education for uninsured and underinsured individuals in Northeast Iowa. The event will be held in Marty’s from 7-9:30 p.m. If you would like to perform please fill out our sign-up form. Entry fee is $5\, and all proceeds go directly to the Decorah Free Clinic.
URL:https://www.luther.edu/event/luthers-got-talent
LOCATION:Dahl Centennial Union\, Marty’s
CATEGORIES:Current Students,Faculty and Staff,Student Orgs
END:VEVENT
BEGIN:VEVENT
DTSTART;TZID=America/Chicago:20250424T180000
DTEND;TZID=America/Chicago:20250424T193000
DTSTAMP:20260420T110507
CREATED:20250402T133711Z
LAST-MODIFIED:20250402T133753Z
UID:10004857-1745517600-1745523000@www.luther.edu
SUMMARY:Unmasking Sexual Assault
DESCRIPTION:Join the Social Work Association (SWA) and Riverview Center for a night of presentations as part of Sexual Assault Awareness Month. On April 24 at 6 p.m.\, SWA will host Riverview Center as they discuss their role in the community\, the services they provide\, the difference between mandatory and permissive reporting\, and what college students need to know about sexual assault. This event is a great opportunity to ask questions and raise awareness about sexual assault. Questions? Please email SWA at swa@luther.edu.
URL:https://www.luther.edu/event/social-work-association-and-riverview-center
LOCATION:Koren 217
CATEGORIES:Current Students,Faculty and Staff
END:VEVENT
END:VCALENDAR