BEGIN:VCALENDAR
VERSION:2.0
PRODID:-//Luther College - ECPv6.15.18//NONSGML v1.0//EN
CALSCALE:GREGORIAN
METHOD:PUBLISH
X-ORIGINAL-URL:https://www.luther.edu
X-WR-CALDESC:Events for Luther College
REFRESH-INTERVAL;VALUE=DURATION:PT1H
X-Robots-Tag:noindex
X-PUBLISHED-TTL:PT1H
BEGIN:VTIMEZONE
TZID:America/Chicago
BEGIN:DAYLIGHT
TZOFFSETFROM:-0600
TZOFFSETTO:-0500
TZNAME:CDT
DTSTART:20250309T080000
END:DAYLIGHT
BEGIN:STANDARD
TZOFFSETFROM:-0500
TZOFFSETTO:-0600
TZNAME:CST
DTSTART:20251102T070000
END:STANDARD
BEGIN:DAYLIGHT
TZOFFSETFROM:-0600
TZOFFSETTO:-0500
TZNAME:CDT
DTSTART:20260308T080000
END:DAYLIGHT
BEGIN:STANDARD
TZOFFSETFROM:-0500
TZOFFSETTO:-0600
TZNAME:CST
DTSTART:20261101T070000
END:STANDARD
BEGIN:DAYLIGHT
TZOFFSETFROM:-0600
TZOFFSETTO:-0500
TZNAME:CDT
DTSTART:20270314T080000
END:DAYLIGHT
BEGIN:STANDARD
TZOFFSETFROM:-0500
TZOFFSETTO:-0600
TZNAME:CST
DTSTART:20271107T070000
END:STANDARD
END:VTIMEZONE
BEGIN:VEVENT
DTSTART;TZID=America/Chicago:20260502T140000
DTEND;TZID=America/Chicago:20260502T190000
DTSTAMP:20260424T081508
CREATED:20260317T154528Z
LAST-MODIFIED:20260317T154528Z
UID:10009568-1777730400-1777748400@www.luther.edu
SUMMARY:Laser Tag
DESCRIPTION:Join SAC for a game of Laser Tag. Grab your friends\, suit up\, and don’t miss out on the fun! \nRain location: Peace Dining Room
URL:https://www.luther.edu/event/laser-tag
LOCATION:Library Lawn
CATEGORIES:Current Students,Student Orgs
ORGANIZER;CN="SAC (Student Activities Council)":MAILTO:sac@luther.edu
END:VEVENT
BEGIN:VEVENT
DTSTART;TZID=America/Chicago:20260515T110000
DTEND;TZID=America/Chicago:20260515T170000
DTSTAMP:20260424T081508
CREATED:20260106T151105Z
LAST-MODIFIED:20260106T151607Z
UID:10009349-1778842800-1778864400@www.luther.edu
SUMMARY:Kool-Aid Day
DESCRIPTION:Wrap up the school year the right way at Kool-Aid Day\, brought to you by SAC. Come to Bentdahl Commons to cool off with Kool-Aid\, grab some food\, and take your shot at the dunk tank! Don’t miss this sweet send-off to the school year! \nRain location: Marty’s
URL:https://www.luther.edu/event/kool-aid-day
LOCATION:Bentdahl Commons
CATEGORIES:Current Students,Student Orgs
ORGANIZER;CN="SAC (Student Activities Council)":MAILTO:sac@luther.edu
END:VEVENT
END:VCALENDAR