BEGIN:VCALENDAR
VERSION:2.0
PRODID:-//Luther College - ECPv6.15.18//NONSGML v1.0//EN
CALSCALE:GREGORIAN
METHOD:PUBLISH
X-WR-CALNAME:Luther College
X-ORIGINAL-URL:https://www.luther.edu
X-WR-CALDESC:Events for Luther College
REFRESH-INTERVAL;VALUE=DURATION:PT1H
X-Robots-Tag:noindex
X-PUBLISHED-TTL:PT1H
BEGIN:VTIMEZONE
TZID:America/Chicago
BEGIN:DAYLIGHT
TZOFFSETFROM:-0600
TZOFFSETTO:-0500
TZNAME:CDT
DTSTART:20250309T080000
END:DAYLIGHT
BEGIN:STANDARD
TZOFFSETFROM:-0500
TZOFFSETTO:-0600
TZNAME:CST
DTSTART:20251102T070000
END:STANDARD
BEGIN:DAYLIGHT
TZOFFSETFROM:-0600
TZOFFSETTO:-0500
TZNAME:CDT
DTSTART:20260308T080000
END:DAYLIGHT
BEGIN:STANDARD
TZOFFSETFROM:-0500
TZOFFSETTO:-0600
TZNAME:CST
DTSTART:20261101T070000
END:STANDARD
BEGIN:DAYLIGHT
TZOFFSETFROM:-0600
TZOFFSETTO:-0500
TZNAME:CDT
DTSTART:20270314T080000
END:DAYLIGHT
BEGIN:STANDARD
TZOFFSETFROM:-0500
TZOFFSETTO:-0600
TZNAME:CST
DTSTART:20271107T070000
END:STANDARD
END:VTIMEZONE
BEGIN:VEVENT
DTSTART;TZID=America/Chicago:20260421T130000
DTEND;TZID=America/Chicago:20260421T180000
DTSTAMP:20260420T181333
CREATED:20251210T215745Z
LAST-MODIFIED:20251210T215745Z
UID:10009282-1776776400-1776794400@www.luther.edu
SUMMARY:Baseball Doubleheader vs Wartburg College
DESCRIPTION:Spring schedules are subject to change due to weather. Please check luthernorse.com for up-to-date information.
URL:https://www.luther.edu/event/baseball-doubleheader-vs-wartburg-college-2
LOCATION:Luther College Baseball Field
CATEGORIES:Current Students,Faculty and Staff
ORGANIZER;CN="Norse Athletics":MAILTO:sports@luther.edu
END:VEVENT
BEGIN:VEVENT
DTSTART;TZID=America/Chicago:20260421T140000
DTEND;TZID=America/Chicago:20260421T180000
DTSTAMP:20260420T181333
CREATED:20251210T220025Z
LAST-MODIFIED:20251210T220025Z
UID:10009283-1776780000-1776794400@www.luther.edu
SUMMARY:Softball Doubleheader vs Loras College
DESCRIPTION:Spring schedules are subject to change due to weather. Please check luthernorse.com for up-to-date information.
URL:https://www.luther.edu/event/softball-doubleheader-vs-loras-college
LOCATION:Luther College Softball Field
CATEGORIES:Current Students,Faculty and Staff
ORGANIZER;CN="Norse Athletics":MAILTO:sports@luther.edu
END:VEVENT
BEGIN:VEVENT
DTSTART;VALUE=DATE:20260423
DTEND;VALUE=DATE:20260424
DTSTAMP:20260420T181333
CREATED:20260213T155442Z
LAST-MODIFIED:20260213T155442Z
UID:10009488-1776902400-1776988799@www.luther.edu
SUMMARY:Women's Tennis ARC Tournament Semifinals
DESCRIPTION:Time: TBA \nSpring schedules are subject to change due to weather. Please check luthernorse.com for up-to-date information.
URL:https://www.luther.edu/event/womens-tennis-arc-tournament-semifinals
LOCATION:Luther College Tennis Courts
CATEGORIES:Current Students,Faculty and Staff
ORGANIZER;CN="Norse Athletics":MAILTO:sports@luther.edu
END:VEVENT
BEGIN:VEVENT
DTSTART;TZID=America/Chicago:20260424T150000
DTEND;TZID=America/Chicago:20260424T180000
DTSTAMP:20260420T181333
CREATED:20260114T152212Z
LAST-MODIFIED:20260114T152310Z
UID:10009365-1777042800-1777053600@www.luther.edu
SUMMARY:Baseball vs Simpson College
DESCRIPTION:Spring schedules are subject to change due to weather. Please check luthernorse.com for up-to-date information.
URL:https://www.luther.edu/event/baseball-vs-simpson-college
LOCATION:Luther College Baseball Field
CATEGORIES:Current Students,Faculty and Staff
ORGANIZER;CN="Norse Athletics":MAILTO:sports@luther.edu
END:VEVENT
BEGIN:VEVENT
DTSTART;TZID=America/Chicago:20260425T120000
DTEND;TZID=America/Chicago:20260425T170000
DTSTAMP:20260420T181333
CREATED:20260114T152856Z
LAST-MODIFIED:20260114T152856Z
UID:10009366-1777118400-1777136400@www.luther.edu
SUMMARY:Baseball Doubleheader vs Simpson College
DESCRIPTION:Spring schedules are subject to change due to weather. Please check luthernorse.com for up-to-date information.
URL:https://www.luther.edu/event/baseball-doubleheader-vs-simpson-college-2
LOCATION:Luther College Baseball Field
CATEGORIES:Current Students,Faculty and Staff
ORGANIZER;CN="Norse Athletics":MAILTO:sports@luther.edu
END:VEVENT
BEGIN:VEVENT
DTSTART;TZID=America/Chicago:20260425T130000
DTEND;TZID=America/Chicago:20260425T170000
DTSTAMP:20260420T181333
CREATED:20260114T153248Z
LAST-MODIFIED:20260114T153248Z
UID:10009367-1777122000-1777136400@www.luther.edu
SUMMARY:Softball Doubleheader vs Cornell College
DESCRIPTION:Spring schedules are subject to change due to weather. Please check luthernorse.com for up-to-date information.
URL:https://www.luther.edu/event/softball-doubleheader-vs-cornell-college
LOCATION:Luther College Softball Field
CATEGORIES:Current Students,Faculty and Staff
ORGANIZER;CN="Norse Athletics":MAILTO:sports@luther.edu
END:VEVENT
BEGIN:VEVENT
DTSTART;TZID=America/Chicago:20260502T130000
DTEND;TZID=America/Chicago:20260502T170000
DTSTAMP:20260420T181333
CREATED:20260114T154033Z
LAST-MODIFIED:20260114T154033Z
UID:10009368-1777726800-1777741200@www.luther.edu
SUMMARY:Softball Doubleheader vs Nebraska Wesleyan University
DESCRIPTION:Spring schedules are subject to change due to weather. Please check luthernorse.com for up-to-date information.
URL:https://www.luther.edu/event/softball-doubleheader-vs-nebraska-wesleyan-university
LOCATION:Luther College Softball Field
CATEGORIES:Current Students,Faculty and Staff
ORGANIZER;CN="Norse Athletics":MAILTO:sports@luther.edu
END:VEVENT
BEGIN:VEVENT
DTSTART;TZID=America/Chicago:20260502T130000
DTEND;TZID=America/Chicago:20260502T180000
DTSTAMP:20260420T181333
CREATED:20260114T154352Z
LAST-MODIFIED:20260114T154352Z
UID:10009369-1777726800-1777744800@www.luther.edu
SUMMARY:Baseball Doubleheader vs Gustavus Adolphus College
DESCRIPTION:Spring schedules are subject to change due to weather. Please check luthernorse.com for up-to-date information.
URL:https://www.luther.edu/event/baseball-doubleheader-vs-gustavus-adolphus-college
LOCATION:Luther College Baseball Field
CATEGORIES:Current Students,Faculty and Staff
ORGANIZER;CN="Norse Athletics":MAILTO:sports@luther.edu
END:VEVENT
BEGIN:VEVENT
DTSTART;TZID=America/Chicago:20260523T103000
DTEND;TZID=America/Chicago:20260523T120000
DTSTAMP:20260420T181333
CREATED:20260217T211109Z
LAST-MODIFIED:20260217T211109Z
UID:10009499-1779532200-1779537600@www.luther.edu
SUMMARY:Senior Athlete Recognition Ceremony
DESCRIPTION:
URL:https://www.luther.edu/event/senior-athlete-recognition-ceremony
LOCATION:Center for Faith and Life\, Main Hall
CATEGORIES:Commencement,Current Students,Faculty and Staff,Parents and Families
ORGANIZER;CN="Norse Athletics":MAILTO:sports@luther.edu
END:VEVENT
BEGIN:VEVENT
DTSTART;VALUE=DATE:20260611
DTEND;VALUE=DATE:20260615
DTSTAMP:20260420T181333
CREATED:20260120T204231Z
LAST-MODIFIED:20260120T204231Z
UID:10009377-1781136000-1781481599@www.luther.edu
SUMMARY:Tennis Camp
DESCRIPTION:Learn more \n 
URL:https://www.luther.edu/event/tennis-camp
LOCATION:Luther College Campus
CATEGORIES:Local
ORGANIZER;CN="Norse Athletics":MAILTO:sports@luther.edu
END:VEVENT
BEGIN:VEVENT
DTSTART;TZID=America/Chicago:20260612T080000
DTEND;TZID=America/Chicago:20260612T170000
DTSTAMP:20260420T181333
CREATED:20260121T151646Z
LAST-MODIFIED:20260121T151757Z
UID:10009381-1781251200-1781283600@www.luther.edu
SUMMARY:Luther Women's Wrestling Prospect Camp
DESCRIPTION:LEARN MORE
URL:https://www.luther.edu/event/luther-womens-wrestling-prospect-camp
LOCATION:Luther College
CATEGORIES:Local
ORGANIZER;CN="Norse Athletics":MAILTO:sports@luther.edu
END:VEVENT
BEGIN:VEVENT
DTSTART;VALUE=DATE:20260617
DTEND;VALUE=DATE:20260622
DTSTAMP:20260420T181333
CREATED:20260121T152015Z
LAST-MODIFIED:20260121T152015Z
UID:10009382-1781654400-1782086399@www.luther.edu
SUMMARY:Norse Force Technique/Training Wrestling Camp
DESCRIPTION:LEARN MORE
URL:https://www.luther.edu/event/norse-force-technique-training-wrestling-camp
LOCATION:Luther College
CATEGORIES:Local
ORGANIZER;CN="Norse Athletics":MAILTO:sports@luther.edu
END:VEVENT
BEGIN:VEVENT
DTSTART;VALUE=DATE:20260624
DTEND;VALUE=DATE:20260629
DTSTAMP:20260420T181333
CREATED:20260120T204511Z
LAST-MODIFIED:20260120T204511Z
UID:10009378-1782259200-1782691199@www.luther.edu
SUMMARY:Big Man Wrestling Camp
DESCRIPTION:Learn more \n  \n 
URL:https://www.luther.edu/event/big-man-wrestling-camp
LOCATION:Luther College Campus
CATEGORIES:Local
ORGANIZER;CN="Norse Athletics":MAILTO:sports@luther.edu
END:VEVENT
BEGIN:VEVENT
DTSTART;VALUE=DATE:20260708
DTEND;VALUE=DATE:20260712
DTSTAMP:20260420T181333
CREATED:20250109T161334Z
LAST-MODIFIED:20260120T204817Z
UID:10004669-1783468800-1783814399@www.luther.edu
SUMMARY:Wrestling Team Camp 1 (Boys)
DESCRIPTION:LEARN MORE \n  \n 
URL:https://www.luther.edu/event/wrestling-team-camp-2-boys
LOCATION:Luther College
CATEGORIES:Local
ORGANIZER;CN="Norse Athletics":MAILTO:sports@luther.edu
END:VEVENT
BEGIN:VEVENT
DTSTART;VALUE=DATE:20260714
DTEND;VALUE=DATE:20260717
DTSTAMP:20260420T181333
CREATED:20250109T161157Z
LAST-MODIFIED:20260120T205057Z
UID:10004668-1783987200-1784246399@www.luther.edu
SUMMARY:Wrestling Team Camp (Girls)
DESCRIPTION:LEARN MORE \n  \n 
URL:https://www.luther.edu/event/wrestling-team-camp-girls
LOCATION:Luther College
CATEGORIES:Local
ORGANIZER;CN="Norse Athletics":MAILTO:sports@luther.edu
END:VEVENT
BEGIN:VEVENT
DTSTART;VALUE=DATE:20260719
DTEND;VALUE=DATE:20260723
DTSTAMP:20260420T181333
CREATED:20260120T204924Z
LAST-MODIFIED:20260120T204924Z
UID:10009379-1784419200-1784764799@www.luther.edu
SUMMARY:Wrestling Team Camp 2 (Boys)
DESCRIPTION:LEARN MORE \n  \n 
URL:https://www.luther.edu/event/wrestling-team-camp-2-boys-2
LOCATION:Luther College
CATEGORIES:Local
ORGANIZER;CN="Norse Athletics":MAILTO:sports@luther.edu
END:VEVENT
BEGIN:VEVENT
DTSTART;TZID=America/Chicago:20260720T080000
DTEND;TZID=America/Chicago:20260723T170000
DTSTAMP:20260420T181333
CREATED:20250109T161507Z
LAST-MODIFIED:20260121T151023Z
UID:10004670-1784534400-1784826000@www.luther.edu
SUMMARY:Soccer Instructional Camp
DESCRIPTION:LEARN MORE \n  \n 
URL:https://www.luther.edu/event/soccer-instructional-camp-2
LOCATION:Luther College
CATEGORIES:Local
ORGANIZER;CN="Norse Athletics":MAILTO:sports@luther.edu
END:VEVENT
BEGIN:VEVENT
DTSTART;TZID=America/Chicago:20260720T080000
DTEND;TZID=America/Chicago:20260723T170000
DTSTAMP:20260420T181333
CREATED:20250109T161648Z
LAST-MODIFIED:20260121T151512Z
UID:10004671-1784534400-1784826000@www.luther.edu
SUMMARY:Soccer Mini Camp
DESCRIPTION:LEARN MORE \n  \n 
URL:https://www.luther.edu/event/soccer-mini-camp
LOCATION:Luther College
CATEGORIES:Local
ORGANIZER;CN="Norse Athletics":MAILTO:sports@luther.edu
END:VEVENT
BEGIN:VEVENT
DTSTART;TZID=America/Chicago:20260720T080000
DTEND;TZID=America/Chicago:20260723T170000
DTSTAMP:20260420T181333
CREATED:20260211T151814Z
LAST-MODIFIED:20260211T154531Z
UID:10009483-1784534400-1784826000@www.luther.edu
SUMMARY:Basketball Camps
DESCRIPTION:LEARN MORE
URL:https://www.luther.edu/event/basketball-camps
LOCATION:Luther College
CATEGORIES:Local
ORGANIZER;CN="Norse Athletics":MAILTO:sports@luther.edu
END:VEVENT
END:VCALENDAR