BEGIN:VCALENDAR
VERSION:2.0
PRODID:-//Luther College - ECPv6.15.18//NONSGML v1.0//EN
CALSCALE:GREGORIAN
METHOD:PUBLISH
X-ORIGINAL-URL:https://www.luther.edu
X-WR-CALDESC:Events for Luther College
REFRESH-INTERVAL;VALUE=DURATION:PT1H
X-Robots-Tag:noindex
X-PUBLISHED-TTL:PT1H
BEGIN:VTIMEZONE
TZID:America/Chicago
BEGIN:DAYLIGHT
TZOFFSETFROM:-0600
TZOFFSETTO:-0500
TZNAME:CDT
DTSTART:20240310T080000
END:DAYLIGHT
BEGIN:STANDARD
TZOFFSETFROM:-0500
TZOFFSETTO:-0600
TZNAME:CST
DTSTART:20241103T070000
END:STANDARD
BEGIN:DAYLIGHT
TZOFFSETFROM:-0600
TZOFFSETTO:-0500
TZNAME:CDT
DTSTART:20250309T080000
END:DAYLIGHT
BEGIN:STANDARD
TZOFFSETFROM:-0500
TZOFFSETTO:-0600
TZNAME:CST
DTSTART:20251102T070000
END:STANDARD
BEGIN:DAYLIGHT
TZOFFSETFROM:-0600
TZOFFSETTO:-0500
TZNAME:CDT
DTSTART:20260308T080000
END:DAYLIGHT
BEGIN:STANDARD
TZOFFSETFROM:-0500
TZOFFSETTO:-0600
TZNAME:CST
DTSTART:20261101T070000
END:STANDARD
BEGIN:DAYLIGHT
TZOFFSETFROM:-0600
TZOFFSETTO:-0500
TZNAME:CDT
DTSTART:20270314T080000
END:DAYLIGHT
BEGIN:STANDARD
TZOFFSETFROM:-0500
TZOFFSETTO:-0600
TZNAME:CST
DTSTART:20271107T070000
END:STANDARD
END:VTIMEZONE
BEGIN:VEVENT
DTSTART;TZID=America/Chicago:20260408T170000
DTEND;TZID=America/Chicago:20260408T183000
DTSTAMP:20260421T225847
CREATED:20260331T195859Z
LAST-MODIFIED:20260331T200509Z
UID:10009630-1775667600-1775673000@www.luther.edu
SUMMARY:Where Do Your Tax Dollars Go?
DESCRIPTION:Government spending is more than numbers on a spreadsheet. It shapes economic opportunity\, public investment\, and the future our generation will inherit. \nJoin us for a conversation on U.S. fiscal policy and its real-world impact. We will explore how government spending decisions are made\, why elections matter for the economy\, and how global events affect national priorities and budgets at home. \nThis session will break down complex policy questions into clear\, accessible insights and create space for students to ask questions about the economic forces shaping their future. Come for the food\, stay for the conversation. \nFree pizza\, drinks\, and giveaways.
URL:https://www.luther.edu/event/where-do-your-tax-dollars-go
LOCATION:Valders Hall of Science\, 206
CATEGORIES:Current Students,Faculty and Staff,Local,Student Orgs
END:VEVENT
BEGIN:VEVENT
DTSTART;TZID=America/Chicago:20251101T130000
DTEND;TZID=America/Chicago:20251101T140000
DTSTAMP:20260421T225847
CREATED:20251008T205009Z
LAST-MODIFIED:20251030T155818Z
UID:10007732-1762002000-1762005600@www.luther.edu
SUMMARY:"Where Does $1 Trillion Go?" Day of Action at Luther College
DESCRIPTION:Luther College students are invited to join the Up to Us – Luther College team for an interactive civic engagement event focused on understanding the U.S. national debt and its implications for our generation’s economic future. The event\, titled “Where Does $1 Trillion Go?”\, will feature four interactive sessions—Federal Budget 101\, Generational Debt\, Interest vs. Investment\, and Student Voices—that help participants explore how national fiscal choices impact higher education\, job opportunities\, and long-term financial stability. \nParticipants will have the opportunity to take part in a Congressional postcard-writing activity\, engage in short budget simulations\, and sign the Up to Us pledge to make their voices heard on fiscal responsibility. Free pizza\, snacks\, and raffle prizes will be available to attendees who complete all sessions or share their experiences on social media using #UpToUs and @UpToUs_LutherCollege. \nThis event is part of the national Up to Us campaign\, a nonpartisan initiative that empowers students across the country to build awareness and dialogue around the national debt and generational equity. Open exclusively to Luther College students\, faculty\, and community members. \nregistration is encouraged
URL:https://www.luther.edu/event/where-1-trillion-go-day-of-action-at-luther-college
LOCATION:Olin 102
CATEGORIES:Current Students,Faculty and Staff,Local
END:VEVENT
END:VCALENDAR