BEGIN:VCALENDAR
VERSION:2.0
PRODID:-//Luther College - ECPv6.15.18//NONSGML v1.0//EN
CALSCALE:GREGORIAN
METHOD:PUBLISH
X-WR-CALNAME:Luther College
X-ORIGINAL-URL:https://www.luther.edu
X-WR-CALDESC:Events for Luther College
REFRESH-INTERVAL;VALUE=DURATION:PT1H
X-Robots-Tag:noindex
X-PUBLISHED-TTL:PT1H
BEGIN:VTIMEZONE
TZID:America/Chicago
BEGIN:DAYLIGHT
TZOFFSETFROM:-0600
TZOFFSETTO:-0500
TZNAME:CDT
DTSTART:20250309T080000
END:DAYLIGHT
BEGIN:STANDARD
TZOFFSETFROM:-0500
TZOFFSETTO:-0600
TZNAME:CST
DTSTART:20251102T070000
END:STANDARD
BEGIN:DAYLIGHT
TZOFFSETFROM:-0600
TZOFFSETTO:-0500
TZNAME:CDT
DTSTART:20260308T080000
END:DAYLIGHT
BEGIN:STANDARD
TZOFFSETFROM:-0500
TZOFFSETTO:-0600
TZNAME:CST
DTSTART:20261101T070000
END:STANDARD
BEGIN:DAYLIGHT
TZOFFSETFROM:-0600
TZOFFSETTO:-0500
TZNAME:CDT
DTSTART:20270314T080000
END:DAYLIGHT
BEGIN:STANDARD
TZOFFSETFROM:-0500
TZOFFSETTO:-0600
TZNAME:CST
DTSTART:20271107T070000
END:STANDARD
END:VTIMEZONE
BEGIN:VEVENT
DTSTART;TZID=America/Chicago:20260523T133000
DTEND;TZID=America/Chicago:20260523T153000
DTSTAMP:20260422T013429
CREATED:20250605T153703Z
LAST-MODIFIED:20260217T215538Z
UID:10006280-1779543000-1779550200@www.luther.edu
SUMMARY:Saturday Showcase Concert with Symphony Orchestra and Jazz Orchestra
DESCRIPTION:The Saturday Showcase Concert with Symphony Orchestra and Jazz Orchestra will take place in the Center for Faith and Life main hall at 1:30 p.m.. \nSymphony Orchestra—Dennis Friesen-Carper\, conductor \nJazz Orchestra—Tony Guzmán ‘90\, conductor \nWatch the livestream on the Music Department YouTube Channel
URL:https://www.luther.edu/event/saturday-showcase-concert-with-symphony-orchestra-and-jazz-orchestra-2
LOCATION:Center for Faith and Life\, Main Hall
CATEGORIES:Commencement,Current Students,Faculty and Staff,Local,Music,Parents and Families
ORGANIZER;CN="Department of Music":MAILTO:musicdeptinfo@luther.edu
END:VEVENT
BEGIN:VEVENT
DTSTART;TZID=America/Chicago:20260523T200000
DTEND;TZID=America/Chicago:20260523T210000
DTSTAMP:20260422T013429
CREATED:20240611T192239Z
LAST-MODIFIED:20260217T220933Z
UID:10003933-1779566400-1779570000@www.luther.edu
SUMMARY:Baccalaureate: A Service of Blessings
DESCRIPTION:Guests are to be seated by 7:45 p.m. Graduates wear their caps and gowns and will receive instructions for processing and sitting together as a class.   \nA longstanding Luther tradition\, Baccalaureate is a ceremony of music\, blessings\, and prayers for graduates and their families. Reflecting the “rooted and open” nature of our Lutheran college and its ministries\, this service is for all students\, families\, and guests\, across denominations and faith traditions. A freewill offering will be taken and designated to local and global charities in honor of the senior class. \nA livestream of Baccalaureate can be viewed at luther.edu/commencement.
URL:https://www.luther.edu/event/baccalaureate-a-service-of-blessings-3
LOCATION:Center for Faith and Life\, Main Hall
CATEGORIES:College Ministries,Commencement,Current Students,Faculty and Staff,Parents and Families
ORGANIZER;CN="College Ministries":MAILTO:ministry@luther.edu
END:VEVENT
END:VCALENDAR