BEGIN:VCALENDAR
VERSION:2.0
PRODID:-//Luther College - ECPv6.15.18//NONSGML v1.0//EN
CALSCALE:GREGORIAN
METHOD:PUBLISH
X-WR-CALNAME:Luther College
X-ORIGINAL-URL:https://www.luther.edu
X-WR-CALDESC:Events for Luther College
REFRESH-INTERVAL;VALUE=DURATION:PT1H
X-Robots-Tag:noindex
X-PUBLISHED-TTL:PT1H
BEGIN:VTIMEZONE
TZID:America/Chicago
BEGIN:DAYLIGHT
TZOFFSETFROM:-0600
TZOFFSETTO:-0500
TZNAME:CDT
DTSTART:20250309T080000
END:DAYLIGHT
BEGIN:STANDARD
TZOFFSETFROM:-0500
TZOFFSETTO:-0600
TZNAME:CST
DTSTART:20251102T070000
END:STANDARD
BEGIN:DAYLIGHT
TZOFFSETFROM:-0600
TZOFFSETTO:-0500
TZNAME:CDT
DTSTART:20260308T080000
END:DAYLIGHT
BEGIN:STANDARD
TZOFFSETFROM:-0500
TZOFFSETTO:-0600
TZNAME:CST
DTSTART:20261101T070000
END:STANDARD
BEGIN:DAYLIGHT
TZOFFSETFROM:-0600
TZOFFSETTO:-0500
TZNAME:CDT
DTSTART:20270314T080000
END:DAYLIGHT
BEGIN:STANDARD
TZOFFSETFROM:-0500
TZOFFSETTO:-0600
TZNAME:CST
DTSTART:20271107T070000
END:STANDARD
BEGIN:DAYLIGHT
TZOFFSETFROM:-0600
TZOFFSETTO:-0500
TZNAME:CDT
DTSTART:20280312T080000
END:DAYLIGHT
BEGIN:STANDARD
TZOFFSETFROM:-0500
TZOFFSETTO:-0600
TZNAME:CST
DTSTART:20281105T070000
END:STANDARD
END:VTIMEZONE
BEGIN:VEVENT
DTSTART;VALUE=DATE:20260829
DTEND;VALUE=DATE:20260902
DTSTAMP:20260422T140452
CREATED:20250609T142448Z
LAST-MODIFIED:20250609T143512Z
UID:10006287-1787961600-1788307199@www.luther.edu
SUMMARY:Orientation of New Students
DESCRIPTION:
URL:https://www.luther.edu/event/orientation-of-new-students-2
LOCATION:Luther College
CATEGORIES:Current Students,Faculty and Staff,Parents and Families
END:VEVENT
BEGIN:VEVENT
DTSTART;VALUE=DATE:20260830
DTEND;VALUE=DATE:20260902
DTSTAMP:20260422T140452
CREATED:20250609T143311Z
LAST-MODIFIED:20250609T143311Z
UID:10006288-1788048000-1788307199@www.luther.edu
SUMMARY:Returning Students Arrive
DESCRIPTION:
URL:https://www.luther.edu/event/returning-students-arrive-3
LOCATION:Luther College
CATEGORIES:Current Students,Faculty and Staff,Parents and Families
END:VEVENT
BEGIN:VEVENT
DTSTART;VALUE=DATE:20260902
DTEND;VALUE=DATE:20260903
DTSTAMP:20260422T140452
CREATED:20250609T143649Z
LAST-MODIFIED:20250609T143649Z
UID:10006289-1788307200-1788393599@www.luther.edu
SUMMARY:Fall Semester Classes Begin
DESCRIPTION:
URL:https://www.luther.edu/event/fall-semester-classes-begin-3
LOCATION:Luther College
CATEGORIES:Current Students,Faculty and Staff,Parents and Families
END:VEVENT
BEGIN:VEVENT
DTSTART;VALUE=DATE:20260911
DTEND;VALUE=DATE:20260912
DTSTAMP:20260422T140452
CREATED:20250609T144051Z
LAST-MODIFIED:20250609T144051Z
UID:10006290-1789084800-1789171199@www.luther.edu
SUMMARY:Last day to add or drop (without a "W") full semester classes
DESCRIPTION:
URL:https://www.luther.edu/event/last-day-to-add-or-drop-without-a-w-full-semester-classes-4
LOCATION:Luther College
CATEGORIES:Current Students,Faculty and Staff,Parents and Families
END:VEVENT
BEGIN:VEVENT
DTSTART;TZID=America/Chicago:20260918T080000
DTEND;TZID=America/Chicago:20260920T170000
DTSTAMP:20260422T140452
CREATED:20250609T144420Z
LAST-MODIFIED:20250609T144420Z
UID:10006291-1789718400-1789923600@www.luther.edu
SUMMARY:Family Weekend
DESCRIPTION:
URL:https://www.luther.edu/event/family-weekend-7
CATEGORIES:Current Students,Faculty and Staff,Parents and Families
END:VEVENT
BEGIN:VEVENT
DTSTART;VALUE=DATE:20261002
DTEND;VALUE=DATE:20261005
DTSTAMP:20260422T140452
CREATED:20250908T181323Z
LAST-MODIFIED:20260417T213919Z
UID:10006524-1790899200-1791158399@www.luther.edu
SUMMARY:Homecoming
DESCRIPTION:see the schedule of events
URL:https://www.luther.edu/event/homecoming-2
LOCATION:Luther College
CATEGORIES:Alumni and Friends,Current Students,Faculty and Staff,Parents and Families
END:VEVENT
BEGIN:VEVENT
DTSTART;VALUE=DATE:20261016
DTEND;VALUE=DATE:20261017
DTSTAMP:20260422T140452
CREATED:20250609T190645Z
LAST-MODIFIED:20250609T190645Z
UID:10006294-1792108800-1792195199@www.luther.edu
SUMMARY:End of First Half of Semester
DESCRIPTION:
URL:https://www.luther.edu/event/end-of-first-half-of-semester-5
LOCATION:Luther College
CATEGORIES:Current Students,Faculty and Staff,Parents and Families
END:VEVENT
BEGIN:VEVENT
DTSTART;TZID=America/Chicago:20261017T080000
DTEND;TZID=America/Chicago:20261021T170000
DTSTAMP:20260422T140452
CREATED:20250609T190808Z
LAST-MODIFIED:20250609T190808Z
UID:10006295-1792224000-1792602000@www.luther.edu
SUMMARY:Fall vacation
DESCRIPTION:
URL:https://www.luther.edu/event/fall-vacation
LOCATION:Luther College
CATEGORIES:Current Students,Faculty and Staff,Parents and Families
END:VEVENT
BEGIN:VEVENT
DTSTART;VALUE=DATE:20261030
DTEND;VALUE=DATE:20261031
DTSTAMP:20260422T140452
CREATED:20250609T191037Z
LAST-MODIFIED:20250609T191038Z
UID:10006296-1793318400-1793404799@www.luther.edu
SUMMARY:Last Day to Withdraw from Full Semester Class with "W"
DESCRIPTION:
URL:https://www.luther.edu/event/last-day-to-withdraw-from-full-semester-class-with-w-3
CATEGORIES:Current Students,Faculty and Staff,Parents and Families
END:VEVENT
BEGIN:VEVENT
DTSTART;TZID=America/Chicago:20261125T080000
DTEND;TZID=America/Chicago:20261129T170000
DTSTAMP:20260422T140452
CREATED:20250609T191210Z
LAST-MODIFIED:20250609T191210Z
UID:10006297-1795593600-1795971600@www.luther.edu
SUMMARY:Thanksgiving Vacation
DESCRIPTION:
URL:https://www.luther.edu/event/thanksgiving-vacation
LOCATION:Luther College
CATEGORIES:Current Students,Faculty and Staff,Parents and Families
END:VEVENT
BEGIN:VEVENT
DTSTART;VALUE=DATE:20261211
DTEND;VALUE=DATE:20261212
DTSTAMP:20260422T140452
CREATED:20250609T193754Z
LAST-MODIFIED:20250609T193754Z
UID:10006299-1796947200-1797033599@www.luther.edu
SUMMARY:Last day of classes
DESCRIPTION:
URL:https://www.luther.edu/event/last-day-of-classes-5
CATEGORIES:Current Students,Faculty and Staff,Parents and Families
END:VEVENT
BEGIN:VEVENT
DTSTART;VALUE=DATE:20261214
DTEND;VALUE=DATE:20261218
DTSTAMP:20260422T140452
CREATED:20250610T133517Z
LAST-MODIFIED:20250610T133517Z
UID:10006300-1797206400-1797551999@www.luther.edu
SUMMARY:Final examinations
DESCRIPTION:
URL:https://www.luther.edu/event/final-examinations-6
CATEGORIES:Current Students,Faculty and Staff,Parents and Families
END:VEVENT
BEGIN:VEVENT
DTSTART;VALUE=DATE:20261218
DTEND;VALUE=DATE:20270104
DTSTAMP:20260422T140452
CREATED:20260421T201605Z
LAST-MODIFIED:20260421T201605Z
UID:10010166-1797552000-1799020799@www.luther.edu
SUMMARY:Winter Break
DESCRIPTION:
URL:https://www.luther.edu/event/winter-break
CATEGORIES:Current Students,Faculty and Staff,Parents and Families
END:VEVENT
BEGIN:VEVENT
DTSTART;VALUE=DATE:20270104
DTEND;VALUE=DATE:20270105
DTSTAMP:20260422T140452
CREATED:20250610T154328Z
LAST-MODIFIED:20250610T154328Z
UID:10006320-1799020800-1799107199@www.luther.edu
SUMMARY:J-Term Begins
DESCRIPTION:
URL:https://www.luther.edu/event/j-term-begins
CATEGORIES:Current Students,Faculty and Staff,Parents and Families
END:VEVENT
BEGIN:VEVENT
DTSTART;VALUE=DATE:20270127
DTEND;VALUE=DATE:20270128
DTSTAMP:20260422T140452
CREATED:20250610T154411Z
LAST-MODIFIED:20250610T154411Z
UID:10006321-1801008000-1801094399@www.luther.edu
SUMMARY:J-Term Ends
DESCRIPTION:
URL:https://www.luther.edu/event/j-term-ends
CATEGORIES:Current Students,Faculty and Staff,Parents and Families
END:VEVENT
BEGIN:VEVENT
DTSTART;VALUE=DATE:20270128
DTEND;VALUE=DATE:20270204
DTSTAMP:20260422T140452
CREATED:20260107T200716Z
LAST-MODIFIED:20260107T200716Z
UID:10009354-1801094400-1801699199@www.luther.edu
SUMMARY:J-Term Break
DESCRIPTION:
URL:https://www.luther.edu/event/j-term-break
CATEGORIES:Current Students,Faculty and Staff,Parents and Families
END:VEVENT
BEGIN:VEVENT
DTSTART;VALUE=DATE:20270204
DTEND;VALUE=DATE:20270205
DTSTAMP:20260422T140452
CREATED:20250610T141615Z
LAST-MODIFIED:20250610T154053Z
UID:10006302-1801699200-1801785599@www.luther.edu
SUMMARY:Spring Semester Classes Begin
DESCRIPTION:
URL:https://www.luther.edu/event/spring-semester-classes-begin-3
CATEGORIES:Current Students,Faculty and Staff,Parents and Families
END:VEVENT
BEGIN:VEVENT
DTSTART;VALUE=DATE:20270212
DTEND;VALUE=DATE:20270213
DTSTAMP:20260422T140452
CREATED:20250610T142050Z
LAST-MODIFIED:20250610T142050Z
UID:10006304-1802390400-1802476799@www.luther.edu
SUMMARY:Last Day to Add or Drop (Without a "W") Full Semester Classes
DESCRIPTION:
URL:https://www.luther.edu/event/last-day-to-add-or-drop-without-a-w-full-semester-classes-5
LOCATION:Luther College
CATEGORIES:Current Students,Faculty and Staff,Parents and Families
END:VEVENT
BEGIN:VEVENT
DTSTART;VALUE=DATE:20270319
DTEND;VALUE=DATE:20270320
DTSTAMP:20260422T140452
CREATED:20250610T142233Z
LAST-MODIFIED:20250610T142233Z
UID:10006305-1805414400-1805500799@www.luther.edu
SUMMARY:End of First Half of Semester
DESCRIPTION:
URL:https://www.luther.edu/event/end-of-first-half-of-semester-6
LOCATION:Luther College
CATEGORIES:Current Students,Faculty and Staff,Parents and Families
END:VEVENT
BEGIN:VEVENT
DTSTART;TZID=America/Chicago:20270320T080000
DTEND;TZID=America/Chicago:20270329T170000
DTSTAMP:20260422T140452
CREATED:20250610T143930Z
LAST-MODIFIED:20250610T143930Z
UID:10006306-1805529600-1806339600@www.luther.edu
SUMMARY:Spring Vacation
DESCRIPTION:
URL:https://www.luther.edu/event/spring-vacation
LOCATION:Luther College
CATEGORIES:Current Students,Faculty and Staff,Parents and Families
END:VEVENT
BEGIN:VEVENT
DTSTART;TZID=America/Chicago:20270326T080000
DTEND;TZID=America/Chicago:20270329T170000
DTSTAMP:20260422T140452
CREATED:20250610T144350Z
LAST-MODIFIED:20250610T144350Z
UID:10006309-1806048000-1806339600@www.luther.edu
SUMMARY:Easter Vacation
DESCRIPTION:
URL:https://www.luther.edu/event/easter-vacation
CATEGORIES:Current Students,Faculty and Staff,Parents and Families
END:VEVENT
BEGIN:VEVENT
DTSTART;VALUE=DATE:20270406
DTEND;VALUE=DATE:20270407
DTSTAMP:20260422T140452
CREATED:20250610T144143Z
LAST-MODIFIED:20250610T144143Z
UID:10006308-1806969600-1807055999@www.luther.edu
SUMMARY:Last Day to Withdraw from Full Semester Class with "W"
DESCRIPTION:
URL:https://www.luther.edu/event/last-day-to-withdraw-from-full-semester-class-with-w-4
CATEGORIES:Current Students,Faculty and Staff,Parents and Families
END:VEVENT
BEGIN:VEVENT
DTSTART;VALUE=DATE:20270507
DTEND;VALUE=DATE:20270508
DTSTAMP:20260422T140452
CREATED:20250610T145624Z
LAST-MODIFIED:20250610T145624Z
UID:10006310-1809648000-1809734399@www.luther.edu
SUMMARY:Learning @ Luther Showcase (no classes)
DESCRIPTION:
URL:https://www.luther.edu/event/learning-luther-showcase-no-classes-3
CATEGORIES:Current Students,Faculty and Staff,Parents and Families
END:VEVENT
BEGIN:VEVENT
DTSTART;VALUE=DATE:20270514
DTEND;VALUE=DATE:20270515
DTSTAMP:20260422T140452
CREATED:20250610T145853Z
LAST-MODIFIED:20250610T145853Z
UID:10006311-1810252800-1810339199@www.luther.edu
SUMMARY:Last day of classes
DESCRIPTION:
URL:https://www.luther.edu/event/last-day-of-classes-6
CATEGORIES:Current Students,Faculty and Staff,Parents and Families
END:VEVENT
BEGIN:VEVENT
DTSTART;VALUE=DATE:20270517
DTEND;VALUE=DATE:20270521
DTSTAMP:20260422T140452
CREATED:20250610T150011Z
LAST-MODIFIED:20250610T150011Z
UID:10006312-1810512000-1810857599@www.luther.edu
SUMMARY:Final Examinations
DESCRIPTION:
URL:https://www.luther.edu/event/final-examinations-7
CATEGORIES:Current Students,Faculty and Staff,Parents and Families
END:VEVENT
BEGIN:VEVENT
DTSTART;TZID=America/Chicago:20270523T090000
DTEND;TZID=America/Chicago:20270523T110000
DTSTAMP:20260422T140452
CREATED:20250610T150157Z
LAST-MODIFIED:20250610T150157Z
UID:10006313-1811062800-1811070000@www.luther.edu
SUMMARY:Commencement
DESCRIPTION:Speaker: To be announced \nNo tickets are required for the outdoor ceremony. Please be seated by 8:45 a.m.
URL:https://www.luther.edu/event/commencement
CATEGORIES:Current Students,Faculty and Staff,Parents and Families
END:VEVENT
BEGIN:VEVENT
DTSTART;VALUE=DATE:20270601
DTEND;VALUE=DATE:20270602
DTSTAMP:20260422T140452
CREATED:20250610T151846Z
LAST-MODIFIED:20250610T151846Z
UID:10006314-1811808000-1811894399@www.luther.edu
SUMMARY:Summer Term / Summer Session I Begins
DESCRIPTION:
URL:https://www.luther.edu/event/summer-term-summer-session-i-begins
LOCATION:Luther College
CATEGORIES:Current Students,Faculty and Staff,Parents and Families
END:VEVENT
BEGIN:VEVENT
DTSTART;VALUE=DATE:20270625
DTEND;VALUE=DATE:20270626
DTSTAMP:20260422T140452
CREATED:20250610T151916Z
LAST-MODIFIED:20250610T151916Z
UID:10006315-1813881600-1813967999@www.luther.edu
SUMMARY:Summer Session I Ends
DESCRIPTION:
URL:https://www.luther.edu/event/summer-session-i-ends-4
LOCATION:Luther College
CATEGORIES:Current Students,Faculty and Staff,Parents and Families
END:VEVENT
BEGIN:VEVENT
DTSTART;VALUE=DATE:20270628
DTEND;VALUE=DATE:20270629
DTSTAMP:20260422T140452
CREATED:20250610T152054Z
LAST-MODIFIED:20250610T152054Z
UID:10006316-1814140800-1814227199@www.luther.edu
SUMMARY:Summer Session 2 Begins
DESCRIPTION:
URL:https://www.luther.edu/event/summer-session-2-begins
LOCATION:Luther College
CATEGORIES:Current Students,Faculty and Staff,Parents and Families
END:VEVENT
BEGIN:VEVENT
DTSTART;VALUE=DATE:20270723
DTEND;VALUE=DATE:20270724
DTSTAMP:20260422T140452
CREATED:20250610T152215Z
LAST-MODIFIED:20250610T152215Z
UID:10006317-1816300800-1816387199@www.luther.edu
SUMMARY:Summer Session 2 Ends
DESCRIPTION:
URL:https://www.luther.edu/event/summer-session-2-ends
LOCATION:Luther College
CATEGORIES:Current Students,Faculty and Staff,Parents and Families
END:VEVENT
BEGIN:VEVENT
DTSTART;VALUE=DATE:20270726
DTEND;VALUE=DATE:20270727
DTSTAMP:20260422T140452
CREATED:20250610T152244Z
LAST-MODIFIED:20250610T152244Z
UID:10006318-1816560000-1816646399@www.luther.edu
SUMMARY:Summer Session 3 Begins
DESCRIPTION:
URL:https://www.luther.edu/event/summer-session-3-begins
LOCATION:Luther College
CATEGORIES:Current Students,Faculty and Staff,Parents and Families
END:VEVENT
BEGIN:VEVENT
DTSTART;VALUE=DATE:20270820
DTEND;VALUE=DATE:20270821
DTSTAMP:20260422T140452
CREATED:20250610T152325Z
LAST-MODIFIED:20250610T152325Z
UID:10006319-1818720000-1818806399@www.luther.edu
SUMMARY:Summer Term / Summer Session 3 Ends
DESCRIPTION:
URL:https://www.luther.edu/event/summer-term-summer-session-3-ends
LOCATION:Luther College
CATEGORIES:Current Students,Faculty and Staff,Parents and Families
END:VEVENT
END:VCALENDAR