BEGIN:VCALENDAR
VERSION:2.0
PRODID:-//Luther College - ECPv6.15.18//NONSGML v1.0//EN
CALSCALE:GREGORIAN
METHOD:PUBLISH
X-ORIGINAL-URL:https://www.luther.edu
X-WR-CALDESC:Events for Luther College
REFRESH-INTERVAL;VALUE=DURATION:PT1H
X-Robots-Tag:noindex
X-PUBLISHED-TTL:PT1H
BEGIN:VTIMEZONE
TZID:America/Chicago
BEGIN:DAYLIGHT
TZOFFSETFROM:-0600
TZOFFSETTO:-0500
TZNAME:CDT
DTSTART:20250309T080000
END:DAYLIGHT
BEGIN:STANDARD
TZOFFSETFROM:-0500
TZOFFSETTO:-0600
TZNAME:CST
DTSTART:20251102T070000
END:STANDARD
BEGIN:DAYLIGHT
TZOFFSETFROM:-0600
TZOFFSETTO:-0500
TZNAME:CDT
DTSTART:20260308T080000
END:DAYLIGHT
BEGIN:STANDARD
TZOFFSETFROM:-0500
TZOFFSETTO:-0600
TZNAME:CST
DTSTART:20261101T070000
END:STANDARD
BEGIN:DAYLIGHT
TZOFFSETFROM:-0600
TZOFFSETTO:-0500
TZNAME:CDT
DTSTART:20270314T080000
END:DAYLIGHT
BEGIN:STANDARD
TZOFFSETFROM:-0500
TZOFFSETTO:-0600
TZNAME:CST
DTSTART:20271107T070000
END:STANDARD
END:VTIMEZONE
BEGIN:VEVENT
DTSTART;TZID=America/Chicago:20260423T190000
DTEND;TZID=America/Chicago:20260423T210000
DTSTAMP:20260422T164927
CREATED:20260410T183611Z
LAST-MODIFIED:20260420T150948Z
UID:10010128-1776970800-1776978000@www.luther.edu
SUMMARY:Collegiate Chorale Tour - Nevada\, Iowa
DESCRIPTION:The Luther College Collegiate Chorale\, under the direction of Adrianna Tam\, performs at Memorial Lutheran Church (701 11th St.\, Nevada\, Iowa 50201) at 7:00 p.m. on Thursday\, April 23. \nNo tickets needed; a free will donation will be collected to support the choir. \nview the program
URL:https://www.luther.edu/event/collegiate-chorale-tour-nevada-iowa
CATEGORIES:Music
ORGANIZER;CN="Department of Music":MAILTO:musicdeptinfo@luther.edu
END:VEVENT
BEGIN:VEVENT
DTSTART;TZID=America/Chicago:20260423T190000
DTEND;TZID=America/Chicago:20260423T210000
DTSTAMP:20260422T164927
CREATED:20260410T191618Z
LAST-MODIFIED:20260420T144153Z
UID:10010134-1776970800-1776978000@www.luther.edu
SUMMARY:Cathedral Choir Tour - Buffalo\, Minnesota
DESCRIPTION:The Luther College Cathedral Choir\, under the direction of Mark Potvin\, performs at Buffalo High School (877 Dague Avenue NE\, Buffalo\, Minnesota\, 55313) at 7:00 p.m. on Thursday\, April 23. \nNo tickets needed; a free will donation will be collected to support the choir. \nview the program
URL:https://www.luther.edu/event/cathedral-choir-tour-buffalo-minnesota-2
CATEGORIES:Music
ORGANIZER;CN="Department of Music":MAILTO:musicdeptinfo@luther.edu
END:VEVENT
END:VCALENDAR