BEGIN:VCALENDAR
VERSION:2.0
PRODID:-//Luther College - ECPv6.15.18//NONSGML v1.0//EN
CALSCALE:GREGORIAN
METHOD:PUBLISH
X-WR-CALNAME:Luther College
X-ORIGINAL-URL:https://www.luther.edu
X-WR-CALDESC:Events for Luther College
REFRESH-INTERVAL;VALUE=DURATION:PT1H
X-Robots-Tag:noindex
X-PUBLISHED-TTL:PT1H
BEGIN:VTIMEZONE
TZID:America/Chicago
BEGIN:DAYLIGHT
TZOFFSETFROM:-0600
TZOFFSETTO:-0500
TZNAME:CDT
DTSTART:20250309T080000
END:DAYLIGHT
BEGIN:STANDARD
TZOFFSETFROM:-0500
TZOFFSETTO:-0600
TZNAME:CST
DTSTART:20251102T070000
END:STANDARD
BEGIN:DAYLIGHT
TZOFFSETFROM:-0600
TZOFFSETTO:-0500
TZNAME:CDT
DTSTART:20260308T080000
END:DAYLIGHT
BEGIN:STANDARD
TZOFFSETFROM:-0500
TZOFFSETTO:-0600
TZNAME:CST
DTSTART:20261101T070000
END:STANDARD
BEGIN:DAYLIGHT
TZOFFSETFROM:-0600
TZOFFSETTO:-0500
TZNAME:CDT
DTSTART:20270314T080000
END:DAYLIGHT
BEGIN:STANDARD
TZOFFSETFROM:-0500
TZOFFSETTO:-0600
TZNAME:CST
DTSTART:20271107T070000
END:STANDARD
END:VTIMEZONE
BEGIN:VEVENT
DTSTART;TZID=America/Chicago:20260417T193000
DTEND;TZID=America/Chicago:20260417T210000
DTSTAMP:20260420T042255
CREATED:20250818T195350Z
LAST-MODIFIED:20251216T205219Z
UID:10006492-1776454200-1776459600@www.luther.edu
SUMMARY:Center Stage Series: Ukulele Orchestra of Great Britain
DESCRIPTION:Enjoy a musical whirlwind through genres that’s funny\, thought-provoking and played entirely on ukuleles. The Ukulele Orchestra of Great Britain is always surprising\, so come without expectations — except the expectation to laugh. \nPURCHASE TICKETS \nThe Center Stage Series is made possible by the generous support of major season sponsors\, including Decorah Bank and Trust\, Emplify Health by Gundersen\, Kurtich Endowment for Campus Programming\, Minnesota Public Radio\, Torgerson Center for Nordic Studies and Vesterheim Museum.
URL:https://www.luther.edu/event/center-stage-series-ukulele-orchestra-of-great-britain
LOCATION:Center for Faith and Life\, Main Hall
CATEGORIES:Current Students,Faculty and Staff,Local,Music,Parents and Families
ATTACH;FMTTYPE=image/png:https://www.luther.edu/wp-content/uploads/2025/08/FOR-COE-Ukulele-Orch.-of-Great-Britain.png
ORGANIZER;CN="Programming and Outreach":MAILTO:programming@luther.edu
END:VEVENT
END:VCALENDAR