BEGIN:VCALENDAR
VERSION:2.0
PRODID:-//Luther College - ECPv6.15.18//NONSGML v1.0//EN
CALSCALE:GREGORIAN
METHOD:PUBLISH
X-WR-CALNAME:Luther College
X-ORIGINAL-URL:https://www.luther.edu
X-WR-CALDESC:Events for Luther College
REFRESH-INTERVAL;VALUE=DURATION:PT1H
X-Robots-Tag:noindex
X-PUBLISHED-TTL:PT1H
BEGIN:VTIMEZONE
TZID:America/Chicago
BEGIN:DAYLIGHT
TZOFFSETFROM:-0600
TZOFFSETTO:-0500
TZNAME:CDT
DTSTART:20250309T080000
END:DAYLIGHT
BEGIN:STANDARD
TZOFFSETFROM:-0500
TZOFFSETTO:-0600
TZNAME:CST
DTSTART:20251102T070000
END:STANDARD
BEGIN:DAYLIGHT
TZOFFSETFROM:-0600
TZOFFSETTO:-0500
TZNAME:CDT
DTSTART:20260308T080000
END:DAYLIGHT
BEGIN:STANDARD
TZOFFSETFROM:-0500
TZOFFSETTO:-0600
TZNAME:CST
DTSTART:20261101T070000
END:STANDARD
BEGIN:DAYLIGHT
TZOFFSETFROM:-0600
TZOFFSETTO:-0500
TZNAME:CDT
DTSTART:20270314T080000
END:DAYLIGHT
BEGIN:STANDARD
TZOFFSETFROM:-0500
TZOFFSETTO:-0600
TZNAME:CST
DTSTART:20271107T070000
END:STANDARD
END:VTIMEZONE
BEGIN:VEVENT
DTSTART;TZID=America/Chicago:20260409T094000
DTEND;TZID=America/Chicago:20260409T110000
DTSTAMP:20260422T102640
CREATED:20260401T181605Z
LAST-MODIFIED:20260401T181605Z
UID:10009635-1775727600-1775732400@www.luther.edu
SUMMARY:Composer Jodi Goble and Librettist/Soprano Victoria Erickson on the Business of Making Art
DESCRIPTION:Composer Jodi Goble and Librettist/Soprano Victoria Erickson on the Business of Making Art Lecture on Thursday\, April 9th at 9:40am in the Noble Recital Hall in Jenson-Noble.
URL:https://www.luther.edu/event/composer-jodi-goble-and-librettist-soprano-victoria-erickson-on-the-business-of-making-art
LOCATION:Jenson-Noble Hall of Music\, Noble Recital Hall
CATEGORIES:Music
ORGANIZER;CN="Department of Music":MAILTO:musicdeptinfo@luther.edu
END:VEVENT
END:VCALENDAR