BEGIN:VCALENDAR
VERSION:2.0
PRODID:-//Luther College - ECPv6.15.18//NONSGML v1.0//EN
CALSCALE:GREGORIAN
METHOD:PUBLISH
X-ORIGINAL-URL:https://www.luther.edu
X-WR-CALDESC:Events for Luther College
REFRESH-INTERVAL;VALUE=DURATION:PT1H
X-Robots-Tag:noindex
X-PUBLISHED-TTL:PT1H
BEGIN:VTIMEZONE
TZID:America/Chicago
BEGIN:DAYLIGHT
TZOFFSETFROM:-0600
TZOFFSETTO:-0500
TZNAME:CDT
DTSTART:20250309T080000
END:DAYLIGHT
BEGIN:STANDARD
TZOFFSETFROM:-0500
TZOFFSETTO:-0600
TZNAME:CST
DTSTART:20251102T070000
END:STANDARD
BEGIN:DAYLIGHT
TZOFFSETFROM:-0600
TZOFFSETTO:-0500
TZNAME:CDT
DTSTART:20260308T080000
END:DAYLIGHT
BEGIN:STANDARD
TZOFFSETFROM:-0500
TZOFFSETTO:-0600
TZNAME:CST
DTSTART:20261101T070000
END:STANDARD
BEGIN:DAYLIGHT
TZOFFSETFROM:-0600
TZOFFSETTO:-0500
TZNAME:CDT
DTSTART:20270314T080000
END:DAYLIGHT
BEGIN:STANDARD
TZOFFSETFROM:-0500
TZOFFSETTO:-0600
TZNAME:CST
DTSTART:20271107T070000
END:STANDARD
END:VTIMEZONE
BEGIN:VEVENT
DTSTART;TZID=America/Chicago:20260530T130000
DTEND;TZID=America/Chicago:20260530T163000
DTSTAMP:20260422T040236
CREATED:20260112T202606Z
LAST-MODIFIED:20260310T201603Z
UID:10009360-1780146000-1780158600@www.luther.edu
SUMMARY:Blaise Schaeffer '16 Celebration of Life
DESCRIPTION:A celebration of Blaise’s life will be held on Saturday May 30\, 2026 at Peace Dining Hall from 1:00-4:30 p.m. on the campus of Luther College in Decorah\, Iowa. Please arrive promptly\, as the celebration starts at 1:00 p.m. with a video of Blaise’s wonderful life\, followed by an opportunity for family and friends to share their Blaise stories. Food and fellowship will then be available. Afterwards\, at 4:00 p.m.\, we will proceed to the soccer pitch at Luther as a final honor to Blaise. \nRSVP by April 30 \nIn lieu of flowers\, donations in Blaise’s memory can be directed to the Blaise Schaeffer Memorial Scholarship at Luther College. All gifts can be made online at engage.luther.edu/register/schaeffer-scholarship\nor mailed to the Luther College Advancement Office\, 700 College Dr\, Decorah IA\, 52101 \n 
URL:https://www.luther.edu/event/blaise-schaefer-16-celebration-of-life
LOCATION:Dahl Centennial Union\, Peace Dining Room
CATEGORIES:Faculty and Staff,Local
END:VEVENT
END:VCALENDAR