BEGIN:VCALENDAR
VERSION:2.0
PRODID:-//Luther College - ECPv6.15.18//NONSGML v1.0//EN
CALSCALE:GREGORIAN
METHOD:PUBLISH
X-WR-CALNAME:Luther College
X-ORIGINAL-URL:https://www.luther.edu
X-WR-CALDESC:Events for Luther College
REFRESH-INTERVAL;VALUE=DURATION:PT1H
X-Robots-Tag:noindex
X-PUBLISHED-TTL:PT1H
BEGIN:VTIMEZONE
TZID:America/Chicago
BEGIN:DAYLIGHT
TZOFFSETFROM:-0600
TZOFFSETTO:-0500
TZNAME:CDT
DTSTART:20250309T080000
END:DAYLIGHT
BEGIN:STANDARD
TZOFFSETFROM:-0500
TZOFFSETTO:-0600
TZNAME:CST
DTSTART:20251102T070000
END:STANDARD
BEGIN:DAYLIGHT
TZOFFSETFROM:-0600
TZOFFSETTO:-0500
TZNAME:CDT
DTSTART:20260308T080000
END:DAYLIGHT
BEGIN:STANDARD
TZOFFSETFROM:-0500
TZOFFSETTO:-0600
TZNAME:CST
DTSTART:20261101T070000
END:STANDARD
BEGIN:DAYLIGHT
TZOFFSETFROM:-0600
TZOFFSETTO:-0500
TZNAME:CDT
DTSTART:20270314T080000
END:DAYLIGHT
BEGIN:STANDARD
TZOFFSETFROM:-0500
TZOFFSETTO:-0600
TZNAME:CST
DTSTART:20271107T070000
END:STANDARD
END:VTIMEZONE
BEGIN:VEVENT
DTSTART;VALUE=DATE:20260408
DTEND;VALUE=DATE:20260420
DTSTAMP:20260424T063028
CREATED:20260402T164923Z
LAST-MODIFIED:20260402T182550Z
UID:10009641-1775606400-1776643199@www.luther.edu
SUMMARY:Regents Gym Court Online Auction
DESCRIPTION:The auction is through Sweeney Auction Service. \nAccess the online auction
URL:https://www.luther.edu/event/regents-gym-court-online-auction
CATEGORIES:Current Students,Faculty and Staff,Local
ORGANIZER;CN="Book Shop":MAILTO:bookshop@luther.edu
END:VEVENT
BEGIN:VEVENT
DTSTART;TZID=America/Chicago:20260411T090000
DTEND;TZID=America/Chicago:20260411T130000
DTSTAMP:20260424T063028
CREATED:20251209T221334Z
LAST-MODIFIED:20251209T221334Z
UID:10009273-1775898000-1775912400@www.luther.edu
SUMMARY:Men's Tennis vs. Simpson College
DESCRIPTION:Spring schedules are subject to change due to weather. Please check luthernorse.com for up-to-date information.
URL:https://www.luther.edu/event/mens-tennis-vs-simpson-college
LOCATION:Luther College Tennis Courts
CATEGORIES:Current Students,Faculty and Staff
ORGANIZER;CN="Norse Athletics":MAILTO:sports@luther.edu
END:VEVENT
BEGIN:VEVENT
DTSTART;TZID=America/Chicago:20260411T120000
DTEND;TZID=America/Chicago:20260411T170000
DTSTAMP:20260424T063028
CREATED:20251209T223107Z
LAST-MODIFIED:20251209T223107Z
UID:10009275-1775908800-1775926800@www.luther.edu
SUMMARY:Baseball Doubleheader vs Central College
DESCRIPTION:Spring schedules are subject to change due to weather. Please check luthernorse.com for up-to-date information.
URL:https://www.luther.edu/event/baseball-doubleheader-vs-central-college-3
LOCATION:Luther College Baseball Field
CATEGORIES:Current Students,Faculty and Staff
ORGANIZER;CN="Norse Athletics":MAILTO:sports@luther.edu
END:VEVENT
BEGIN:VEVENT
DTSTART;TZID=America/Chicago:20260411T150000
DTEND;TZID=America/Chicago:20260411T190000
DTSTAMP:20260424T063028
CREATED:20251209T224714Z
LAST-MODIFIED:20251209T224901Z
UID:10009276-1775919600-1775934000@www.luther.edu
SUMMARY:Men's Tennis vs. University of Wisconsin-Stevens Point
DESCRIPTION:Spring schedules are subject to change due to weather. Please check luthernorse.com for up-to-date information.
URL:https://www.luther.edu/event/mens-tennis-vs-university-of-wisconsin-stevens-point
LOCATION:Luther College Tennis Courts
CATEGORIES:Current Students,Faculty and Staff
ORGANIZER;CN="Norse Athletics":MAILTO:sports@luther.edu
END:VEVENT
BEGIN:VEVENT
DTSTART;TZID=America/Chicago:20260411T153000
DTEND;TZID=America/Chicago:20260411T170000
DTSTAMP:20260424T063028
CREATED:20260401T140833Z
LAST-MODIFIED:20260407T153541Z
UID:10009633-1775921400-1775926800@www.luther.edu
SUMMARY:Athletic Hall of Fame Induction for 2004 and 2005 Men's Wrestling Teams
DESCRIPTION:Join us as we induct the 2004 and 2005 Luther Men’s Wrestling teams team into the Luther Athletic Hall of Fame! A brief reception will follow.
URL:https://www.luther.edu/event/athletic-hall-of-fame-induction-for-2004-and-2005-mens-wrestling-teams
LOCATION:Dahl Centennial Union\, Peace Dining Room
CATEGORIES:Current Students,Faculty and Staff,Local
ORGANIZER;CN="Norse Athletics":MAILTO:sports@luther.edu
END:VEVENT
BEGIN:VEVENT
DTSTART;TZID=America/Chicago:20260411T193000
DTEND;TZID=America/Chicago:20260411T213000
DTSTAMP:20260424T063028
CREATED:20250724T184552Z
LAST-MODIFIED:20251118T193157Z
UID:10006453-1775935800-1775943000@www.luther.edu
SUMMARY:SAC Concert: Men I Trust
DESCRIPTION:The SAC team is excites to bring Men I Trust to the Luther Campus. This Canadian indie band\, renowned for their hypnotic melodies and captivating vocals\, has earned acclaim for their distinct approach to music. Known for songs like “Show Me How” and “I Hope To Be Around”\, Men I Trust brings yet another great concert to Luther College. \nIn the weeks leading up to the concert\, tickets will be available at the Luther Ticket Office and at tickets.luther.edu.
URL:https://www.luther.edu/event/sac-concert-men-i-trust
LOCATION:Gerdin Fieldhouse
CATEGORIES:Current Students,Faculty and Staff,Local,Student Orgs
ORGANIZER;CN="SAC (Student Activities Council)":MAILTO:sac@luther.edu
END:VEVENT
END:VCALENDAR