BEGIN:VCALENDAR
VERSION:2.0
PRODID:-//Luther College - ECPv6.15.18//NONSGML v1.0//EN
CALSCALE:GREGORIAN
METHOD:PUBLISH
X-ORIGINAL-URL:https://www.luther.edu
X-WR-CALDESC:Events for Luther College
REFRESH-INTERVAL;VALUE=DURATION:PT1H
X-Robots-Tag:noindex
X-PUBLISHED-TTL:PT1H
BEGIN:VTIMEZONE
TZID:America/Chicago
BEGIN:DAYLIGHT
TZOFFSETFROM:-0600
TZOFFSETTO:-0500
TZNAME:CDT
DTSTART:20250309T080000
END:DAYLIGHT
BEGIN:STANDARD
TZOFFSETFROM:-0500
TZOFFSETTO:-0600
TZNAME:CST
DTSTART:20251102T070000
END:STANDARD
BEGIN:DAYLIGHT
TZOFFSETFROM:-0600
TZOFFSETTO:-0500
TZNAME:CDT
DTSTART:20260308T080000
END:DAYLIGHT
BEGIN:STANDARD
TZOFFSETFROM:-0500
TZOFFSETTO:-0600
TZNAME:CST
DTSTART:20261101T070000
END:STANDARD
BEGIN:DAYLIGHT
TZOFFSETFROM:-0600
TZOFFSETTO:-0500
TZNAME:CDT
DTSTART:20270314T080000
END:DAYLIGHT
BEGIN:STANDARD
TZOFFSETFROM:-0500
TZOFFSETTO:-0600
TZNAME:CST
DTSTART:20271107T070000
END:STANDARD
END:VTIMEZONE
BEGIN:VEVENT
DTSTART;TZID=America/Chicago:20260317T170000
DTEND;TZID=America/Chicago:20260317T190000
DTSTAMP:20260423T193250
CREATED:20260216T193706Z
LAST-MODIFIED:20260216T193800Z
UID:10009494-1773766800-1773774000@www.luther.edu
SUMMARY:Cultural Community Connection at the Landing
DESCRIPTION:We invite you to celebrate Women’s History Month through an event honoring the contributions of women on Tuesday\, March 17 from 5-7 p.m. at the Landing Market in Decorah. Dinner and programming will be provided by the sorority members from Alpha Beta Psi (ABY)\, Beta Theta Omega (BTQ)\, and Tau Delta Gamma (TDG). The cost is $10 per person\, or for students (with ID) attending any college or university and for children 17 and younger\, the cost is $5. No reservations are needed. Sponsored by ABY\, BTQ\, TDG\, and CIES.  \n  \n 
URL:https://www.luther.edu/event/cultural-community-connection-at-the-landing-3
LOCATION:The Landing\, Decorah
CATEGORIES:Current Students,Faculty and Staff,Local
ORGANIZER;CN="Center for Intercultural Engagement and Support":MAILTO:diversity@luther.edu
END:VEVENT
BEGIN:VEVENT
DTSTART;TZID=America/Chicago:20260317T183000
DTEND;TZID=America/Chicago:20260317T200000
DTSTAMP:20260423T193250
CREATED:20260311T162917Z
LAST-MODIFIED:20260311T162917Z
UID:10009553-1773772200-1773777600@www.luther.edu
SUMMARY:History Career Panel
DESCRIPTION:A career panel of local history professionals\, each of whom graduated from Luther College with a history degree\, will describe their journey to gainful employment in their respective fields.  The Career Panel will take place at Baker Village. Refreshments will be provided.
URL:https://www.luther.edu/event/history-career-panel
LOCATION:Baker Commons
CATEGORIES:Current Students,Faculty and Staff
END:VEVENT
END:VCALENDAR