BEGIN:VCALENDAR
VERSION:2.0
PRODID:-//Luther College - ECPv6.15.18//NONSGML v1.0//EN
CALSCALE:GREGORIAN
METHOD:PUBLISH
X-WR-CALNAME:Luther College
X-ORIGINAL-URL:https://www.luther.edu
X-WR-CALDESC:Events for Luther College
REFRESH-INTERVAL;VALUE=DURATION:PT1H
X-Robots-Tag:noindex
X-PUBLISHED-TTL:PT1H
BEGIN:VTIMEZONE
TZID:America/Chicago
BEGIN:DAYLIGHT
TZOFFSETFROM:-0600
TZOFFSETTO:-0500
TZNAME:CDT
DTSTART:20250309T080000
END:DAYLIGHT
BEGIN:STANDARD
TZOFFSETFROM:-0500
TZOFFSETTO:-0600
TZNAME:CST
DTSTART:20251102T070000
END:STANDARD
BEGIN:DAYLIGHT
TZOFFSETFROM:-0600
TZOFFSETTO:-0500
TZNAME:CDT
DTSTART:20260308T080000
END:DAYLIGHT
BEGIN:STANDARD
TZOFFSETFROM:-0500
TZOFFSETTO:-0600
TZNAME:CST
DTSTART:20261101T070000
END:STANDARD
BEGIN:DAYLIGHT
TZOFFSETFROM:-0600
TZOFFSETTO:-0500
TZNAME:CDT
DTSTART:20270314T080000
END:DAYLIGHT
BEGIN:STANDARD
TZOFFSETFROM:-0500
TZOFFSETTO:-0600
TZNAME:CST
DTSTART:20271107T070000
END:STANDARD
END:VTIMEZONE
BEGIN:VEVENT
DTSTART;TZID=America/Chicago:20260308T110000
DTEND;TZID=America/Chicago:20260308T130000
DTSTAMP:20260420T111511
CREATED:20260216T192857Z
LAST-MODIFIED:20260216T193029Z
UID:10009492-1772967600-1772974800@www.luther.edu
SUMMARY:International Women's Day Tea
DESCRIPTION:Celebrate International Women’s Day 2026 with Beta Theta Omega (BTQ)\, Alpha Beta Psi (ABY)\, and Tau Delta Gamma(TDG)! Join our campus sororities to foster connection and sisterhood across campus\, and celebrate 115 years of International Women’s Day. Sponsored by BTQ\, ABY\, TDG\, and CIES. 
URL:https://www.luther.edu/event/international-womens-day-tea-2
LOCATION:Dahl Centennial Union\, Peace Dining Room
CATEGORIES:Current Students,Faculty and Staff,Student Orgs
ORGANIZER;CN="Center for Intercultural Engagement and Support":MAILTO:diversity@luther.edu
END:VEVENT
BEGIN:VEVENT
DTSTART;TZID=America/Chicago:20260308T173000
DTEND;TZID=America/Chicago:20260308T183000
DTSTAMP:20260420T111511
CREATED:20260126T211546Z
LAST-MODIFIED:20260126T211636Z
UID:10009386-1772991000-1772994600@www.luther.edu
SUMMARY:J-term 2027 Off-Campus Courses ANNOUNCED
DESCRIPTION:Center for Global Learning Director\, Victoria Christman\, will briefly review all of the J-Term 2027 offerings and talk about the application process. The information brochure highlighting all of the programs will also be distributed.
URL:https://www.luther.edu/event/j-term-2027-off-campus-courses-announced
LOCATION:Valders Hall of Science\, 206
CATEGORIES:CGL,Current Students,Faculty and Staff
ORGANIZER;CN="Center for Global Learning":MAILTO:global@luther.edu
END:VEVENT
END:VCALENDAR