BEGIN:VCALENDAR
VERSION:2.0
PRODID:-//Luther College - ECPv6.15.18//NONSGML v1.0//EN
CALSCALE:GREGORIAN
METHOD:PUBLISH
X-ORIGINAL-URL:https://www.luther.edu
X-WR-CALDESC:Events for Luther College
REFRESH-INTERVAL;VALUE=DURATION:PT1H
X-Robots-Tag:noindex
X-PUBLISHED-TTL:PT1H
BEGIN:VTIMEZONE
TZID:America/Chicago
BEGIN:DAYLIGHT
TZOFFSETFROM:-0600
TZOFFSETTO:-0500
TZNAME:CDT
DTSTART:20250309T080000
END:DAYLIGHT
BEGIN:STANDARD
TZOFFSETFROM:-0500
TZOFFSETTO:-0600
TZNAME:CST
DTSTART:20251102T070000
END:STANDARD
BEGIN:DAYLIGHT
TZOFFSETFROM:-0600
TZOFFSETTO:-0500
TZNAME:CDT
DTSTART:20260308T080000
END:DAYLIGHT
BEGIN:STANDARD
TZOFFSETFROM:-0500
TZOFFSETTO:-0600
TZNAME:CST
DTSTART:20261101T070000
END:STANDARD
BEGIN:DAYLIGHT
TZOFFSETFROM:-0600
TZOFFSETTO:-0500
TZNAME:CDT
DTSTART:20270314T080000
END:DAYLIGHT
BEGIN:STANDARD
TZOFFSETFROM:-0500
TZOFFSETTO:-0600
TZNAME:CST
DTSTART:20271107T070000
END:STANDARD
END:VTIMEZONE
BEGIN:VEVENT
DTSTART;VALUE=DATE:20260408
DTEND;VALUE=DATE:20260420
DTSTAMP:20260421T233504
CREATED:20260402T164923Z
LAST-MODIFIED:20260402T182550Z
UID:10009641-1775606400-1776643199@www.luther.edu
SUMMARY:Regents Gym Court Online Auction
DESCRIPTION:The auction is through Sweeney Auction Service. \nAccess the online auction
URL:https://www.luther.edu/event/regents-gym-court-online-auction
CATEGORIES:Current Students,Faculty and Staff,Local
ORGANIZER;CN="Book Shop":MAILTO:bookshop@luther.edu
END:VEVENT
BEGIN:VEVENT
DTSTART;TZID=America/Chicago:20260413T123000
DTEND;TZID=America/Chicago:20260413T163000
DTSTAMP:20260421T233504
CREATED:20260317T140221Z
LAST-MODIFIED:20260317T140303Z
UID:10009564-1776083400-1776097800@www.luther.edu
SUMMARY:Free STI Testing for Students
DESCRIPTION:Stay healthy and get yourself tested! It’s free and no sign-up is required.\n12:30 – 4:30 p.m. in Larsen 120 \nSponsored by Wellness and Winneshiek Public Health
URL:https://www.luther.edu/event/free-sti-testing-for-students-4
LOCATION:Larsen 120
CATEGORIES:Current Students
ORGANIZER;CN="Wellness":MAILTO:wellness@luther.edu
END:VEVENT
END:VCALENDAR