BEGIN:VCALENDAR
VERSION:2.0
PRODID:-//Luther College - ECPv6.15.18//NONSGML v1.0//EN
CALSCALE:GREGORIAN
METHOD:PUBLISH
X-ORIGINAL-URL:https://www.luther.edu
X-WR-CALDESC:Events for Luther College
REFRESH-INTERVAL;VALUE=DURATION:PT1H
X-Robots-Tag:noindex
X-PUBLISHED-TTL:PT1H
BEGIN:VTIMEZONE
TZID:America/Chicago
BEGIN:DAYLIGHT
TZOFFSETFROM:-0600
TZOFFSETTO:-0500
TZNAME:CDT
DTSTART:20240310T080000
END:DAYLIGHT
BEGIN:STANDARD
TZOFFSETFROM:-0500
TZOFFSETTO:-0600
TZNAME:CST
DTSTART:20241103T070000
END:STANDARD
BEGIN:DAYLIGHT
TZOFFSETFROM:-0600
TZOFFSETTO:-0500
TZNAME:CDT
DTSTART:20250309T080000
END:DAYLIGHT
BEGIN:STANDARD
TZOFFSETFROM:-0500
TZOFFSETTO:-0600
TZNAME:CST
DTSTART:20251102T070000
END:STANDARD
BEGIN:DAYLIGHT
TZOFFSETFROM:-0600
TZOFFSETTO:-0500
TZNAME:CDT
DTSTART:20260308T080000
END:DAYLIGHT
BEGIN:STANDARD
TZOFFSETFROM:-0500
TZOFFSETTO:-0600
TZNAME:CST
DTSTART:20261101T070000
END:STANDARD
BEGIN:DAYLIGHT
TZOFFSETFROM:-0600
TZOFFSETTO:-0500
TZNAME:CDT
DTSTART:20270314T080000
END:DAYLIGHT
BEGIN:STANDARD
TZOFFSETFROM:-0500
TZOFFSETTO:-0600
TZNAME:CST
DTSTART:20271107T070000
END:STANDARD
END:VTIMEZONE
BEGIN:VEVENT
DTSTART;TZID=America/Chicago:20260409T190000
DTEND;TZID=America/Chicago:20260409T193000
DTSTAMP:20260424T004036
CREATED:20251201T163934Z
LAST-MODIFIED:20251201T163934Z
UID:10009241-1775761200-1775763000@www.luther.edu
SUMMARY:Hungry for an A
DESCRIPTION:Students will use this time to learn some tips on studying and note taking\, with support from Center for Academic Enrichment (CAE) tutors\, to help enhance study strategies. \n  \n 
URL:https://www.luther.edu/event/hungry-for-an-a-6
LOCATION:Preus Library\, Hovde Room
CATEGORIES:CAE,Current Students
ORGANIZER;CN="Center for Academic Enrichment":MAILTO:cae@luther.edu
END:VEVENT
BEGIN:VEVENT
DTSTART;TZID=America/Chicago:20260408T171500
DTEND;TZID=America/Chicago:20260408T174500
DTSTAMP:20260424T004036
CREATED:20251201T163902Z
LAST-MODIFIED:20251201T163902Z
UID:10009240-1775668500-1775670300@www.luther.edu
SUMMARY:Hungry for an A
DESCRIPTION:Students will use this time to learn some tips on studying and note taking\, with support from Center for Academic Enrichment (CAE) tutors\, to help enhance study strategies. \n  \n 
URL:https://www.luther.edu/event/hungry-for-an-a-5
LOCATION:Preus Library\, Hovde Room
CATEGORIES:CAE,Current Students
ORGANIZER;CN="Center for Academic Enrichment":MAILTO:cae@luther.edu
END:VEVENT
BEGIN:VEVENT
DTSTART;TZID=America/Chicago:20260402T100000
DTEND;TZID=America/Chicago:20260402T110000
DTSTAMP:20260424T004036
CREATED:20250903T162005Z
LAST-MODIFIED:20260120T201719Z
UID:10006516-1775124000-1775127600@www.luther.edu
SUMMARY:Doggy Date with Quasar - Session 3
DESCRIPTION:Students will learn the importance of animal therapy and be able to spend time and engage with a licensed therapy dog: Quasar. In addition\, they will feel the stress melt away.
URL:https://www.luther.edu/event/doggy-date-with-quasar-4
LOCATION:Preus Library\, 1st floor\, outside the Center for Academic Enrichment
CATEGORIES:CAE,Current Students
ORGANIZER;CN="Center for Academic Enrichment":MAILTO:cae@luther.edu
END:VEVENT
BEGIN:VEVENT
DTSTART;TZID=America/Chicago:20260305T190000
DTEND;TZID=America/Chicago:20260305T193000
DTSTAMP:20260424T004036
CREATED:20251201T163752Z
LAST-MODIFIED:20251201T163752Z
UID:10009239-1772737200-1772739000@www.luther.edu
SUMMARY:Note Taking Techniques
DESCRIPTION:Students will learn different ways of taking notes to incorporate into their current academic routine.
URL:https://www.luther.edu/event/note-taking-techniques-6
LOCATION:Preus Library\, Hovde Room
CATEGORIES:CAE,Current Students
ORGANIZER;CN="Center for Academic Enrichment":MAILTO:cae@luther.edu
END:VEVENT
BEGIN:VEVENT
DTSTART;TZID=America/Chicago:20260304T171500
DTEND;TZID=America/Chicago:20260304T174500
DTSTAMP:20260424T004036
CREATED:20251201T163734Z
LAST-MODIFIED:20251201T163734Z
UID:10009238-1772644500-1772646300@www.luther.edu
SUMMARY:Note Taking Techniques
DESCRIPTION:Students will learn different ways of taking notes to incorporate into their current academic routine.
URL:https://www.luther.edu/event/note-taking-techniques-5
LOCATION:Preus Library\, Hovde Room
CATEGORIES:CAE,Current Students
ORGANIZER;CN="Center for Academic Enrichment":MAILTO:cae@luther.edu
END:VEVENT
BEGIN:VEVENT
DTSTART;TZID=America/Chicago:20260304T100000
DTEND;TZID=America/Chicago:20260304T110000
DTSTAMP:20260424T004036
CREATED:20250903T161917Z
LAST-MODIFIED:20260120T201544Z
UID:10006515-1772618400-1772622000@www.luther.edu
SUMMARY:Doggy Date with Quasar - Session 2
DESCRIPTION:Students will learn the importance of animal therapy and be able to spend time and engage with a licensed therapy dog: Quasar. In addition\, they will feel the stress melt away.
URL:https://www.luther.edu/event/doggy-date-with-quasar-3
LOCATION:Preus Library\, 1st floor\, outside the Center for Academic Enrichment
CATEGORIES:CAE,Current Students
ORGANIZER;CN="Center for Academic Enrichment":MAILTO:cae@luther.edu
END:VEVENT
BEGIN:VEVENT
DTSTART;TZID=America/Chicago:20260212T190000
DTEND;TZID=America/Chicago:20260212T193000
DTSTAMP:20260424T004036
CREATED:20251201T163629Z
LAST-MODIFIED:20251201T163629Z
UID:10009237-1770922800-1770924600@www.luther.edu
SUMMARY:Managing Time Management
DESCRIPTION:Students will learn about apps to eliminate digital distractions to manage their time effectively. In addition\, students will learn how to create a time management plan to solidify their schedule and ensure a routine.
URL:https://www.luther.edu/event/managing-time-management-6
LOCATION:Preus Library\, Hovde Room
CATEGORIES:CAE,Current Students
ORGANIZER;CN="Center for Academic Enrichment":MAILTO:cae@luther.edu
END:VEVENT
BEGIN:VEVENT
DTSTART;TZID=America/Chicago:20260211T171500
DTEND;TZID=America/Chicago:20260211T174500
DTSTAMP:20260424T004036
CREATED:20251201T163600Z
LAST-MODIFIED:20251201T163600Z
UID:10009236-1770830100-1770831900@www.luther.edu
SUMMARY:Managing Time Management
DESCRIPTION:Students will learn about apps to eliminate digital distractions to manage their time effectively. In addition\, students will learn how to create a time management plan to solidify their schedule and ensure a routine.
URL:https://www.luther.edu/event/managing-time-management
LOCATION:Preus Library\, Hovde Room
CATEGORIES:CAE,Current Students
ORGANIZER;CN="Center for Academic Enrichment":MAILTO:cae@luther.edu
END:VEVENT
BEGIN:VEVENT
DTSTART;TZID=America/Chicago:20260211T100000
DTEND;TZID=America/Chicago:20260211T110000
DTSTAMP:20260424T004036
CREATED:20250123T151221Z
LAST-MODIFIED:20260120T201159Z
UID:10004692-1770804000-1770807600@www.luther.edu
SUMMARY:Doggy Date with Quasar - Session 1
DESCRIPTION:Students will learn the importance of animal therapy and be able to spend time and engage with a licensed therapy dog: Quasar. In addition\, they will feel the stress melt away.
URL:https://www.luther.edu/event/doggy-date-with-quasar
LOCATION:Preus Library\, CAE Tutoring Area
CATEGORIES:CAE,Current Students
ORGANIZER;CN="Center for Academic Enrichment":MAILTO:cae@luther.edu
END:VEVENT
BEGIN:VEVENT
DTSTART;TZID=America/Chicago:20251211T100000
DTEND;TZID=America/Chicago:20251211T110000
DTSTAMP:20260424T004036
CREATED:20250903T162110Z
LAST-MODIFIED:20250903T162154Z
UID:10006518-1765447200-1765450800@www.luther.edu
SUMMARY:Doggy Date with Quasar
DESCRIPTION:Come spend some time with Luther’s resident therapy dog: Quasar!
URL:https://www.luther.edu/event/doggy-date-with-quasar-6
LOCATION:Preus Library\, 1st floor\, outside the Center for Academic Enrichment
CATEGORIES:CAE,Current Students
ORGANIZER;CN="Center for Academic Enrichment":MAILTO:cae@luther.edu
END:VEVENT
BEGIN:VEVENT
DTSTART;TZID=America/Chicago:20251204T171500
DTEND;TZID=America/Chicago:20251204T174500
DTSTAMP:20260424T004036
CREATED:20250714T155605Z
LAST-MODIFIED:20250714T155605Z
UID:10006404-1764868500-1764870300@www.luther.edu
SUMMARY:Test Anxiety
DESCRIPTION:Students will learn tips and techniques on how to mitigate both mental and physical stress around taking an exam. \n  \n 
URL:https://www.luther.edu/event/test-anxiety-5
LOCATION:Preus Library\, Hovde Room
CATEGORIES:CAE,Current Students
ORGANIZER;CN="Center for Academic Enrichment":MAILTO:cae@luther.edu
END:VEVENT
BEGIN:VEVENT
DTSTART;TZID=America/Chicago:20251203T190000
DTEND;TZID=America/Chicago:20251203T193000
DTSTAMP:20260424T004036
CREATED:20250714T155426Z
LAST-MODIFIED:20250714T155426Z
UID:10006403-1764788400-1764790200@www.luther.edu
SUMMARY:Test Anxiety
DESCRIPTION:Students will learn tips and techniques on how to mitigate both mental and physical stress around taking an exam. \n  \n 
URL:https://www.luther.edu/event/test-anxiety-4
LOCATION:Preus Library\, Hovde Room
CATEGORIES:CAE,Current Students
ORGANIZER;CN="Center for Academic Enrichment":MAILTO:cae@luther.edu
END:VEVENT
BEGIN:VEVENT
DTSTART;TZID=America/Chicago:20251106T171500
DTEND;TZID=America/Chicago:20251106T174500
DTSTAMP:20260424T004036
CREATED:20250714T154714Z
LAST-MODIFIED:20250714T154714Z
UID:10006402-1762449300-1762451100@www.luther.edu
SUMMARY:Hungry for an A
DESCRIPTION:Students will use this time to learn some tips on studying and note taking\, with support from Center for Academic Enrichment (CAE) tutors\, to help enhance study strategies. \n  \n 
URL:https://www.luther.edu/event/hungry-for-an-a-2
LOCATION:Preus Library\, Hovde Room
CATEGORIES:CAE,Current Students
ORGANIZER;CN="Center for Academic Enrichment":MAILTO:cae@luther.edu
END:VEVENT
BEGIN:VEVENT
DTSTART;TZID=America/Chicago:20251105T190000
DTEND;TZID=America/Chicago:20251105T193000
DTSTAMP:20260424T004036
CREATED:20250714T154532Z
LAST-MODIFIED:20250714T154532Z
UID:10006401-1762369200-1762371000@www.luther.edu
SUMMARY:Hungry for an A
DESCRIPTION:Students will use this time to learn some tips on studying and note taking\, with support from Center for Academic Enrichment (CAE) tutors\, to help enhance study strategies. \n  \n 
URL:https://www.luther.edu/event/hungry-for-an-a
LOCATION:Preus Library\, Hovde Room
CATEGORIES:CAE,Current Students
ORGANIZER;CN="Center for Academic Enrichment":MAILTO:cae@luther.edu
END:VEVENT
BEGIN:VEVENT
DTSTART;TZID=America/Chicago:20251009T171500
DTEND;TZID=America/Chicago:20251009T174500
DTSTAMP:20260424T004036
CREATED:20250714T153951Z
LAST-MODIFIED:20250714T153951Z
UID:10006400-1760030100-1760031900@www.luther.edu
SUMMARY:Note Taking Techniques
DESCRIPTION:Students will learn different ways of taking notes to incorporate into their current academic routine.
URL:https://www.luther.edu/event/note-taking-techniques-4
LOCATION:Preus Library\, Hovde Room
CATEGORIES:CAE,Current Students
ORGANIZER;CN="Center for Academic Enrichment":MAILTO:cae@luther.edu
END:VEVENT
BEGIN:VEVENT
DTSTART;TZID=America/Chicago:20251008T190000
DTEND;TZID=America/Chicago:20251008T193000
DTSTAMP:20260424T004036
CREATED:20250714T153810Z
LAST-MODIFIED:20250714T153810Z
UID:10006399-1759950000-1759951800@www.luther.edu
SUMMARY:Note Taking Techniques
DESCRIPTION:Students will learn different ways of taking notes to incorporate into their current academic routine.
URL:https://www.luther.edu/event/note-taking-techniques-3
LOCATION:Preus Library\, Hovde Room
CATEGORIES:CAE,Current Students
ORGANIZER;CN="Center for Academic Enrichment":MAILTO:cae@luther.edu
END:VEVENT
BEGIN:VEVENT
DTSTART;TZID=America/Chicago:20250911T171500
DTEND;TZID=America/Chicago:20250911T174500
DTSTAMP:20260424T004036
CREATED:20250714T153606Z
LAST-MODIFIED:20250714T153606Z
UID:10006398-1757610900-1757612700@www.luther.edu
SUMMARY:Managing Time Management
DESCRIPTION:Students will learn about apps to eliminate digital distractions to manage their time effectively. In addition\, students will learn how to create a time management plan to solidify their schedule and ensure a routine.
URL:https://www.luther.edu/event/managing-time-management-5
LOCATION:Preus Library\, Hovde Room
CATEGORIES:CAE,Current Students
ORGANIZER;CN="Center for Academic Enrichment":MAILTO:cae@luther.edu
END:VEVENT
BEGIN:VEVENT
DTSTART;TZID=America/Chicago:20250910T190000
DTEND;TZID=America/Chicago:20250910T193000
DTSTAMP:20260424T004036
CREATED:20250714T153519Z
LAST-MODIFIED:20250714T153519Z
UID:10006397-1757530800-1757532600@www.luther.edu
SUMMARY:Managing Time Management
DESCRIPTION:Students will learn about apps to eliminate digital distractions to manage their time effectively. In addition\, students will learn how to create a time management plan to solidify their schedule and ensure a routine.
URL:https://www.luther.edu/event/managing-time-management-4
LOCATION:Preus Library\, Hovde Room
CATEGORIES:CAE,Current Students
ORGANIZER;CN="Center for Academic Enrichment":MAILTO:cae@luther.edu
END:VEVENT
BEGIN:VEVENT
DTSTART;TZID=America/Chicago:20250518T180000
DTEND;TZID=America/Chicago:20250518T210000
DTSTAMP:20260424T004036
CREATED:20241212T171706Z
LAST-MODIFIED:20250512T181420Z
UID:10004589-1747591200-1747602000@www.luther.edu
SUMMARY:OSS Finals Pancake Night
DESCRIPTION:Take a break from studying for your finals! Come unwind and eat some freshly made pancakes. Brought to you by the Office of Student Success. \n  \n 
URL:https://www.luther.edu/event/oss-finals-pancake-night-2
LOCATION:Preus Library\, Hovde Room
CATEGORIES:CAE,Current Students
ORGANIZER;CN="Office of Student Success":MAILTO:trio@luther.edu
END:VEVENT
BEGIN:VEVENT
DTSTART;TZID=America/Chicago:20250507T190000
DTEND;TZID=America/Chicago:20250507T193000
DTSTAMP:20260424T004036
CREATED:20241211T213120Z
LAST-MODIFIED:20250505T183114Z
UID:10004586-1746644400-1746646200@www.luther.edu
SUMMARY:CANCELLED Test Anxiety
DESCRIPTION:This event has been cancelled \nStudents will learn tips and techniques on how to mitigate stress around taking an exam from mental to physical.
URL:https://www.luther.edu/event/test-anxiety-3
LOCATION:Preus Library\, Hovde Room
CATEGORIES:CAE,Current Students
ORGANIZER;CN="Center for Academic Enrichment":MAILTO:cae@luther.edu
END:VEVENT
BEGIN:VEVENT
DTSTART;TZID=America/Chicago:20250506T171500
DTEND;TZID=America/Chicago:20250506T174500
DTSTAMP:20260424T004036
CREATED:20241211T213051Z
LAST-MODIFIED:20241211T213051Z
UID:10004585-1746551700-1746553500@www.luther.edu
SUMMARY:Test Anxiety
DESCRIPTION:Students will learn tips and techniques on how to mitigate stress around taking an exam from mental to physical. \n  \n 
URL:https://www.luther.edu/event/test-anxiety-2
LOCATION:Preus Library\, Hovde Room
CATEGORIES:CAE,Current Students
ORGANIZER;CN="Center for Academic Enrichment":MAILTO:cae@luther.edu
END:VEVENT
BEGIN:VEVENT
DTSTART;TZID=America/Chicago:20250506T094500
DTEND;TZID=America/Chicago:20250506T103000
DTSTAMP:20260424T004036
CREATED:20241212T171409Z
LAST-MODIFIED:20241212T171409Z
UID:10004588-1746524700-1746527400@www.luther.edu
SUMMARY:Stress vs. Anxiety
DESCRIPTION:Partnering with Counseling Service\, students will learn about the differences of stress and anxiety and how they can affect one mentally\, emotionally\, and physically. In addition\, students will learn different techniques to mitigate stress and will have the opportunity to practice.
URL:https://www.luther.edu/event/stress-vs-anxiety-3
LOCATION:Center for the Arts\, 219 (CFA Studio 2)
CATEGORIES:CAE,Current Students
ORGANIZER;CN="Center for Academic Enrichment":MAILTO:cae@luther.edu
END:VEVENT
BEGIN:VEVENT
DTSTART;TZID=America/Chicago:20250429T190000
DTEND;TZID=America/Chicago:20250429T200000
DTSTAMP:20260424T004036
CREATED:20250312T160850Z
LAST-MODIFIED:20250423T181650Z
UID:10004811-1745953200-1745956800@www.luther.edu
SUMMARY:CAE Peer Coach Study Table
DESCRIPTION:Looking for study buddies? Need to hold yourself accountable to get work completed and have someone to help if you get stuck? Join the Center for Academic Enrichment’s Peer Coaches for some captured time specifically to do course work. \nPreus Library\, 1st floor\,  tutoring area outside the CAE
URL:https://www.luther.edu/event/cae-peer-coach-study-table-4
LOCATION:Preus Library\, CAE Tutoring Area
CATEGORIES:CAE,Current Students
ORGANIZER;CN="Center for Academic Enrichment":MAILTO:cae@luther.edu
END:VEVENT
END:VCALENDAR