BEGIN:VCALENDAR
VERSION:2.0
PRODID:-//Luther College - ECPv6.15.18//NONSGML v1.0//EN
CALSCALE:GREGORIAN
METHOD:PUBLISH
X-WR-CALNAME:Luther College
X-ORIGINAL-URL:https://www.luther.edu
X-WR-CALDESC:Events for Luther College
REFRESH-INTERVAL;VALUE=DURATION:PT1H
X-Robots-Tag:noindex
X-PUBLISHED-TTL:PT1H
BEGIN:VTIMEZONE
TZID:America/Chicago
BEGIN:DAYLIGHT
TZOFFSETFROM:-0600
TZOFFSETTO:-0500
TZNAME:CDT
DTSTART:20250309T080000
END:DAYLIGHT
BEGIN:STANDARD
TZOFFSETFROM:-0500
TZOFFSETTO:-0600
TZNAME:CST
DTSTART:20251102T070000
END:STANDARD
BEGIN:DAYLIGHT
TZOFFSETFROM:-0600
TZOFFSETTO:-0500
TZNAME:CDT
DTSTART:20260308T080000
END:DAYLIGHT
BEGIN:STANDARD
TZOFFSETFROM:-0500
TZOFFSETTO:-0600
TZNAME:CST
DTSTART:20261101T070000
END:STANDARD
BEGIN:DAYLIGHT
TZOFFSETFROM:-0600
TZOFFSETTO:-0500
TZNAME:CDT
DTSTART:20270314T080000
END:DAYLIGHT
BEGIN:STANDARD
TZOFFSETFROM:-0500
TZOFFSETTO:-0600
TZNAME:CST
DTSTART:20271107T070000
END:STANDARD
END:VTIMEZONE
BEGIN:VEVENT
DTSTART;TZID=America/Chicago:20260505T094500
DTEND;TZID=America/Chicago:20260505T104500
DTSTAMP:20260424T090859
CREATED:20251205T211100Z
LAST-MODIFIED:20251205T211100Z
UID:10009251-1777974300-1777977900@www.luther.edu
SUMMARY:Stress vs. Anxiety
DESCRIPTION:Partnering with Counseling Service\, students will learn about the differences of stress and anxiety and how they can affect one mentally\, emotionally\, and physically. In addition\, students will learn different techniques to mitigate stress and will have the opportunity to practice.
URL:https://www.luther.edu/event/stress-vs-anxiety
LOCATION:Center for the Arts\, 219 (CFA Studio 2)
CATEGORIES:CAE,Current Students
ORGANIZER;CN="Center for Academic Enrichment":MAILTO:cae@luther.edu
END:VEVENT
END:VCALENDAR