BEGIN:VCALENDAR
VERSION:2.0
PRODID:-//Luther College - ECPv6.15.18//NONSGML v1.0//EN
CALSCALE:GREGORIAN
METHOD:PUBLISH
X-ORIGINAL-URL:https://www.luther.edu
X-WR-CALDESC:Events for Luther College
REFRESH-INTERVAL;VALUE=DURATION:PT1H
X-Robots-Tag:noindex
X-PUBLISHED-TTL:PT1H
BEGIN:VTIMEZONE
TZID:America/Chicago
BEGIN:DAYLIGHT
TZOFFSETFROM:-0600
TZOFFSETTO:-0500
TZNAME:CDT
DTSTART:20250309T080000
END:DAYLIGHT
BEGIN:STANDARD
TZOFFSETFROM:-0500
TZOFFSETTO:-0600
TZNAME:CST
DTSTART:20251102T070000
END:STANDARD
BEGIN:DAYLIGHT
TZOFFSETFROM:-0600
TZOFFSETTO:-0500
TZNAME:CDT
DTSTART:20260308T080000
END:DAYLIGHT
BEGIN:STANDARD
TZOFFSETFROM:-0500
TZOFFSETTO:-0600
TZNAME:CST
DTSTART:20261101T070000
END:STANDARD
BEGIN:DAYLIGHT
TZOFFSETFROM:-0600
TZOFFSETTO:-0500
TZNAME:CDT
DTSTART:20270314T080000
END:DAYLIGHT
BEGIN:STANDARD
TZOFFSETFROM:-0500
TZOFFSETTO:-0600
TZNAME:CST
DTSTART:20271107T070000
END:STANDARD
END:VTIMEZONE
BEGIN:VEVENT
DTSTART;TZID=America/Chicago:20260502T080000
DTEND;TZID=America/Chicago:20260502T170000
DTSTAMP:20260423T152903
CREATED:20251017T134320Z
LAST-MODIFIED:20251017T134320Z
UID:10007800-1777708800-1777741200@www.luther.edu
SUMMARY:Iowa Musicology Day
DESCRIPTION:Iowa Musicology Day
URL:https://www.luther.edu/event/iowa-musicology-day
LOCATION:Jenson-Noble Hall of Music\, Noble Recital Hall
CATEGORIES:Music
END:VEVENT
BEGIN:VEVENT
DTSTART;TZID=America/Chicago:20260502T100000
DTEND;TZID=America/Chicago:20260502T233000
DTSTAMP:20260423T152903
CREATED:20260410T140026Z
LAST-MODIFIED:20260410T140134Z
UID:10010112-1777716000-1777764600@www.luther.edu
SUMMARY:Decoride
DESCRIPTION:Decoride is an annual bike ride fundraiser supported by the Luther College Bike Council to help raise money for community groups in Decorah. The ride tours Decorah’s iconic Trout Run trail\, starting at the Luther Bell and ending at Pulpit Rock Brewing for a celebration with live music and a raffle draw. This year’s ride will occur on May 2\, with funds raised going towards the Decorah Free Clinic\, and the Iowa Food Hub. These groups provide community services through healthcare and local food support to all members of Decorah and the surrounding populations. \nlearn more and register
URL:https://www.luther.edu/event/decoride
LOCATION:Meet at the Luther Bell
CATEGORIES:Current Students,Faculty and Staff,Local
END:VEVENT
BEGIN:VEVENT
DTSTART;TZID=America/Chicago:20260502T120000
DTEND;TZID=America/Chicago:20260502T133000
DTSTAMP:20260423T152903
CREATED:20250605T142509Z
LAST-MODIFIED:20250605T142509Z
UID:10006270-1777723200-1777728600@www.luther.edu
SUMMARY:Philharmonia and Cello Choir Concert
DESCRIPTION:Luther College’s Philharmonia and Cello Choir will perform a concert in the Noble Recital Hall at 12 p.m. \nWatch the livestream on the Music Department YouTube Channel
URL:https://www.luther.edu/event/philharmonia-and-cello-choir-concert
LOCATION:Jenson-Noble Hall of Music\, Noble Recital Hall
CATEGORIES:Local,Music
ORGANIZER;CN="Department of Music":MAILTO:musicdeptinfo@luther.edu
END:VEVENT
BEGIN:VEVENT
DTSTART;TZID=America/Chicago:20260502T140000
DTEND;TZID=America/Chicago:20260502T153000
DTSTAMP:20260423T152903
CREATED:20250605T142314Z
LAST-MODIFIED:20260415T133347Z
UID:10006269-1777730400-1777735800@www.luther.edu
SUMMARY:CANCELLED Composition Studio Recital
DESCRIPTION:This event has been cancelled. \nThe Luther College Composition Studio will perform a recital in the Noble Recital Hall at 2 p.m. \nWatch the livestream on the Music Department YouTube Channel
URL:https://www.luther.edu/event/composition-studio-recital-5
LOCATION:Jenson-Noble Hall of Music\, Noble Recital Hall
CATEGORIES:Music
ORGANIZER;CN="Department of Music":MAILTO:musicdeptinfo@luther.edu
END:VEVENT
END:VCALENDAR