BEGIN:VCALENDAR
VERSION:2.0
PRODID:-//Luther College - ECPv6.15.18//NONSGML v1.0//EN
CALSCALE:GREGORIAN
METHOD:PUBLISH
X-WR-CALNAME:Luther College
X-ORIGINAL-URL:https://www.luther.edu
X-WR-CALDESC:Events for Luther College
REFRESH-INTERVAL;VALUE=DURATION:PT1H
X-Robots-Tag:noindex
X-PUBLISHED-TTL:PT1H
BEGIN:VTIMEZONE
TZID:America/Chicago
BEGIN:DAYLIGHT
TZOFFSETFROM:-0600
TZOFFSETTO:-0500
TZNAME:CDT
DTSTART:20250309T080000
END:DAYLIGHT
BEGIN:STANDARD
TZOFFSETFROM:-0500
TZOFFSETTO:-0600
TZNAME:CST
DTSTART:20251102T070000
END:STANDARD
BEGIN:DAYLIGHT
TZOFFSETFROM:-0600
TZOFFSETTO:-0500
TZNAME:CDT
DTSTART:20260308T080000
END:DAYLIGHT
BEGIN:STANDARD
TZOFFSETFROM:-0500
TZOFFSETTO:-0600
TZNAME:CST
DTSTART:20261101T070000
END:STANDARD
BEGIN:DAYLIGHT
TZOFFSETFROM:-0600
TZOFFSETTO:-0500
TZNAME:CDT
DTSTART:20270314T080000
END:DAYLIGHT
BEGIN:STANDARD
TZOFFSETFROM:-0500
TZOFFSETTO:-0600
TZNAME:CST
DTSTART:20271107T070000
END:STANDARD
END:VTIMEZONE
BEGIN:VEVENT
DTSTART;TZID=America/Chicago:20260424T073000
DTEND;TZID=America/Chicago:20260424T173000
DTSTAMP:20260424T075244
CREATED:20260310T184306Z
LAST-MODIFIED:20260310T184605Z
UID:10009546-1777015800-1777051800@www.luther.edu
SUMMARY:Library Book Sale -- National Library Week
DESCRIPTION:Preus Library will celebrate National Library Week with a used book sale held April 19 – 25\, at all hours that the library is open: see Preus Library hours. Fiction\, non-fiction\, hardcovers and paperbacks. DVDs\, sheet music\, and more. Prices decline daily.
URL:https://www.luther.edu/event/library-book-sale-national-library-week-3
LOCATION:Preus Library
CATEGORIES:Current Students,Faculty and Staff,Local
END:VEVENT
BEGIN:VEVENT
DTSTART;TZID=America/Chicago:20260424T180000
DTEND;TZID=America/Chicago:20260424T220000
DTSTAMP:20260424T075244
CREATED:20260303T203834Z
LAST-MODIFIED:20260416T192731Z
UID:10009528-1777053600-1777068000@www.luther.edu
SUMMARY:KWLC Block Party
DESCRIPTION:Celebrate Luther College’s historic radio station\, KWLC\, turning 100 years old! Join us in Bentdahl Commons for live music from Stonewalker and Grandma’s Banjo while enjoying Sugar Bowl ice cream and lawn games while you jam out with your friends! Chat with one of our KWLC DJs to learn more about KWLC and consider signing up to host your own radio show next semester. (Rain location: Marty’s) \nLearn more about KWLC radio.
URL:https://www.luther.edu/event/kwlc-block-party
LOCATION:Bentdahl Commons
CATEGORIES:Current Students,Faculty and Staff,Local,Student Orgs
END:VEVENT
END:VCALENDAR