BEGIN:VCALENDAR
VERSION:2.0
PRODID:-//Luther College - ECPv6.15.18//NONSGML v1.0//EN
CALSCALE:GREGORIAN
METHOD:PUBLISH
X-ORIGINAL-URL:https://www.luther.edu
X-WR-CALDESC:Events for Luther College
REFRESH-INTERVAL;VALUE=DURATION:PT1H
X-Robots-Tag:noindex
X-PUBLISHED-TTL:PT1H
BEGIN:VTIMEZONE
TZID:America/Chicago
BEGIN:DAYLIGHT
TZOFFSETFROM:-0600
TZOFFSETTO:-0500
TZNAME:CDT
DTSTART:20250309T080000
END:DAYLIGHT
BEGIN:STANDARD
TZOFFSETFROM:-0500
TZOFFSETTO:-0600
TZNAME:CST
DTSTART:20251102T070000
END:STANDARD
BEGIN:DAYLIGHT
TZOFFSETFROM:-0600
TZOFFSETTO:-0500
TZNAME:CDT
DTSTART:20260308T080000
END:DAYLIGHT
BEGIN:STANDARD
TZOFFSETFROM:-0500
TZOFFSETTO:-0600
TZNAME:CST
DTSTART:20261101T070000
END:STANDARD
BEGIN:DAYLIGHT
TZOFFSETFROM:-0600
TZOFFSETTO:-0500
TZNAME:CDT
DTSTART:20270314T080000
END:DAYLIGHT
BEGIN:STANDARD
TZOFFSETFROM:-0500
TZOFFSETTO:-0600
TZNAME:CST
DTSTART:20271107T070000
END:STANDARD
END:VTIMEZONE
BEGIN:VEVENT
DTSTART;TZID=America/Chicago:20260408T103000
DTEND;TZID=America/Chicago:20260408T105000
DTSTAMP:20260422T105331
CREATED:20260210T154555Z
LAST-MODIFIED:20260210T154607Z
UID:10009331-1775644200-1775645400@www.luther.edu
SUMMARY:Chapel
DESCRIPTION:The whole Luther community is invited to join us for chapel break\, in-person or online\, regardless of faith tradition or background. Connect to our livestream or come in person! This time is intentionally set aside for you to pause and connect — we hope to see you! \nSpeaker: President Brad Chamberlain \nMusic: Nordic Choir \nFor more on College Ministries \nStream Chapel and Other College Ministries Events
URL:https://www.luther.edu/event/chapel-17-19
LOCATION:Center for Faith and Life\, Main Hall
CATEGORIES:College Ministries
ORGANIZER;CN="College Ministries":MAILTO:ministry@luther.edu
END:VEVENT
END:VCALENDAR