BEGIN:VCALENDAR
VERSION:2.0
PRODID:-//Luther College - ECPv6.15.18//NONSGML v1.0//EN
CALSCALE:GREGORIAN
METHOD:PUBLISH
X-WR-CALNAME:Luther College
X-ORIGINAL-URL:https://www.luther.edu
X-WR-CALDESC:Events for Luther College
REFRESH-INTERVAL;VALUE=DURATION:PT1H
X-Robots-Tag:noindex
X-PUBLISHED-TTL:PT1H
BEGIN:VTIMEZONE
TZID:America/Chicago
BEGIN:DAYLIGHT
TZOFFSETFROM:-0600
TZOFFSETTO:-0500
TZNAME:CDT
DTSTART:20250309T080000
END:DAYLIGHT
BEGIN:STANDARD
TZOFFSETFROM:-0500
TZOFFSETTO:-0600
TZNAME:CST
DTSTART:20251102T070000
END:STANDARD
BEGIN:DAYLIGHT
TZOFFSETFROM:-0600
TZOFFSETTO:-0500
TZNAME:CDT
DTSTART:20260308T080000
END:DAYLIGHT
BEGIN:STANDARD
TZOFFSETFROM:-0500
TZOFFSETTO:-0600
TZNAME:CST
DTSTART:20261101T070000
END:STANDARD
BEGIN:DAYLIGHT
TZOFFSETFROM:-0600
TZOFFSETTO:-0500
TZNAME:CDT
DTSTART:20270314T080000
END:DAYLIGHT
BEGIN:STANDARD
TZOFFSETFROM:-0500
TZOFFSETTO:-0600
TZNAME:CST
DTSTART:20271107T070000
END:STANDARD
END:VTIMEZONE
BEGIN:VEVENT
DTSTART;TZID=America/Chicago:20260320T103000
DTEND;TZID=America/Chicago:20260320T105000
DTSTAMP:20260422T115802
CREATED:20260210T154938Z
LAST-MODIFIED:20260318T191518Z
UID:10006080-1774002600-1774003800@www.luther.edu
SUMMARY:Chapel
DESCRIPTION:The whole Luther community is invited to join us for chapel break\, in-person or online\, regardless of faith tradition or background. Connect to our livestream or come in person! This time is intentionally set aside for you to pause and connect — we hope to see you! \nSpeaker: Rev. Laura Gentry\, Our Saviour’s Lutheran Church (Lansing) \nMusic: Aurora \nFor more on College Ministries \nStream Chapel and Other College Ministries Events
URL:https://www.luther.edu/event/chapel-18-23
CATEGORIES:College Ministries
ORGANIZER;CN="College Ministries":MAILTO:ministry@luther.edu
END:VEVENT
END:VCALENDAR