BEGIN:VCALENDAR
VERSION:2.0
PRODID:-//Luther College - ECPv6.15.18//NONSGML v1.0//EN
CALSCALE:GREGORIAN
METHOD:PUBLISH
X-WR-CALNAME:Luther College
X-ORIGINAL-URL:https://www.luther.edu
X-WR-CALDESC:Events for Luther College
REFRESH-INTERVAL;VALUE=DURATION:PT1H
X-Robots-Tag:noindex
X-PUBLISHED-TTL:PT1H
BEGIN:VTIMEZONE
TZID:America/Chicago
BEGIN:DAYLIGHT
TZOFFSETFROM:-0600
TZOFFSETTO:-0500
TZNAME:CDT
DTSTART:20250309T080000
END:DAYLIGHT
BEGIN:STANDARD
TZOFFSETFROM:-0500
TZOFFSETTO:-0600
TZNAME:CST
DTSTART:20251102T070000
END:STANDARD
BEGIN:DAYLIGHT
TZOFFSETFROM:-0600
TZOFFSETTO:-0500
TZNAME:CDT
DTSTART:20260308T080000
END:DAYLIGHT
BEGIN:STANDARD
TZOFFSETFROM:-0500
TZOFFSETTO:-0600
TZNAME:CST
DTSTART:20261101T070000
END:STANDARD
BEGIN:DAYLIGHT
TZOFFSETFROM:-0600
TZOFFSETTO:-0500
TZNAME:CDT
DTSTART:20270314T080000
END:DAYLIGHT
BEGIN:STANDARD
TZOFFSETFROM:-0500
TZOFFSETTO:-0600
TZNAME:CST
DTSTART:20271107T070000
END:STANDARD
END:VTIMEZONE
BEGIN:VEVENT
DTSTART;TZID=America/Chicago:20260307T090000
DTEND;TZID=America/Chicago:20260307T150000
DTSTAMP:20260422T103118
CREATED:20260105T145141Z
LAST-MODIFIED:20260105T145244Z
UID:10009347-1772874000-1772895600@www.luther.edu
SUMMARY:Admitted Student Recognition Day
DESCRIPTION:Luther’s admitted student celebration event. \nLuther’s Admitted Student Recognition Days are built for connection. As an admitted student\, you’ll attend your choice of faculty-led sessions to see first-hand what our students experience every day. You’ll also meet amazing future classmates—both current Norse and admitted students like yourself. It’s also a day to celebrate what you’ve already achieved. We’ll recognize and celebrate your accomplishments\, and we’ll give you a vision of what awaits at Luther (and beyond). \nPre-Event Gathering \nArriving the night before? Join Luther faculty\, staff\, and students for a Friday night pre-event gathering. You can sign up to attend when you register for the Admitted Student Recognition Day. \nAuditions \nTalent auditions (music and theatre) are available during these events. \nRegister Here
URL:https://www.luther.edu/event/admitted-student-recognition-day-2
END:VEVENT
BEGIN:VEVENT
DTSTART;TZID=America/Chicago:20260307T120000
DTEND;TZID=America/Chicago:20260307T130000
DTSTAMP:20260422T103118
CREATED:20260306T222810Z
LAST-MODIFIED:20260306T222810Z
UID:10009538-1772884800-1772888400@www.luther.edu
SUMMARY:Liam Edberg senior recital
DESCRIPTION:Liam Edberg senior violin recital in the NRH at 12 p.m. \nWatch the livestream on the Music Department YouTube Channel
URL:https://www.luther.edu/event/liam-edberg-senior-recital
LOCATION:Jenson-Noble Hall of Music\, Noble Recital Hall
CATEGORIES:Music
ORGANIZER;CN="Department of Music":MAILTO:musicdeptinfo@luther.edu
END:VEVENT
BEGIN:VEVENT
DTSTART;TZID=America/Chicago:20260307T120000
DTEND;TZID=America/Chicago:20260307T130000
DTSTAMP:20260422T103118
CREATED:20260307T212720Z
LAST-MODIFIED:20260306T222428Z
UID:10009532-1772884800-1772888400@www.luther.edu
SUMMARY:Liam Edberg Senior violin recital
DESCRIPTION:Liam Edberg senior violin recital on Saturday March 7th at 12 noon in the NRH. \nWatch the livestream on the Music Department YouTube Channel
URL:https://www.luther.edu/event/liam-edberg-senior-violin-recital
LOCATION:Jenson-Noble Hall of Music\, Noble Recital Hall
CATEGORIES:Music
ORGANIZER;CN="Department of Music":MAILTO:musicdeptinfo@luther.edu
END:VEVENT
BEGIN:VEVENT
DTSTART;TZID=America/Chicago:20260307T160000
DTEND;TZID=America/Chicago:20260307T170000
DTSTAMP:20260422T103118
CREATED:20251017T161654Z
LAST-MODIFIED:20260210T203816Z
UID:10007784-1772899200-1772902800@www.luther.edu
SUMMARY:Grace Rosholt senior recital
DESCRIPTION:Grace Rosholt senior violin recital. \nWatch the livestream on the Music Department YouTube Channel
URL:https://www.luther.edu/event/grace-roscholt-senior-recital
LOCATION:Jenson-Noble Hall of Music\, Noble Recital Hall
CATEGORIES:Music
ORGANIZER;CN="Department of Music":MAILTO:musicdeptinfo@luther.edu
END:VEVENT
BEGIN:VEVENT
DTSTART;TZID=America/Chicago:20260307T180000
DTEND;TZID=America/Chicago:20260307T190000
DTSTAMP:20260422T103118
CREATED:20251017T161727Z
LAST-MODIFIED:20260306T223055Z
UID:10007785-1772906400-1772910000@www.luther.edu
SUMMARY:Eva Stadtlander and Linaea Walsh recital
DESCRIPTION:Eva Stadtlander junior voice and Linaea Walsh junior voice recital \nWatch the livestream on the Music Department YouTube Channel
URL:https://www.luther.edu/event/eva-stadtlander-and-lenaea-walsh-recital
LOCATION:Jenson-Noble Hall of Music\, Noble Recital Hall
CATEGORIES:Music
ORGANIZER;CN="Department of Music":MAILTO:musicdeptinfo@luther.edu
END:VEVENT
END:VCALENDAR